Workbook

Sheet invoices
D1: Total
A2: Agency | D2: Assessment | F2: Assessment | H2: Deferred | J2: Invoiced | K2: License | L2: License | M2: License | N2: Invoice
A3: Code | B3: Name | D3: Percentage | F3: Amount | H3: Amount | J3: Amount | K3: Quantity | L3: Fee | M3: Sutbtotal | N3: Amount Due
A5: A101 | B5: Texas Senate | D5: =+assessment!H5 -> 0.00076594102 | F5: =+assessment!J5 -> 45652.429 | H5: =-F5*0.25 -> -11413.107 | J5: =SUM(F5:H5) -> 34239.322 | K5: 1 | L5: 225 | M5: =SUM(K5*L5) -> 225 | N5: =J5+M5 -> 34464.322
A6: A102 | B6: Texas House of Representatives | D6: =+assessment!H6 -> 0.0012125035 | F6: =+assessment!J6 -> 72268.92 | H6: =-F6*0.25 -> -18067.23 | J6: =SUM(F6:H6) -> 54201.69 | K6: 1 | L6: 225 | M6: =SUM(K6*L6) -> 225 | N6: =J6+M6 -> 54426.69
A7: A103 | B7: Legislative Council | D7: =+assessment!H7 -> 0.00062068351 | F7: =+assessment!J7 -> 36994.637 | H7: =-F7*0.25 -> -9248.6593 | J7: =SUM(F7:H7) -> 27745.978 | K7: 1 | L7: 225 | M7: =SUM(K7*L7) -> 225 | N7: =J7+M7 -> 27970.978
A8: A104 | B8: Legislative Budget Board | D8: =+assessment!H8 -> 0.00022977421 | F8: =+assessment!J8 -> 13695.246 | H8: =-F8*0.25 -> -3423.8116 | J8: =SUM(F8:H8) -> 10271.435 | K8: 1 | L8: 225 | M8: =SUM(K8*L8) -> 225 | N8: =J8+M8 -> 10496.435
A9: A105 | B9: Legislative Reference Library | D9: =+assessment!H9 -> 3.0745284e-05 | F9: =+assessment!J9 -> 1832.513 | H9: =-F9*0.25 -> -458.12826 | J9: =SUM(F9:H9) -> 1374.3848 | K9: 0 | L9: 225 | M9: =SUM(K9*L9) -> 0 | N9: =J9+M9 -> 1374.3848
A10: A116 | B10: Sunset Advisory Commission | D10: =+assessment!H10 -> 4.8978773e-05 | F10: =+assessment!J10 -> 2919.2848 | H10: =-F10*0.25 -> -729.82119 | J10: =SUM(F10:H10) -> 2189.4636 | K10: 1 | L10: 225 | M10: =SUM(K10*L10) -> 225 | N10: =J10+M10 -> 2414.4636
A11: A201 | B11: Supreme Court of Texas | D11: =+assessment!H11 -> 0.00014106907 | F11: =+assessment!J11 -> 8408.1485 | H11: =-F11*0.25 -> -2102.0371 | J11: =SUM(F11:H11) -> 6306.1113 | K11: 1 | L11: 225 | M11: =SUM(K11*L11) -> 225 | N11: =J11+M11 -> 6531.1113
A12: A203 | B12: Law Examiners, Board of | D12: =+assessment!H12 -> 3.5865246e-05 | F12: =+assessment!J12 -> 2137.6784 | H12: =-F12*0.25 -> -534.41961 | J12: =SUM(F12:H12) -> 1603.2588 | K12: 0 | L12: 225 | M12: =SUM(K12*L12) -> 0 | N12: =J12+M12 -> 1603.2588
A13: A211 | B13: Court of Criminal Appeals | D13: =+assessment!H13 -> 0.00011660464 | F13: =+assessment!J13 -> 6949.9934 | H13: =-F13*0.25 -> -1737.4983 | J13: =SUM(F13:H13) -> 5212.495 | K13: 1 | L13: 225 | M13: =SUM(K13*L13) -> 225 | N13: =J13+M13 -> 5437.495
A14: A212 | B14: Court Administration, Office of | D14: =+assessment!H14 -> 0.00045664763 | F14: =+assessment!J14 -> 27217.596 | H14: =-F14*0.25 -> -6804.3991 | J14: =SUM(F14:H14) -> 20413.197 | K14: 0 | L14: 225 | M14: =SUM(K14*L14) -> 0 | N14: =J14+M14 -> 20413.197
A15: A213 | B15: Prosecuting Attorney, State | D15: =+assessment!H15 -> 7.018678e-06 | F15: =+assessment!J15 -> 418.33469 | H15: =-F15*0.25 -> -104.58367 | J15: =SUM(F15:H15) -> 313.75102 | K15: 1 | L15: 225 | M15: =SUM(K15*L15) -> 225 | N15: =J15+M15 -> 538.75102
A16: A215 | B16: Office of Capital and Forensic Writs | D16: =+assessment!H16 -> 7.4560469e-05 | F16: =+assessment!J16 -> 4444.0322 | H16: =-F16*0.25 -> -1111.008 | J16: =SUM(F16:H16) -> 3333.0241 | K16: 0 | L16: 225 | M16: =SUM(K16*L16) -> 0 | N16: =J16+M16 -> 3333.0241
... A262: C252 | B262: Young | D262: =+assessment!H262 -> 8.5964686e-06 | F262: =+assessment!J262 -> 512.37584 | H262: =-F262*0.25 -> -128.09396 | J262: =SUM(F262:H262) -> 384.28188 | K262: 0 | L262: 225 | M262: =SUM(K262*L262) -> 0 | N262: =J262+M262 -> 384.28188
B263: CSCDs | D263: =SUM(D21:D22) -> 0.00013378688 | F263: =SUBTOTAL(9,F141:F262) -> 752077 | H263: =SUBTOTAL(9,H141:H262) -> -188019.25 | J263: =SUBTOTAL(9,J141:J262) -> 564057.75 | K263: =SUBTOTAL(9,K141:K262) -> 26 | L263: =SUBTOTAL(9,L141:L262) -> 27450 | M263: =SUBTOTAL(9,M141:M262) -> 5850 | N263: =SUBTOTAL(9,N141:N262) -> 569907.75
D265: =SUBTOTAL(9,D4:D264) -> 1.0001338 | F265: =SUBTOTAL(9,F4:F264) -> 59603061 | H265: =SUBTOTAL(9,H4:H264) -> -14900765 | J265: =SUBTOTAL(9,J4:J264) -> 44702296 | K265: =SUBTOTAL(9,K4:K264) -> 201 | L265: =SUBTOTAL(9,L5:L264) -> 58050 | M265: =SUBTOTAL(9,M5:M264) -> 45225 | N265: =SUBTOTAL(9,N4:N264) -> 44747521
D268: Projected Current FY (2027) Claim Payments | F268: =assessment!J268 -> 45670000 | H268: =+$H$265*(F268/$F$273) -> -11417500 | J268: =SUM(F268:H268) -> 34252500
D269: Previous FY Collected Shortage (Overage) | F269: =assessment!J269 -> -1000000 | H269: =+$H$265*(F269/$F$273) -> 250000 | J269: =SUM(F269:H269) -> -750000
D270: Risk Management and Workers' Comp. Administration | F270: =assessment!J270 -> 15333061 | H270: =+$H$265*(F270/$F$273) -> -3833265.2 | J270: =SUM(F270:H270) -> 11499796
D271: Previous FY Collected Shortage (Overage) | F271: =assessment!J271 -> -400000 | H271: =+$H$265*(F271/$F$273) -> 100000 | J271: =SUM(F271:H271) -> -300000
F273: =SUM(F268:F272) -> 59603061 | H273: =SUM(H268:H272) -> -14900765 | J273: =SUM(J268:J272) -> 44702296

Sheet assessment
F1: Costs | H1: Total | O1: Final | R1: Final
A2: Agency | C2: Payroll * | D2: FTEs | E2: # Claims | F2: (Payouts) | H2: Assessment | J2: Assessment | L2: % of | O2: FY 2026 | R2: FY 2026
A3: Code | B3: Name | C3: 0.125 | D3: 0.125 | E3: 0.15 | F3: 0.6 | H3: Percentage | J3: Amount | L3: Payroll | O3: Assessment | P3: difference | R3: Percentage | S3: difference
A5: A101 | B5: Texas Senate | C5: =+payroll!G5 -> 0.0032187619 | D5: =+IFR!T5 -> 0.0028237434 | E5: =+claims!R5 -> 5.4953478e-05 | F5: =+costs!L5 -> 3.9747269e-06 | H5: =(C5*$C$3)+(D5*$D$3)+(E5*$E$3)+(F5*$F$3) -> 0.00076594102 | J5: =(+H5*$J$273) -> 45652.429 | L5: =+J5/payroll!F5 -> 0.0010769882 | O5: 37598.688 | P5: =+J5-O5 -> 8053.7408 | R5: 0.00071848859 | S5: =+H5-R5 -> 4.7452428e-05
A6: A102 | B6: Texas House of Representatives | C6: =+payroll!G6 -> 0.0034762919 | D6: =+IFR!T6 -> 0.0043786497 | E6: =+claims!R6 -> 0.00032972087 | F6: =+costs!L6 -> 0.00030196278 | H6: =(C6*$C$3)+(D6*$D$3)+(E6*$E$3)+(F6*$F$3) -> 0.0012125035 | J6: =(+H6*$J$273) -> 72268.92 | L6: =+J6/payroll!F6 -> 0.0015785969 | O6: 49029.555 | P6: =+J6-O6 -> 23239.366 | R6: 0.00093692565 | S6: =+H6-R6 -> 0.00027557785
A7: A103 | B7: Legislative Council | C7: =+payroll!G7 -> 0.0027096193 | D7: =+IFR!T7 -> 0.0021421349 | E7: =+claims!R7 -> 5.4953478e-05 | F7: =+costs!L7 -> 9.9520385e-06 | H7: =(C7*$C$3)+(D7*$D$3)+(E7*$E$3)+(F7*$F$3) -> 0.00062068351 | J7: =(+H7*$J$273) -> 36994.637 | L7: =+J7/payroll!F7 -> 0.0010367318 | O7: 30837.396 | P7: =+J7-O7 -> 6157.2414 | R7: 0.00058928431 | S7: =+H7-R7 -> 3.1399205e-05
A8: A104 | B8: Legislative Budget Board | C8: =+payroll!G8 -> 0.0011514146 | D8: =+IFR!T8 -> 0.00068677914 | E8: =+claims!R8 -> 0 | F8: =+costs!L8 -> 0 | H8: =(C8*$C$3)+(D8*$D$3)+(E8*$E$3)+(F8*$F$3) -> 0.00022977421 | J8: =(+H8*$J$273) -> 13695.246 | L8: =+J8/payroll!F8 -> 0.00090317944 | O8: 12249.976 | P8: =+J8-O8 -> 1445.2701 | R8: 0.00023408977 | S8: =+H8-R8 -> -4.3155544e-06
A9: A105 | B9: Legislative Reference Library | C9: =+payroll!G9 -> 0.00011734098 | D9: =+IFR!T9 -> 0.0001286213 | E9: =+claims!R9 -> 0 | F9: =+costs!L9 -> 0 | H9: =(C9*$C$3)+(D9*$D$3)+(E9*$E$3)+(F9*$F$3) -> 3.0745284e-05 | J9: =(+H9*$J$273) -> 1832.513 | L9: =+J9/payroll!F9 -> 0.0011858596 | O9: 1598.4629 | P9: =+J9-O9 -> 234.05015 | R9: 3.0545676e-05 | S9: =+H9-R9 -> 1.9960821e-07
A10: A116 | B10: Sunset Advisory Commission | C10: =+payroll!G10 -> 0.00022273179 | D10: =+IFR!T10 -> 0.00016909839 | E10: =+claims!R10 -> 0 | F10: =+costs!L10 -> 0 | H10: =(C10*$C$3)+(D10*$D$3)+(E10*$E$3)+(F10*$F$3) -> 4.8978773e-05 | J10: =(+H10*$J$273) -> 2919.2848 | L10: =+J10/payroll!F10 -> 0.00099524536 | O10: 2321.6652 | P10: =+J10-O10 -> 597.6196 | R10: 4.4365642e-05 | S10: =+H10-R10 -> 4.6131309e-06
A11: A201 | B11: Supreme Court of Texas | C11: =+payroll!G11 -> 0.00060754883 | D11: =+IFR!T11 -> 0.00042804972 | E11: =+claims!R11 -> 5.4953478e-05 | F11: =+costs!L11 -> 5.6270506e-06 | H11: =(C11*$C$3)+(D11*$D$3)+(E11*$E$3)+(F11*$F$3) -> 0.00014106907 | J11: =(+H11*$J$273) -> 8408.1485 | L11: =+J11/payroll!F11 -> 0.0010508847 | O11: 7648.9054 | P11: =+J11-O11 -> 759.24309 | R11: 0.00014616604 | S11: =+H11-R11 -> -5.0969644e-06
A12: A203 | B12: Law Examiners, Board of | C12: =+payroll!G12 -> 0.0001589886 | D12: =+IFR!T12 -> 0.00012793336 | E12: =+claims!R12 -> 0 | F12: =+costs!L12 -> 0 | H12: =(C12*$C$3)+(D12*$D$3)+(E12*$E$3)+(F12*$F$3) -> 3.5865246e-05 | J12: =(+H12*$J$273) -> 2137.6784 | L12: =+J12/payroll!F12 -> 0.0010209684 | O12: 1876.5952 | P12: =+J12-O12 -> 261.08326 | R12: 3.5860618e-05 | S12: =+H12-R12 -> 4.6274263e-09
A13: A211 | B13: Court of Criminal Appeals | C13: =+payroll!G13 -> 0.00058551966 | D13: =+IFR!T13 -> 0.00034731744 | E13: =+claims!R13 -> 0 | F13: =+costs!L13 -> 0 | H13: =(C13*$C$3)+(D13*$D$3)+(E13*$E$3)+(F13*$F$3) -> 0.00011660464 | J13: =(+H13*$J$273) -> 6949.9934 | L13: =+J13/payroll!F13 -> 0.0009013196 | O13: 6388.2099 | P13: =+J13-O13 -> 561.78344 | R13: 0.0001220749 | S13: =+H13-R13 -> -5.4702569e-06
A14: A212 | B14: Court Administration, Office of | C14: =+payroll!G14 -> 0.0020657643 | D14: =+IFR!T14 -> 0.0015874167 | E14: =+claims!R14 -> 0 | F14: =+costs!L14 -> 0 | H14: =(C14*$C$3)+(D14*$D$3)+(E14*$E$3)+(F14*$F$3) -> 0.00045664763 | J14: =(+H14*$J$273) -> 27217.596 | L14: =+J14/payroll!F14 -> 0.0010004719 | O14: 23031.034 | P14: =+J14-O14 -> 4186.5621 | R14: 0.00044010938 | S14: =+H14-R14 -> 1.653825e-05
A15: A213 | B15: Prosecuting Attorney, State | C15: =+payroll!G15 -> 3.484569e-05 | D15: =+IFR!T15 -> 2.1303734e-05 | E15: =+claims!R15 -> 0 | F15: =+costs!L15 -> 0 | H15: =(C15*$C$3)+(D15*$D$3)+(E15*$E$3)+(F15*$F$3) -> 7.018678e-06 | J15: =(+H15*$J$273) -> 418.33469 | L15: =+J15/payroll!F15 -> 0.00091161345 | O15: 383.3202 | P15: =+J15-O15 -> 35.014497 | R15: 7.3250211e-06 | S15: =+H15-R15 -> -3.0634313e-07
A16: A215 | B16: Office of Capital and Forensic Writs | C16: =+payroll!G16 -> 0.00019435584 | D16: =+IFR!T16 -> 0.00012868787 | E16: =+claims!R16 -> 0.00010990696 | F16: =+costs!L16 -> 2.9489937e-05 | H16: =(C16*$C$3)+(D16*$D$3)+(E16*$E$3)+(F16*$F$3) -> 7.4560469e-05 | J16: =(+H16*$J$273) -> 4444.0322 | L16: =+J16/payroll!F16 -> 0.001736263 | O16: 1998.8872 | P16: =+J16-O16 -> 2445.145 | R16: 3.8197546e-05 | S16: =+H16-R16 -> 3.6362923e-05
... A262: C252 | B262: Young | C262: =+payroll!G262 -> 3.015873e-05 | D262: =+IFR!T262 -> 3.8613019e-05 | E262: =+claims!R262 -> 0 | F262: =+costs!L262 -> 0 | H262: =(C262*$C$3)+(D262*$D$3)+(E262*$E$3)+(F262*$F$3) -> 8.5964686e-06 | J262: =(+H262*$J$273) -> 512.37584 | L262: =+J262/payroll!F262 -> 0.0012900647 | O262: 448.03133 | P262: =+J262-O262 -> 64.344517 | R262: 8.5616124e-06 | S262: =+H262-R262 -> 3.4856245e-08
B263: CSCDs | C263: =SUBTOTAL(9,C141:C262) -> 0.023569141 | D263: =SUBTOTAL(9,D141:D262) -> 0.03019183 | E263: =SUBTOTAL(9,E141:E262) -> 0.0102763 | F263: =SUBTOTAL(9,F141:F262) -> 0.0072608786 | H263: =SUBTOTAL(9,H141:H262) -> 0.012618094 | J263: =SUBTOTAL(9,J141:J262) -> 752077 | L263: =+J263/payroll!F263 -> 0.0024230059 | O263: =SUBTOTAL(9,O141:O262) -> 650914.32 | P263: =SUBTOTAL(9,P141:P262) -> 101162.68 | Q263: =SUBTOTAL(9,Q141:Q262) -> 0 | R263: =SUBTOTAL(9,R141:R262) -> 0.012438586 | S263: =SUBTOTAL(9,S141:S262) -> 0.00017950776
C265: =SUBTOTAL(9,C4:C264) -> 1 | D265: =SUBTOTAL(9,D4:D264) -> 1 | E265: =SUBTOTAL(9,E4:E264) -> 1 | F265: =SUBTOTAL(9,F4:F264) -> 1 | H265: =SUBTOTAL(9,H4:H264) -> 1 | J265: =SUBTOTAL(9,J4:J264) -> 59603061 | L265: =+J265/payroll!F265 -> 0.004525895 | O265: =SUBTOTAL(9,O4:O262) -> 52330251 | P265: =SUBTOTAL(9,P4:P264) -> 7272809.8 | R265: =SUBTOTAL(9,R4:R262) -> 1 | S265: =SUBTOTAL(9,S4:S264) -> -3.2529962e-16
H268: Projected Current FY (2027) Claim Payments | J268: 45670000 | O268: 43000000 | P268: =+J268-O268 -> 2670000
H269: Previous FY Collected Shortage (Overage) | J269: -1000000 | O269: =-2966696.8 -> -2966696.8 | P269: =+J269-O269 -> 1966696.8
H270: Risk Management and Workers' Comp. Administration(incl.required funding for emp.benefits) | J270: =12562872+734866+1433094+600640+1589 -> 15333061 | O270: =12562872+2597067+597453 -> 15757392 | P270: =+J270-O270 -> -424331
H271: Previous FY Collected Shortage (Overage) | J271: -400000 | O271: -3460444 | P271: =+J271-O271 -> 3060444
J273: =SUM(J268:J272) -> 59603061 | O273: =SUM(O268:O272) -> 52330251 | P273: =SUM(P268:P272) -> 7272809.8

Sheet payroll
A2: Agency | F2: weighted | G2: Assessment
A3: Code | B3: Name | C3: FY2023 | D3: FY2024 | E3: FY2025 | F3: average | G3: Percentage
A5: A101 | B5: Texas Senate | C5: 36697632 | D5: 39082362 | E5: 46490503 | F5: =IF(C5>0,(+C5+(D5*2)+(E5*3))/6,IF(D5>0,((D5*2)+(E5*3))/5,E5)) -> 42388978 | G5: =+F5/$F$265 -> 0.0032187619
A6: A102 | B6: Texas House of Representatives | C6: 40407364 | D6: 42054278 | E6: 50055651 | F6: =IF(C6>0,(+C6+(D6*2)+(E6*3))/6,IF(D6>0,((D6*2)+(E6*3))/5,E6)) -> 45780479 | G6: =+F6/$F$265 -> 0.0034762919
A7: A103 | B7: Legislative Council | C7: 32755436 | D7: 32606617 | E7: 38711585 | F7: =IF(C7>0,(+C7+(D7*2)+(E7*3))/6,IF(D7>0,((D7*2)+(E7*3))/5,E7)) -> 35683904 | G7: =+F7/$F$265 -> 0.0027096193
A8: A104 | B8: Legislative Budget Board | C8: 12724952 | D8: 16106054 | E8: 15347725 | F8: =IF(C8>0,(+C8+(D8*2)+(E8*3))/6,IF(D8>0,((D8*2)+(E8*3))/5,E8)) -> 15163373 | G8: =+F8/$F$265 -> 0.0011514146
A9: A105 | B9: Legislative Reference Library | C9: 1381287.9 | D9: 1496557 | E9: 1632473 | F9: =IF(C9>0,(+C9+(D9*2)+(E9*3))/6,IF(D9>0,((D9*2)+(E9*3))/5,E9)) -> 1545303.5 | G9: =+F9/$F$265 -> 0.00011734098
A10: A116 | B10: Sunset Advisory Commission | C10: 2044603.2 | D10: 2800557.9 | E10: 3317889.5 | F10: =IF(C10>0,(+C10+(D10*2)+(E10*3))/6,IF(D10>0,((D10*2)+(E10*3))/5,E10)) -> 2933231.2 | G10: =+F10/$F$265 -> 0.00022273179
A11: A201 | B11: Supreme Court of Texas | C11: 8240720 | D11: 7023424 | E11: 8572848 | F11: =IF(C11>0,(+C11+(D11*2)+(E11*3))/6,IF(D11>0,((D11*2)+(E11*3))/5,E11)) -> 8001018.7 | G11: =+F11/$F$265 -> 0.00060754883
A12: A203 | B12: Law Examiners, Board of | C12: 1554604.8 | D12: 2156319 | E12: 2231803.1 | F12: =IF(C12>0,(+C12+(D12*2)+(E12*3))/6,IF(D12>0,((D12*2)+(E12*3))/5,E12)) -> 2093775.4 | G12: =+F12/$F$265 -> 0.0001589886
A13: A211 | B13: Court of Criminal Appeals | C13: 6902979 | D13: 7835837 | E13: 7896933.6 | F13: =IF(C13>0,(+C13+(D13*2)+(E13*3))/6,IF(D13>0,((D13*2)+(E13*3))/5,E13)) -> 7710908.9 | G13: =+F13/$F$265 -> 0.00058551966
A14: A212 | B14: Court Administration, Office of | C14: 23564983 | D14: 24303797 | E14: 30351990 | F14: =IF(C14>0,(+C14+(D14*2)+(E14*3))/6,IF(D14>0,((D14*2)+(E14*3))/5,E14)) -> 27204758 | G14: =+F14/$F$265 -> 0.0020657643
A15: A213 | B15: Prosecuting Attorney, State | C15: 446491.22 | D15: 446947 | E15: 470994.57 | F15: =IF(C15>0,(+C15+(D15*2)+(E15*3))/6,IF(D15>0,((D15*2)+(E15*3))/5,E15)) -> 458894.82 | G15: =+F15/$F$265 -> 3.484569e-05
A16: A215 | B16: Office of Capital and Forensic Writs | C16: 1745715.1 | D16: 2562751.6 | E16: 2828671 | F16: =IF(C16>0,(+C16+(D16*2)+(E16*3))/6,IF(D16>0,((D16*2)+(E16*3))/5,E16)) -> 2559538.6 | G16: =+F16/$F$265 -> 0.00019435584
... A34: A243 | B34: Law Library, State | C34: 661271.08 | D34: 723179.27 | E34: 787247.14 | F34: =IF(C34>0,(+C34+(D34*2)+(E34*3))/6,IF(D34>0,((D34*2)+(E34*3))/5,E34)) -> 744895.17 | G34: =+F34/$F$265 -> 5.6562822e-05
A35: A301 | B35: Governor's Office | C35: 24264018 | D35: 27546370 | E35: =18779626.58+12596974.53 -> 31376601 | F35: =IF(C35>0,(+C35+(D35*2)+(E35*3))/6,IF(D35>0,((D35*2)+(E35*3))/5,E35)) -> 28914427 | G35: =+F35/$F$265 -> 0.0021955862
A36: A302 | B36: Attorney General, Office of the | C36: 253316825 | D36: 284942274 | E36: 309817607 | F36: =IF(C36>0,(+C36+(D36*2)+(E36*3))/6,IF(D36>0,((D36*2)+(E36*3))/5,E36)) -> 2.9210903e+08 | G36: =+F36/$F$265 -> 0.022180988
A37: A303 | B37: Texas Facilities Commission | C37: 24419585 | D37: 28230766 | E37: 33115656 | F37: =IF(C37>0,(+C37+(D37*2)+(E37*3))/6,IF(D37>0,((D37*2)+(E37*3))/5,E37)) -> 30038014 | G37: =+F37/$F$265 -> 0.0022809046
A38: A304 | B38: Comptroller of Public Accounts, State | C38: 1.9535413e+08 | D38: 2.1920153e+08 | E38: 2.5104824e+08 | F38: =IF(C38>0,(+C38+(D38*2)+(E38*3))/6,IF(D38>0,((D38*2)+(E38*3))/5,E38)) -> 2.3115032e+08 | G38: =+F38/$F$265 -> 0.017552153
A39: A305 | B39: General Land Office | C39: 65667867 | D39: 73486233 | E39: 81721866 | F39: =IF(C39>0,(+C39+(D39*2)+(E39*3))/6,IF(D39>0,((D39*2)+(E39*3))/5,E39)) -> 76300988 | G39: =+F39/$F$265 -> 0.0057938343
A40: A306 | B40: Library and Archives Commission | C40: 8310399 | D40: 9212759 | E40: 10425917 | F40: =IF(C40>0,(+C40+(D40*2)+(E40*3))/6,IF(D40>0,((D40*2)+(E40*3))/5,E40)) -> 9668944.7 | G40: =+F40/$F$265 -> 0.00073420102
A41: A307 | B41: Secretary of State | C41: 12541156 | D41: 16781974 | E41: 23371491 | F41: =IF(C41>0,(+C41+(D41*2)+(E41*3))/6,IF(D41>0,((D41*2)+(E41*3))/5,E41)) -> 19369929 | G41: =+F41/$F$265 -> 0.001470835
A42: A308 | B42: State Auditor's Office | C42: 16638244 | D42: 17442981 | E42: 18761958 | F42: =IF(C42>0,(+C42+(D42*2)+(E42*3))/6,IF(D42>0,((D42*2)+(E42*3))/5,E42)) -> 17968347 | G42: =+F42/$F$265 -> 0.0013644073
A43: A312 | B43: Securities Board | C43: 6357031 | D43: 6846580 | E43: 7181677.6 | F43: =IF(C43>0,(+C43+(D43*2)+(E43*3))/6,IF(D43>0,((D43*2)+(E43*3))/5,E43)) -> 6932537.3 | G43: =+F43/$F$265 -> 0.00052641484
A44: A313 | B44: Information Resources, Dept. of | C44: 21945251 | D44: 24648459 | E44: 27775942 | F44: =IF(C44>0,(+C44+(D44*2)+(E44*3))/6,IF(D44>0,((D44*2)+(E44*3))/5,E44)) -> 25761666 | G44: =+F44/$F$265 -> 0.0019561847
A45: A320 | B45: Texas Workforce Commission | C45: 242020827 | D45: 276963600 | E45: 297146033 | F45: =IF(C45>0,(+C45+(D45*2)+(E45*3))/6,IF(D45>0,((D45*2)+(E45*3))/5,E45)) -> 281231021 | G45: =+F45/$F$265 -> 0.021354978
A46: A326 | B46: Texas Emergency Services Retirement System | C46: 450800 | D46: 571733 | E46: 600437.53 | F46: =IF(C46>0,(+C46+(D46*2)+(E46*3))/6,IF(D46>0,((D46*2)+(E46*3))/5,E46)) -> 565929.77 | G46: =+F46/$F$265 -> 4.2973274e-05
A47: A329 | B47: Real Estate Commission | C47: 11074732 | D47: 12307041 | E47: 12573706 | F47: =IF(C47>0,(+C47+(D47*2)+(E47*3))/6,IF(D47>0,((D47*2)+(E47*3))/5,E47)) -> 12234989 | G47: =+F47/$F$265 -> 0.00092905084
... A65: A451 | B65: Banking, State Department of | C65: 19550942 | D65: 20988270 | E65: 23234743 | F65: =IF(C65>0,(+C65+(D65*2)+(E65*3))/6,IF(D65>0,((D65*2)+(E65*3))/5,E65)) -> 21871952 | G65: =+F65/$F$265 -> 0.0016608234
A66: A452 | B66: Licensing and Regulation, Dept. of | C66: 54540910 | D66: 58745498 | E66: =15301255.03+38368389.96 -> 53669645 | F66: =IF(C66>0,(+C66+(D66*2)+(E66*3))/6,IF(D66>0,((D66*2)+(E66*3))/5,E66)) -> 55506807 | G66: =+F66/$F$265 -> 0.0042148503
A67: A454 | B67: Insurance, Department of | C67: 84994364 | D67: 89165641 | E67: 96972840 | F67: =IF(C67>0,(+C67+(D67*2)+(E67*3))/6,IF(D67>0,((D67*2)+(E67*3))/5,E67)) -> 92374028 | G67: =+F67/$F$265 -> 0.0070143234
A68: A455 | B68: Railroad Commission | C68: 70710013 | D68: 78451334 | E68: 87966744 | F68: =IF(C68>0,(+C68+(D68*2)+(E68*3))/6,IF(D68>0,((D68*2)+(E68*3))/5,E68)) -> 81918819 | G68: =+F68/$F$265 -> 0.0062204183
A69: A456 | B69: Plumbing Examiners, State Board of | C69: 2047721 | D69: 2205042 | E69: 2646382 | F69: =IF(C69>0,(+C69+(D69*2)+(E69*3))/6,IF(D69>0,((D69*2)+(E69*3))/5,E69)) -> 2399491.8 | G69: =+F69/$F$265 -> 0.00018220286
A70: A457 | B70: Public Accountancy, State Board of | C70: 3137655.2 | D70: 3244610.7 | E70: 3531153 | F70: =IF(C70>0,(+C70+(D70*2)+(E70*3))/6,IF(D70>0,((D70*2)+(E70*3))/5,E70)) -> 3370055.9 | G70: =+F70/$F$265 -> 0.00025590161
A71: A458 | B71: Alcoholic Beverage Commission | C71: 36721657 | D71: 39577547 | E71: 42003564 | F71: =IF(C71>0,(+C71+(D71*2)+(E71*3))/6,IF(D71>0,((D71*2)+(E71*3))/5,E71)) -> 40314574 | G71: =+F71/$F$265 -> 0.0030612442
A72: A459 | B72: Architectural Examiners, Board of | C72: 1822197 | D72: 1881802 | E72: 1823805.3 | F72: =IF(C72>0,(+C72+(D72*2)+(E72*3))/6,IF(D72>0,((D72*2)+(E72*3))/5,E72)) -> 1842869.5 | G72: =+F72/$F$265 -> 0.00013993633
A73: A460 | B73: Professional Engineers and Land Surveyors, Texas Board of | C73: 2675787.7 | D73: 2788385.9 | E73: 2987239.6 | F73: =IF(C73>0,(+C73+(D73*2)+(E73*3))/6,IF(D73>0,((D73*2)+(E73*3))/5,E73)) -> 2869046.4 | G73: =+F73/$F$265 -> 0.00021785798
A74: A466 | B74: Consumer Credit Commissioner, Office of | C74: 4883480.9 | D74: 5043061.1 | E74: 5326290.6 | F74: =IF(C74>0,(+C74+(D74*2)+(E74*3))/6,IF(D74>0,((D74*2)+(E74*3))/5,E74)) -> 5158079.1 | G74: =+F74/$F$265 -> 0.00039167325
A75: A469 | B75: Credit Union Department | C75: 2718471 | D75: 3022333 | E75: 3372393 | F75: =IF(C75>0,(+C75+(D75*2)+(E75*3))/6,IF(D75>0,((D75*2)+(E75*3))/5,E75)) -> 3146719.3 | G75: =+F75/$F$265 -> 0.00023894278
A76: A473 | B76: Public Utility Commission of Texas | C76: 19697661 | D76: 23596118 | E76: 31044496 | F76: =IF(C76>0,(+C76+(D76*2)+(E76*3))/6,IF(D76>0,((D76*2)+(E76*3))/5,E76)) -> 26670564 | G76: =+F76/$F$265 -> 0.0020252009
...

Sheet IFR
T1: FTE | AD1: raw
A2: Agency | C2: 2023 | G2: 2023 Avg. | H2: 2024 | L2: 2024 Avg. | M2: 2025 | Q2: 2025 Avg. | R2: weighted | T2: Assessment | V2: FY2023 | W2: FY2024 | X2: FY2025 | Z2: FY2023 | AA2: FY2024 | AB2: FY2025 | AD2: weighted
A3: Code | B3: Name | C3: 1 | D3: 2 | E3: 3 | F3: 4 | G3: FTE | H3: 1 | I3: 2 | J3: 3 | K3: 4 | L3: FTE | M3: 1 | N3: 2 | O3: 3 | P3: 4 | Q3: FTE | R3: FTE avg. | T3: Percentage | V3: claims | W3: claims | X3: claims | Z3: IFR | AA3: IFR | AB3: IFR | AD3: IFR avg.
A5: A101 | B5: Texas Senate | C5: 439.1 | D5: 507.4 | E5: 561.1 | F5: 525.8 | G5: =AVERAGE(C5:F5) -> 508.35 | H5: 500.6 | I5: 493.2 | J5: 478.9 | K5: 492.6 | L5: =AVERAGE(H5:K5) -> 491.325 | M5: 500.3 | N5: 568 | O5: 618.1 | P5: 567.1 | Q5: =AVERAGE(M5:P5) -> 563.375 | R5: =IF(G5>0,(+G5+(L5*2)+(Q5*3))/6,IF(L5>0,((L5*2)+(Q5*3))/5,Q5)) -> 530.1875 | T5: =+R5/$R$265 -> 0.0028237434 | V5: =+claims!D5 -> 0 | W5: =+claims!E5 -> 0 | X5: =+claims!F5 -> 1 | Z5: =IF(G5>100,IF(V5<1,0,+V5/G5),IF(V5<1,0,+V5/100)) -> 0 | AA5: =IF(L5>100,IF(W5<1,0,+W5/L5),IF(W5<1,0,+W5/100)) -> 0 | AB5: =IF(Q5>100,IF(X5<1,0,+X5/Q5),IF(X5<1,0,+X5/100)) -> 0.0017750166 | AD5: =(+Z5+(AA5*2)+(AB5*3))/6 -> 0.00088750832
A6: A102 | B6: Texas House of Representatives | C6: 715.8 | D6: 686.6 | E6: 664.1 | F6: 676.8 | G6: =AVERAGE(C6:F6) -> 685.825 | H6: 764.5 | I6: 754.7 | J6: 744.1 | K6: 761.4 | L6: =AVERAGE(H6:K6) -> 756.175 | M6: 765.5 | N6: 920.9 | O6: 1062.8 | P6: 897 | Q6: =AVERAGE(M6:P6) -> 911.55 | R6: =IF(G6>0,(+G6+(L6*2)+(Q6*3))/6,IF(L6>0,((L6*2)+(Q6*3))/5,Q6)) -> 822.1375 | T6: =+R6/$R$265 -> 0.0043786497 | V6: =+claims!D6 -> 1 | W6: =+claims!E6 -> 1 | X6: =+claims!F6 -> 4 | Z6: =IF(G6>100,IF(V6<1,0,+V6/G6),IF(V6<1,0,+V6/100)) -> 0.0014580979 | AA6: =IF(L6>100,IF(W6<1,0,+W6/L6),IF(W6<1,0,+W6/100)) -> 0.0013224452 | AB6: =IF(Q6>100,IF(X6<1,0,+X6/Q6),IF(X6<1,0,+X6/100)) -> 0.0043881301 | AD6: =(+Z6+(AA6*2)+(AB6*3))/6 -> 0.0028778964
A7: A103 | B7: Legislative Council | C7: 379 | D7: 403 | E7: 402 | F7: 378 | G7: =AVERAGE(C7:F7) -> 390.5 | H7: 370 | I7: 371 | J7: 373 | K7: 380.3 | L7: =AVERAGE(H7:K7) -> 373.575 | M7: 420 | N7: 439 | O7: 437.8 | P7: 404 | Q7: =AVERAGE(M7:P7) -> 425.2 | R7: =IF(G7>0,(+G7+(L7*2)+(Q7*3))/6,IF(L7>0,((L7*2)+(Q7*3))/5,Q7)) -> 402.20833 | T7: =+R7/$R$265 -> 0.0021421349 | V7: =+claims!D7 -> 0 | W7: =+claims!E7 -> 0 | X7: =+claims!F7 -> 1 | Z7: =IF(G7>100,IF(V7<1,0,+V7/G7),IF(V7<1,0,+V7/100)) -> 0 | AA7: =IF(L7>100,IF(W7<1,0,+W7/L7),IF(W7<1,0,+W7/100)) -> 0 | AB7: =IF(Q7>100,IF(X7<1,0,+X7/Q7),IF(X7<1,0,+X7/100)) -> 0.0023518344 | AD7: =(+Z7+(AA7*2)+(AB7*3))/6 -> 0.0011759172
A8: A104 | B8: Legislative Budget Board | C8: 127 | D8: 124 | E8: 128 | F8: 128 | G8: =AVERAGE(C8:F8) -> 126.75 | H8: 129 | I8: 129 | J8: 129 | K8: 132 | L8: =AVERAGE(H8:K8) -> 129.75 | M8: 129 | N8: 130.3 | O8: 130.3 | P8: 127 | Q8: =AVERAGE(M8:P8) -> 129.15 | R8: =IF(G8>0,(+G8+(L8*2)+(Q8*3))/6,IF(L8>0,((L8*2)+(Q8*3))/5,Q8)) -> 128.95 | T8: =+R8/$R$265 -> 0.00068677914 | V8: =+claims!D8 -> 0 | W8: =+claims!E8 -> 0 | X8: =+claims!F8 -> 0 | Z8: =IF(G8>100,IF(V8<1,0,+V8/G8),IF(V8<1,0,+V8/100)) -> 0 | AA8: =IF(L8>100,IF(W8<1,0,+W8/L8),IF(W8<1,0,+W8/100)) -> 0 | AB8: =IF(Q8>100,IF(X8<1,0,+X8/Q8),IF(X8<1,0,+X8/100)) -> 0 | AD8: =(+Z8+(AA8*2)+(AB8*3))/6 -> 0
A9: A105 | B9: Legislative Reference Library | C9: 21 | D9: 22.5 | E9: 24.2 | F9: 23.6 | G9: =AVERAGE(C9:F9) -> 22.825 | H9: 23.2 | I9: 22.4 | J9: 22.9 | K9: 24 | L9: =AVERAGE(H9:K9) -> 23.125 | M9: 27 | N9: 25.6 | O9: 24.3 | P9: 24.2 | Q9: =AVERAGE(M9:P9) -> 25.275 | R9: =IF(G9>0,(+G9+(L9*2)+(Q9*3))/6,IF(L9>0,((L9*2)+(Q9*3))/5,Q9)) -> 24.15 | T9: =+R9/$R$265 -> 0.0001286213 | V9: =+claims!D9 -> 0 | W9: =+claims!E9 -> 0 | X9: =+claims!F9 -> 0 | Z9: =IF(G9>100,IF(V9<1,0,+V9/G9),IF(V9<1,0,+V9/100)) -> 0 | AA9: =IF(L9>100,IF(W9<1,0,+W9/L9),IF(W9<1,0,+W9/100)) -> 0 | AB9: =IF(Q9>100,IF(X9<1,0,+X9/Q9),IF(X9<1,0,+X9/100)) -> 0 | AD9: =(+Z9+(AA9*2)+(AB9*3))/6 -> 0
A10: A116 | B10: Sunset Advisory Commission | C10: 24 | D10: 24 | E10: 23 | F10: 24.5 | G10: =AVERAGE(C10:F10) -> 23.875 | H10: 30.3 | I10: 30.8 | J10: 32 | K10: 32.4 | L10: =AVERAGE(H10:K10) -> 31.375 | M10: 32.6 | N10: 33.1 | O10: 33 | P10: 39.8 | Q10: =AVERAGE(M10:P10) -> 34.625 | R10: =IF(G10>0,(+G10+(L10*2)+(Q10*3))/6,IF(L10>0,((L10*2)+(Q10*3))/5,Q10)) -> 31.75 | T10: =+R10/$R$265 -> 0.00016909839 | V10: =+claims!D10 -> 0 | W10: =+claims!E10 -> 0 | X10: =+claims!F10 -> 0 | Z10: =IF(G10>100,IF(V10<1,0,+V10/G10),IF(V10<1,0,+V10/100)) -> 0 | AA10: =IF(L10>100,IF(W10<1,0,+W10/L10),IF(W10<1,0,+W10/100)) -> 0 | AB10: =IF(Q10>100,IF(X10<1,0,+X10/Q10),IF(X10<1,0,+X10/100)) -> 0 | AD10: =(+Z10+(AA10*2)+(AB10*3))/6 -> 0
A11: A201 | B11: Supreme Court of Texas | C11: 81.2 | D11: 82.1 | E11: 80.9 | F11: 79.9 | G11: =AVERAGE(C11:F11) -> 81.025 | H11: 81.5 | I11: 82 | J11: 82 | K11: 79.3 | L11: =AVERAGE(H11:K11) -> 81.2 | M11: 79.8 | N11: 81.5 | O11: 80 | P11: 77.1 | Q11: =AVERAGE(M11:P11) -> 79.6 | R11: =IF(G11>0,(+G11+(L11*2)+(Q11*3))/6,IF(L11>0,((L11*2)+(Q11*3))/5,Q11)) -> 80.370833 | T11: =+R11/$R$265 -> 0.00042804972 | V11: =+claims!D11 -> 1 | W11: =+claims!E11 -> 0 | X11: =+claims!F11 -> 0 | Z11: =IF(G11>100,IF(V11<1,0,+V11/G11),IF(V11<1,0,+V11/100)) -> 0.01 | AA11: =IF(L11>100,IF(W11<1,0,+W11/L11),IF(W11<1,0,+W11/100)) -> 0 | AB11: =IF(Q11>100,IF(X11<1,0,+X11/Q11),IF(X11<1,0,+X11/100)) -> 0 | AD11: =(+Z11+(AA11*2)+(AB11*3))/6 -> 0.0016666667
A12: A203 | B12: Law Examiners, Board of | C12: 20 | D12: 19.5 | E12: 20 | F12: 30 | G12: =AVERAGE(C12:F12) -> 22.375 | H12: 20.5 | I12: 20.5 | J12: 24 | K12: 33 | L12: =AVERAGE(H12:K12) -> 24.5 | M12: 20.5 | N12: 20.5 | O12: 24 | P12: 32 | Q12: =AVERAGE(M12:P12) -> 24.25 | R12: =IF(G12>0,(+G12+(L12*2)+(Q12*3))/6,IF(L12>0,((L12*2)+(Q12*3))/5,Q12)) -> 24.020833 | T12: =+R12/$R$265 -> 0.00012793336 | V12: =+claims!D12 -> 0 | W12: =+claims!E12 -> 0 | X12: =+claims!F12 -> 0 | Z12: =IF(G12>100,IF(V12<1,0,+V12/G12),IF(V12<1,0,+V12/100)) -> 0 | AA12: =IF(L12>100,IF(W12<1,0,+W12/L12),IF(W12<1,0,+W12/100)) -> 0 | AB12: =IF(Q12>100,IF(X12<1,0,+X12/Q12),IF(X12<1,0,+X12/100)) -> 0 | AD12: =(+Z12+(AA12*2)+(AB12*3))/6 -> 0
A13: A211 | B13: Court of Criminal Appeals | C13: 67.2 | D13: 68 | E13: 67.4 | F13: 64.2 | G13: =AVERAGE(C13:F13) -> 66.7 | H13: 66.3 | I13: 68.7 | J13: 68.4 | K13: 62.8 | L13: =AVERAGE(H13:K13) -> 66.55 | M13: 65 | N13: 64 | O13: 63.4 | P13: 62.9 | Q13: =AVERAGE(M13:P13) -> 63.825 | R13: =IF(G13>0,(+G13+(L13*2)+(Q13*3))/6,IF(L13>0,((L13*2)+(Q13*3))/5,Q13)) -> 65.2125 | T13: =+R13/$R$265 -> 0.00034731744 | V13: =+claims!D13 -> 0 | W13: =+claims!E13 -> 0 | X13: =+claims!F13 -> 0 | Z13: =IF(G13>100,IF(V13<1,0,+V13/G13),IF(V13<1,0,+V13/100)) -> 0 | AA13: =IF(L13>100,IF(W13<1,0,+W13/L13),IF(W13<1,0,+W13/100)) -> 0 | AB13: =IF(Q13>100,IF(X13<1,0,+X13/Q13),IF(X13<1,0,+X13/100)) -> 0 | AD13: =(+Z13+(AA13*2)+(AB13*3))/6 -> 0
A14: A212 | B14: Court Administration, Office of | C14: 277.1 | D14: 281.1 | E14: 280.1 | F14: 278.2 | G14: =AVERAGE(C14:F14) -> 279.125 | H14: 279 | I14: 282.6 | J14: 287.1 | K14: 290.2 | L14: =AVERAGE(H14:K14) -> 284.725 | M14: 304.1 | N14: 315 | O14: 315.2 | P14: 318.7 | Q14: =AVERAGE(M14:P14) -> 313.25 | R14: =IF(G14>0,(+G14+(L14*2)+(Q14*3))/6,IF(L14>0,((L14*2)+(Q14*3))/5,Q14)) -> 298.05417 | T14: =+R14/$R$265 -> 0.0015874167 | V14: =+claims!D14 -> 0 | W14: =+claims!E14 -> 0 | X14: =+claims!F14 -> 0 | Z14: =IF(G14>100,IF(V14<1,0,+V14/G14),IF(V14<1,0,+V14/100)) -> 0 | AA14: =IF(L14>100,IF(W14<1,0,+W14/L14),IF(W14<1,0,+W14/100)) -> 0 | AB14: =IF(Q14>100,IF(X14<1,0,+X14/Q14),IF(X14<1,0,+X14/100)) -> 0 | AD14: =(+Z14+(AA14*2)+(AB14*3))/6 -> 0
A15: A213 | B15: Prosecuting Attorney, State | C15: 4 | D15: 4 | E15: 4 | F15: 4 | G15: =AVERAGE(C15:F15) -> 4 | H15: 4 | I15: 4 | J15: 4 | K15: 4 | L15: =AVERAGE(H15:K15) -> 4 | M15: 4 | N15: 4 | O15: 4 | P15: 4 | Q15: =AVERAGE(M15:P15) -> 4 | R15: =IF(G15>0,(+G15+(L15*2)+(Q15*3))/6,IF(L15>0,((L15*2)+(Q15*3))/5,Q15)) -> 4 | T15: =+R15/$R$265 -> 2.1303734e-05 | V15: =+claims!D15 -> 0 | W15: =+claims!E15 -> 0 | X15: =+claims!F15 -> 0 | Z15: =IF(G15>100,IF(V15<1,0,+V15/G15),IF(V15<1,0,+V15/100)) -> 0 | AA15: =IF(L15>100,IF(W15<1,0,+W15/L15),IF(W15<1,0,+W15/100)) -> 0 | AB15: =IF(Q15>100,IF(X15<1,0,+X15/Q15),IF(X15<1,0,+X15/100)) -> 0 | AD15: =(+Z15+(AA15*2)+(AB15*3))/6 -> 0
A16: A215 | B16: Office of Capital and Forensic Writs | C16: 21 | D16: 21.4 | E16: 20.6 | F16: 20.4 | G16: =AVERAGE(C16:F16) -> 20.85 | H16: 22.3 | I16: 23.9 | J16: 26.2 | K16: 26 | L16: =AVERAGE(H16:K16) -> 24.6 | M16: 25 | N16: 24.2 | O16: 26 | P16: 24.7 | Q16: =AVERAGE(M16:P16) -> 24.975 | R16: =IF(G16>0,(+G16+(L16*2)+(Q16*3))/6,IF(L16>0,((L16*2)+(Q16*3))/5,Q16)) -> 24.1625 | T16: =+R16/$R$265 -> 0.00012868787 | V16: =+claims!D16 -> 0 | W16: =+claims!E16 -> 0 | X16: =+claims!F16 -> 2 | Z16: =IF(G16>100,IF(V16<1,0,+V16/G16),IF(V16<1,0,+V16/100)) -> 0 | AA16: =IF(L16>100,IF(W16<1,0,+W16/L16),IF(W16<1,0,+W16/100)) -> 0 | AB16: =IF(Q16>100,IF(X16<1,0,+X16/Q16),IF(X16<1,0,+X16/100)) -> 0.02 | AD16: =(+Z16+(AA16*2)+(AB16*3))/6 -> 0.01
... A34: A243 | B34: Law Library, State | C34: 10 | D34: 10.9 | E34: 11.3 | F34: 10.8 | G34: =AVERAGE(C34:F34) -> 10.75 | H34: 11 | I34: 11.5 | J34: 10.8 | K34: 11 | L34: =AVERAGE(H34:K34) -> 11.075 | M34: 11.3 | N34: 11.3 | O34: 10.6 | P34: 11.8 | Q34: =AVERAGE(M34:P34) -> 11.25 | R34: =IF(G34>0,(+G34+(L34*2)+(Q34*3))/6,IF(L34>0,((L34*2)+(Q34*3))/5,Q34)) -> 11.108333 | T34: =+R34/$R$265 -> 5.9162246e-05 | V34: =+claims!D34 -> 0 | W34: =+claims!E34 -> 0 | X34: =+claims!F34 -> 0 | Z34: =IF(G34>100,IF(V34<1,0,+V34/G34),IF(V34<1,0,+V34/100)) -> 0 | AA34: =IF(L34>100,IF(W34<1,0,+W34/L34),IF(W34<1,0,+W34/100)) -> 0 | AB34: =IF(Q34>100,IF(X34<1,0,+X34/Q34),IF(X34<1,0,+X34/100)) -> 0 | AD34: =(+Z34+(AA34*2)+(AB34*3))/6 -> 0
A35: A301 | B35: Governor's Office | C35: 252 | D35: 267.3 | E35: 281 | F35: 293.6 | G35: =AVERAGE(C35:F35) -> 273.475 | H35: 297.1 | I35: 293.2 | J35: 299.1 | K35: 303.7 | L35: =AVERAGE(H35:K35) -> 298.275 | M35: =208.8+101.2 -> 310 | N35: =213+105.6 -> 318.6 | O35: =216.2+110.6 -> 326.8 | P35: =213.8+111.4 -> 325.2 | Q35: =AVERAGE(M35:P35) -> 320.15 | R35: =IF(G35>0,(+G35+(L35*2)+(Q35*3))/6,IF(L35>0,((L35*2)+(Q35*3))/5,Q35)) -> 305.07917 | T35: =+R35/$R$265 -> 0.0016248314 | V35: =+claims!D35 -> 0 | W35: =+claims!E35 -> 0 | X35: =+claims!F35 -> 3 | Z35: =IF(G35>100,IF(V35<1,0,+V35/G35),IF(V35<1,0,+V35/100)) -> 0 | AA35: =IF(L35>100,IF(W35<1,0,+W35/L35),IF(W35<1,0,+W35/100)) -> 0 | AB35: =IF(Q35>100,IF(X35<1,0,+X35/Q35),IF(X35<1,0,+X35/100)) -> 0.0093706075 | AD35: =(+Z35+(AA35*2)+(AB35*3))/6 -> 0.0046853038
A36: A302 | B36: Attorney General, Office of the | C36: 3915.3 | D36: 3931.5 | E36: 3938.2 | F36: 4001.1 | G36: =AVERAGE(C36:F36) -> 3946.525 | H36: 4026.8 | I36: 4105.1 | J36: 4165.9 | K36: 4231.8 | L36: =AVERAGE(H36:K36) -> 4132.4 | M36: 4211 | N36: 4258.9 | O36: 4159.2 | P36: 4224.5 | Q36: =AVERAGE(M36:P36) -> 4213.4 | R36: =IF(G36>0,(+G36+(L36*2)+(Q36*3))/6,IF(L36>0,((L36*2)+(Q36*3))/5,Q36)) -> 4141.9208 | T36: =+R36/$R$265 -> 0.022059595 | V36: =+claims!D36 -> 8 | W36: =+claims!E36 -> 16 | X36: =+claims!F36 -> 10 | Z36: =IF(G36>100,IF(V36<1,0,+V36/G36),IF(V36<1,0,+V36/100)) -> 0.0020270998 | AA36: =IF(L36>100,IF(W36<1,0,+W36/L36),IF(W36<1,0,+W36/100)) -> 0.003871842 | AB36: =IF(Q36>100,IF(X36<1,0,+X36/Q36),IF(X36<1,0,+X36/100)) -> 0.0023733802 | AD36: =(+Z36+(AA36*2)+(AB36*3))/6 -> 0.0028151541
A37: A303 | B37: Texas Facilities Commission | C37: 390.5 | D37: 390 | E37: 391.7 | F37: 390.2 | G37: =AVERAGE(C37:F37) -> 390.6 | H37: 406.4 | I37: 413 | J37: 416.3 | K37: 435 | L37: =AVERAGE(H37:K37) -> 417.675 | M37: 443.8 | N37: 444 | O37: 453.6 | P37: 459.7 | Q37: =AVERAGE(M37:P37) -> 450.275 | R37: =IF(G37>0,(+G37+(L37*2)+(Q37*3))/6,IF(L37>0,((L37*2)+(Q37*3))/5,Q37)) -> 429.4625 | T37: =+R37/$R$265 -> 0.0022872888 | V37: =+claims!D37 -> 14 | W37: =+claims!E37 -> 5 | X37: =+claims!F37 -> 13 | Z37: =IF(G37>100,IF(V37<1,0,+V37/G37),IF(V37<1,0,+V37/100)) -> 0.035842294 | AA37: =IF(L37>100,IF(W37<1,0,+W37/L37),IF(W37<1,0,+W37/100)) -> 0.01197103 | AB37: =IF(Q37>100,IF(X37<1,0,+X37/Q37),IF(X37<1,0,+X37/100)) -> 0.028871245 | AD37: =(+Z37+(AA37*2)+(AB37*3))/6 -> 0.024399682
A38: A304 | B38: Comptroller of Public Accounts, State | C38: 2463.7 | D38: 2534.4 | E38: 2580 | F38: 2680.6 | G38: =AVERAGE(C38:F38) -> 2564.675 | H38: 2664.9 | I38: 2702.3 | J38: 2735 | K38: 2799.5 | L38: =AVERAGE(H38:K38) -> 2725.425 | M38: 2800.5 | N38: 2853.3 | O38: 2900.6 | P38: 2953.2 | Q38: =AVERAGE(M38:P38) -> 2876.9 | R38: =IF(G38>0,(+G38+(L38*2)+(Q38*3))/6,IF(L38>0,((L38*2)+(Q38*3))/5,Q38)) -> 2774.3708 | T38: =+R38/$R$265 -> 0.014776115 | V38: =+claims!D38 -> 7 | W38: =+claims!E38 -> 6 | X38: =+claims!F38 -> 14 | Z38: =IF(G38>100,IF(V38<1,0,+V38/G38),IF(V38<1,0,+V38/100)) -> 0.0027293907 | AA38: =IF(L38>100,IF(W38<1,0,+W38/L38),IF(W38<1,0,+W38/100)) -> 0.0022014915 | AB38: =IF(Q38>100,IF(X38<1,0,+X38/Q38),IF(X38<1,0,+X38/100)) -> 0.0048663492 | AD38: =(+Z38+(AA38*2)+(AB38*3))/6 -> 0.0036219035
A39: A305 | B39: General Land Office | C39: 736.6 | D39: 739.1 | E39: 733.9 | F39: 750.6 | G39: =AVERAGE(C39:F39) -> 740.05 | H39: 753.1 | I39: 771.3 | J39: 784.5 | K39: 814.2 | L39: =AVERAGE(H39:K39) -> 780.775 | M39: 811.8 | N39: 817.2 | O39: 815.5 | P39: 818.3 | Q39: =AVERAGE(M39:P39) -> 815.7 | R39: =IF(G39>0,(+G39+(L39*2)+(Q39*3))/6,IF(L39>0,((L39*2)+(Q39*3))/5,Q39)) -> 791.45 | T39: =+R39/$R$265 -> 0.0042152101 | V39: =+claims!D39 -> 4 | W39: =+claims!E39 -> 6 | X39: =+claims!F39 -> 2 | Z39: =IF(G39>100,IF(V39<1,0,+V39/G39),IF(V39<1,0,+V39/100)) -> 0.0054050402 | AA39: =IF(L39>100,IF(W39<1,0,+W39/L39),IF(W39<1,0,+W39/100)) -> 0.0076846723 | AB39: =IF(Q39>100,IF(X39<1,0,+X39/Q39),IF(X39<1,0,+X39/100)) -> 0.0024518818 | AD39: =(+Z39+(AA39*2)+(AB39*3))/6 -> 0.0046883384
A40: A306 | B40: Library and Archives Commission | C40: 153.1 | D40: 149.6 | E40: 151.5 | F40: 157 | G40: =AVERAGE(C40:F40) -> 152.8 | H40: 153.6 | I40: 155.8 | J40: 156.2 | K40: 163.7 | L40: =AVERAGE(H40:K40) -> 157.325 | M40: 169.2 | N40: 168.7 | O40: 166.5 | P40: 164.9 | Q40: =AVERAGE(M40:P40) -> 167.325 | R40: =IF(G40>0,(+G40+(L40*2)+(Q40*3))/6,IF(L40>0,((L40*2)+(Q40*3))/5,Q40)) -> 161.57083 | T40: =+R40/$R$265 -> 0.00086051553 | V40: =+claims!D40 -> 1 | W40: =+claims!E40 -> 2 | X40: =+claims!F40 -> 2 | Z40: =IF(G40>100,IF(V40<1,0,+V40/G40),IF(V40<1,0,+V40/100)) -> 0.0065445026 | AA40: =IF(L40>100,IF(W40<1,0,+W40/L40),IF(W40<1,0,+W40/100)) -> 0.012712538 | AB40: =IF(Q40>100,IF(X40<1,0,+X40/Q40),IF(X40<1,0,+X40/100)) -> 0.011952786 | AD40: =(+Z40+(AA40*2)+(AB40*3))/6 -> 0.011304656
A41: A307 | B41: Secretary of State | C41: 198.1 | D41: 198.5 | E41: 199.3 | F41: 206 | G41: =AVERAGE(C41:F41) -> 200.475 | H41: 206.9 | I41: 217.3 | J41: 239.2 | K41: 257.1 | L41: =AVERAGE(H41:K41) -> 230.125 | M41: 263.3 | N41: 267.1 | O41: 269.1 | P41: 272.6 | Q41: =AVERAGE(M41:P41) -> 268.025 | R41: =IF(G41>0,(+G41+(L41*2)+(Q41*3))/6,IF(L41>0,((L41*2)+(Q41*3))/5,Q41)) -> 244.13333 | T41: =+R41/$R$265 -> 0.0013002379 | V41: =+claims!D41 -> 0 | W41: =+claims!E41 -> 0 | X41: =+claims!F41 -> 2 | Z41: =IF(G41>100,IF(V41<1,0,+V41/G41),IF(V41<1,0,+V41/100)) -> 0 | AA41: =IF(L41>100,IF(W41<1,0,+W41/L41),IF(W41<1,0,+W41/100)) -> 0 | AB41: =IF(Q41>100,IF(X41<1,0,+X41/Q41),IF(X41<1,0,+X41/100)) -> 0.0074619905 | AD41: =(+Z41+(AA41*2)+(AB41*3))/6 -> 0.0037309952
A42: A308 | B42: State Auditor's Office | C42: 175 | D42: 174 | E42: 174.4 | F42: 176 | G42: =AVERAGE(C42:F42) -> 174.85 | H42: 178.3 | I42: 184.1 | J42: 182.2 | K42: 194.9 | L42: =AVERAGE(H42:K42) -> 184.875 | M42: 183.9 | N42: 189 | O42: 191 | P42: 198.6 | Q42: =AVERAGE(M42:P42) -> 190.625 | R42: =IF(G42>0,(+G42+(L42*2)+(Q42*3))/6,IF(L42>0,((L42*2)+(Q42*3))/5,Q42)) -> 186.07917 | T42: =+R42/$R$265 -> 0.00099104529 | V42: =+claims!D42 -> 1 | W42: =+claims!E42 -> 0 | X42: =+claims!F42 -> 0 | Z42: =IF(G42>100,IF(V42<1,0,+V42/G42),IF(V42<1,0,+V42/100)) -> 0.0057191879 | AA42: =IF(L42>100,IF(W42<1,0,+W42/L42),IF(W42<1,0,+W42/100)) -> 0 | AB42: =IF(Q42>100,IF(X42<1,0,+X42/Q42),IF(X42<1,0,+X42/100)) -> 0 | AD42: =(+Z42+(AA42*2)+(AB42*3))/6 -> 0.00095319798
A43: A312 | B43: Securities Board | C43: 78.3 | D43: 80.3 | E43: 78.3 | F43: 80.3 | G43: =AVERAGE(C43:F43) -> 79.3 | H43: 81.3 | I43: 85.3 | J43: 82.3 | K43: 84.3 | L43: =AVERAGE(H43:K43) -> 83.3 | M43: 85.3 | N43: 85.3 | O43: 84.3 | P43: 86.3 | Q43: =AVERAGE(M43:P43) -> 85.3 | R43: =IF(G43>0,(+G43+(L43*2)+(Q43*3))/6,IF(L43>0,((L43*2)+(Q43*3))/5,Q43)) -> 83.633333 | T43: =+R43/$R$265 -> 0.00044542558 | V43: =+claims!D43 -> 0 | W43: =+claims!E43 -> 0 | X43: =+claims!F43 -> 0 | Z43: =IF(G43>100,IF(V43<1,0,+V43/G43),IF(V43<1,0,+V43/100)) -> 0 | AA43: =IF(L43>100,IF(W43<1,0,+W43/L43),IF(W43<1,0,+W43/100)) -> 0 | AB43: =IF(Q43>100,IF(X43<1,0,+X43/Q43),IF(X43<1,0,+X43/100)) -> 0 | AD43: =(+Z43+(AA43*2)+(AB43*3))/6 -> 0
A44: A313 | B44: Information Resources, Dept. of | C44: 213.4 | D44: 212.5 | E44: 220.4 | F44: 225.7 | G44: =AVERAGE(C44:F44) -> 218 | H44: 232.2 | I44: 240.1 | J44: 254 | K44: 250.4 | L44: =AVERAGE(H44:K44) -> 244.175 | M44: 247.9 | N44: 254.4 | O44: 255.3 | P44: 256.9 | Q44: =AVERAGE(M44:P44) -> 253.625 | R44: =IF(G44>0,(+G44+(L44*2)+(Q44*3))/6,IF(L44>0,((L44*2)+(Q44*3))/5,Q44)) -> 244.5375 | T44: =+R44/$R$265 -> 0.0013023905 | V44: =+claims!D44 -> 0 | W44: =+claims!E44 -> 1 | X44: =+claims!F44 -> 1 | Z44: =IF(G44>100,IF(V44<1,0,+V44/G44),IF(V44<1,0,+V44/100)) -> 0 | AA44: =IF(L44>100,IF(W44<1,0,+W44/L44),IF(W44<1,0,+W44/100)) -> 0.0040954234 | AB44: =IF(Q44>100,IF(X44<1,0,+X44/Q44),IF(X44<1,0,+X44/100)) -> 0.003942829 | AD44: =(+Z44+(AA44*2)+(AB44*3))/6 -> 0.0033365556
A45: A320 | B45: Texas Workforce Commission | C45: 4674 | D45: 4655.7 | E45: 4761.1 | F45: 4710.5 | G45: =AVERAGE(C45:F45) -> 4700.325 | H45: 4670.5 | I45: 4671.8 | J45: 4675.5 | K45: 4701.2 | L45: =AVERAGE(H45:K45) -> 4679.75 | M45: 4673.3 | N45: 4674.1 | O45: 4643.8 | P45: 4654.1 | Q45: =AVERAGE(M45:P45) -> 4661.325 | R45: =IF(G45>0,(+G45+(L45*2)+(Q45*3))/6,IF(L45>0,((L45*2)+(Q45*3))/5,Q45)) -> 4673.9667 | T45: =+R45/$R$265 -> 0.024893236 | V45: =+claims!D45 -> 25 | W45: =+claims!E45 -> 28 | X45: =+claims!F45 -> 29 | Z45: =IF(G45>100,IF(V45<1,0,+V45/G45),IF(V45<1,0,+V45/100)) -> 0.0053187811 | AA45: =IF(L45>100,IF(W45<1,0,+W45/L45),IF(W45<1,0,+W45/100)) -> 0.0059832256 | AB45: =IF(Q45>100,IF(X45<1,0,+X45/Q45),IF(X45<1,0,+X45/100)) -> 0.006221407 | AD45: =(+Z45+(AA45*2)+(AB45*3))/6 -> 0.0059915756
A46: A326 | B46: Texas Emergency Services Retirement System | C46: 9 | D46: 6 | E46: 7 | F46: 9 | G46: =AVERAGE(C46:F46) -> 7.75 | H46: 9 | I46: 9 | J46: 8 | K46: 8 | L46: =AVERAGE(H46:K46) -> 8.5 | M46: 9 | N46: 8 | O46: 8 | P46: 9 | Q46: =AVERAGE(M46:P46) -> 8.5 | R46: =IF(G46>0,(+G46+(L46*2)+(Q46*3))/6,IF(L46>0,((L46*2)+(Q46*3))/5,Q46)) -> 8.375 | T46: =+R46/$R$265 -> 4.4604694e-05 | V46: =+claims!D46 -> 0 | W46: =+claims!E46 -> 0 | X46: =+claims!F46 -> 0 | Z46: =IF(G46>100,IF(V46<1,0,+V46/G46),IF(V46<1,0,+V46/100)) -> 0 | AA46: =IF(L46>100,IF(W46<1,0,+W46/L46),IF(W46<1,0,+W46/100)) -> 0 | AB46: =IF(Q46>100,IF(X46<1,0,+X46/Q46),IF(X46<1,0,+X46/100)) -> 0 | AD46: =(+Z46+(AA46*2)+(AB46*3))/6 -> 0
A47: A329 | B47: Real Estate Commission | C47: 151 | D47: 159 | E47: 157 | F47: 161 | G47: =AVERAGE(C47:F47) -> 157 | H47: 162 | I47: 163 | J47: 162 | K47: 161 | L47: =AVERAGE(H47:K47) -> 162 | M47: 158 | N47: 157 | O47: 150 | P47: 151 | Q47: =AVERAGE(M47:P47) -> 154 | R47: =IF(G47>0,(+G47+(L47*2)+(Q47*3))/6,IF(L47>0,((L47*2)+(Q47*3))/5,Q47)) -> 157.16667 | T47: =+R47/$R$265 -> 0.00083705923 | V47: =+claims!D47 -> 0 | W47: =+claims!E47 -> 0 | X47: =+claims!F47 -> 0 | Z47: =IF(G47>100,IF(V47<1,0,+V47/G47),IF(V47<1,0,+V47/100)) -> 0 | AA47: =IF(L47>100,IF(W47<1,0,+W47/L47),IF(W47<1,0,+W47/100)) -> 0 | AB47: =IF(Q47>100,IF(X47<1,0,+X47/Q47),IF(X47<1,0,+X47/100)) -> 0 | AD47: =(+Z47+(AA47*2)+(AB47*3))/6 -> 0
... A65: A451 | B65: Banking, State Department of | C65: 162.4 | D65: 166.4 | E65: 164.8 | F65: 178.1 | G65: =AVERAGE(C65:F65) -> 167.925 | H65: 171.1 | I65: 176.5 | J65: 181.8 | K65: 191.8 | L65: =AVERAGE(H65:K65) -> 180.3 | M65: 171.4 | N65: 192 | O65: 187.7 | P65: 191.8 | Q65: =AVERAGE(M65:P65) -> 185.725 | R65: =IF(G65>0,(+G65+(L65*2)+(Q65*3))/6,IF(L65>0,((L65*2)+(Q65*3))/5,Q65)) -> 180.95 | T65: =+R65/$R$265 -> 0.00096372768 | V65: =+claims!D65 -> 0 | W65: =+claims!E65 -> 0 | X65: =+claims!F65 -> 1 | Z65: =IF(G65>100,IF(V65<1,0,+V65/G65),IF(V65<1,0,+V65/100)) -> 0 | AA65: =IF(L65>100,IF(W65<1,0,+W65/L65),IF(W65<1,0,+W65/100)) -> 0 | AB65: =IF(Q65>100,IF(X65<1,0,+X65/Q65),IF(X65<1,0,+X65/100)) -> 0.0053843048 | AD65: =(+Z65+(AA65*2)+(AB65*3))/6 -> 0.0026921524
A66: A452 | B66: Licensing and Regulation, Dept. of | C66: 764.2 | D66: 766.5 | E66: 770.6 | F66: 789.6 | G66: =AVERAGE(C66:F66) -> 772.725 | H66: 793.9 | I66: 804 | J66: 804 | K66: 815.6 | L66: =AVERAGE(H66:K66) -> 804.375 | M66: =300.9+518.7 -> 819.6 | N66: =298.6+530.8 -> 829.4 | O66: =536.3+297.1 -> 833.4 | P66: =290.1+537.2 -> 827.3 | Q66: =AVERAGE(M66:P66) -> 827.425 | R66: =IF(G66>0,(+G66+(L66*2)+(Q66*3))/6,IF(L66>0,((L66*2)+(Q66*3))/5,Q66)) -> 810.625 | T66: =+R66/$R$265 -> 0.0043173349 | V66: =+claims!D66 -> 7 | W66: =+claims!E66 -> 5 | X66: =+claims!F66 -> 3 | Z66: =IF(G66>100,IF(V66<1,0,+V66/G66),IF(V66<1,0,+V66/100)) -> 0.0090588502 | AA66: =IF(L66>100,IF(W66<1,0,+W66/L66),IF(W66<1,0,+W66/100)) -> 0.0062160062 | AB66: =IF(Q66>100,IF(X66<1,0,+X66/Q66),IF(X66<1,0,+X66/100)) -> 0.0036257063 | AD66: =(+Z66+(AA66*2)+(AB66*3))/6 -> 0.0053946636
A67: A454 | B67: Insurance, Department of | C67: 1182.9 | D67: 1189.2 | E67: 1214.8 | F67: 1229.6 | G67: =AVERAGE(C67:F67) -> 1204.125 | H67: 1227.4 | I67: 1234.5 | J67: 1226.8 | K67: 1233.2 | L67: =AVERAGE(H67:K67) -> 1230.475 | M67: 1238.3 | N67: 1237.7 | O67: 1236.8 | P67: 1223.5 | Q67: =AVERAGE(M67:P67) -> 1234.075 | R67: =IF(G67>0,(+G67+(L67*2)+(Q67*3))/6,IF(L67>0,((L67*2)+(Q67*3))/5,Q67)) -> 1227.8833 | T67: =+R67/$R$265 -> 0.0065396251 | V67: =+claims!D67 -> 8 | W67: =+claims!E67 -> 3 | X67: =+claims!F67 -> 8 | Z67: =IF(G67>100,IF(V67<1,0,+V67/G67),IF(V67<1,0,+V67/100)) -> 0.0066438285 | AA67: =IF(L67>100,IF(W67<1,0,+W67/L67),IF(W67<1,0,+W67/100)) -> 0.0024380829 | AB67: =IF(Q67>100,IF(X67<1,0,+X67/Q67),IF(X67<1,0,+X67/100)) -> 0.0064825882 | AD67: =(+Z67+(AA67*2)+(AB67*3))/6 -> 0.0051612931
A68: A455 | B68: Railroad Commission | C68: 938 | D68: 953 | E68: 963.4 | F68: 985.3 | G68: =AVERAGE(C68:F68) -> 959.925 | H68: 993 | I68: 1005.7 | J68: 1013 | K68: 1029.6 | L68: =AVERAGE(H68:K68) -> 1010.325 | M68: 1047 | N68: 1055.3 | O68: 1058.9 | P68: 1039.5 | Q68: =AVERAGE(M68:P68) -> 1050.175 | R68: =IF(G68>0,(+G68+(L68*2)+(Q68*3))/6,IF(L68>0,((L68*2)+(Q68*3))/5,Q68)) -> 1021.85 | T68: =+R68/$R$265 -> 0.0054423052 | V68: =+claims!D68 -> 2 | W68: =+claims!E68 -> 3 | X68: =+claims!F68 -> 1 | Z68: =IF(G68>100,IF(V68<1,0,+V68/G68),IF(V68<1,0,+V68/100)) -> 0.0020834961 | AA68: =IF(L68>100,IF(W68<1,0,+W68/L68),IF(W68<1,0,+W68/100)) -> 0.0029693415 | AB68: =IF(Q68>100,IF(X68<1,0,+X68/Q68),IF(X68<1,0,+X68/100)) -> 0.00095222225 | AD68: =(+Z68+(AA68*2)+(AB68*3))/6 -> 0.001813141
A69: A456 | B69: Plumbing Examiners, State Board of | C69: 36.4 | D69: 36.4 | E69: 34 | F69: 30.7 | G69: =AVERAGE(C69:F69) -> 34.375 | H69: 36.9 | I69: 36.4 | J69: 38.6 | K69: 39.8 | L69: =AVERAGE(H69:K69) -> 37.925 | M69: 41.6 | N69: 42.9 | O69: 43.5 | P69: 42.1 | Q69: =AVERAGE(M69:P69) -> 42.525 | R69: =IF(G69>0,(+G69+(L69*2)+(Q69*3))/6,IF(L69>0,((L69*2)+(Q69*3))/5,Q69)) -> 39.633333 | T69: =+R69/$R$265 -> 0.0002110845 | V69: =+claims!D69 -> 0 | W69: =+claims!E69 -> 0 | X69: =+claims!F69 -> 0 | Z69: =IF(G69>100,IF(V69<1,0,+V69/G69),IF(V69<1,0,+V69/100)) -> 0 | AA69: =IF(L69>100,IF(W69<1,0,+W69/L69),IF(W69<1,0,+W69/100)) -> 0 | AB69: =IF(Q69>100,IF(X69<1,0,+X69/Q69),IF(X69<1,0,+X69/100)) -> 0 | AD69: =(+Z69+(AA69*2)+(AB69*3))/6 -> 0
A70: A457 | B70: Public Accountancy, State Board of | C70: 38 | D70: 36.3 | E70: 36.2 | F70: 37.4 | G70: =AVERAGE(C70:F70) -> 36.975 | H70: 35.5 | I70: 36.4 | J70: 35.5 | K70: 35.5 | L70: =AVERAGE(H70:K70) -> 35.725 | M70: 36.7 | N70: 37.4 | O70: 37.2 | P70: 38 | Q70: =AVERAGE(M70:P70) -> 37.325 | R70: =IF(G70>0,(+G70+(L70*2)+(Q70*3))/6,IF(L70>0,((L70*2)+(Q70*3))/5,Q70)) -> 36.733333 | T70: =+R70/$R$265 -> 0.00019563929 | V70: =+claims!D70 -> 1 | W70: =+claims!E70 -> 0 | X70: =+claims!F70 -> 0 | Z70: =IF(G70>100,IF(V70<1,0,+V70/G70),IF(V70<1,0,+V70/100)) -> 0.01 | AA70: =IF(L70>100,IF(W70<1,0,+W70/L70),IF(W70<1,0,+W70/100)) -> 0 | AB70: =IF(Q70>100,IF(X70<1,0,+X70/Q70),IF(X70<1,0,+X70/100)) -> 0 | AD70: =(+Z70+(AA70*2)+(AB70*3))/6 -> 0.0016666667
A71: A458 | B71: Alcoholic Beverage Commission | C71: 528.2 | D71: 517.9 | E71: 512.6 | F71: 534.7 | G71: =AVERAGE(C71:F71) -> 523.35 | H71: 529.8 | I71: 532.6 | J71: 528.9 | K71: 535.3 | L71: =AVERAGE(H71:K71) -> 531.65 | M71: 532 | N71: 529.8 | O71: 527.6 | P71: 540.5 | Q71: =AVERAGE(M71:P71) -> 532.475 | R71: =IF(G71>0,(+G71+(L71*2)+(Q71*3))/6,IF(L71>0,((L71*2)+(Q71*3))/5,Q71)) -> 530.67917 | T71: =+R71/$R$265 -> 0.002826362 | V71: =+claims!D71 -> 12 | W71: =+claims!E71 -> 13 | X71: =+claims!F71 -> 12 | Z71: =IF(G71>100,IF(V71<1,0,+V71/G71),IF(V71<1,0,+V71/100)) -> 0.022929206 | AA71: =IF(L71>100,IF(W71<1,0,+W71/L71),IF(W71<1,0,+W71/100)) -> 0.024452177 | AB71: =IF(Q71>100,IF(X71<1,0,+X71/Q71),IF(X71<1,0,+X71/100)) -> 0.022536269 | AD71: =(+Z71+(AA71*2)+(AB71*3))/6 -> 0.023240395
A72: A459 | B72: Architectural Examiners, Board of | C72: 20 | D72: 20 | E72: 20 | F72: 20 | G72: =AVERAGE(C72:F72) -> 20 | H72: 20 | I72: 20 | J72: 18 | K72: 19 | L72: =AVERAGE(H72:K72) -> 19.25 | M72: 20 | N72: 20 | O72: 20 | P72: 20 | Q72: =AVERAGE(M72:P72) -> 20 | R72: =IF(G72>0,(+G72+(L72*2)+(Q72*3))/6,IF(L72>0,((L72*2)+(Q72*3))/5,Q72)) -> 19.75 | T72: =+R72/$R$265 -> 0.00010518719 | V72: =+claims!D72 -> 0 | W72: =+claims!E72 -> 0 | X72: =+claims!F72 -> 0 | Z72: =IF(G72>100,IF(V72<1,0,+V72/G72),IF(V72<1,0,+V72/100)) -> 0 | AA72: =IF(L72>100,IF(W72<1,0,+W72/L72),IF(W72<1,0,+W72/100)) -> 0 | AB72: =IF(Q72>100,IF(X72<1,0,+X72/Q72),IF(X72<1,0,+X72/100)) -> 0 | AD72: =(+Z72+(AA72*2)+(AB72*3))/6 -> 0
A73: A460 | B73: Professional Engineers and Land Surveyors, Texas Board of | C73: 36 | D73: 36 | E73: 34 | F73: 34 | G73: =AVERAGE(C73:F73) -> 35 | H73: 31 | I73: 33 | J73: 34 | K73: 35 | L73: =AVERAGE(H73:K73) -> 33.25 | M73: 31 | N73: 31 | O73: 31 | P73: 32 | Q73: =AVERAGE(M73:P73) -> 31.25 | R73: =IF(G73>0,(+G73+(L73*2)+(Q73*3))/6,IF(L73>0,((L73*2)+(Q73*3))/5,Q73)) -> 32.541667 | T73: =+R73/$R$265 -> 0.00017331476 | V73: =+claims!D73 -> 0 | W73: =+claims!E73 -> 0 | X73: =+claims!F73 -> 0 | Z73: =IF(G73>100,IF(V73<1,0,+V73/G73),IF(V73<1,0,+V73/100)) -> 0 | AA73: =IF(L73>100,IF(W73<1,0,+W73/L73),IF(W73<1,0,+W73/100)) -> 0 | AB73: =IF(Q73>100,IF(X73<1,0,+X73/Q73),IF(X73<1,0,+X73/100)) -> 0 | AD73: =(+Z73+(AA73*2)+(AB73*3))/6 -> 0
A74: A466 | B74: Consumer Credit Commissioner, Office of | C74: 69.5 | D74: 71.1 | E74: 70 | F74: 71 | G74: =AVERAGE(C74:F74) -> 70.4 | H74: 69 | I74: 68.2 | J74: 66 | K74: 67.3 | L74: =AVERAGE(H74:K74) -> 67.625 | M74: 68.9 | N74: 67 | O74: 65.2 | P74: 67.4 | Q74: =AVERAGE(M74:P74) -> 67.125 | R74: =IF(G74>0,(+G74+(L74*2)+(Q74*3))/6,IF(L74>0,((L74*2)+(Q74*3))/5,Q74)) -> 67.8375 | T74: =+R74/$R$265 -> 0.00036129802 | V74: =+claims!D74 -> 0 | W74: =+claims!E74 -> 0 | X74: =+claims!F74 -> 0 | Z74: =IF(G74>100,IF(V74<1,0,+V74/G74),IF(V74<1,0,+V74/100)) -> 0 | AA74: =IF(L74>100,IF(W74<1,0,+W74/L74),IF(W74<1,0,+W74/100)) -> 0 | AB74: =IF(Q74>100,IF(X74<1,0,+X74/Q74),IF(X74<1,0,+X74/100)) -> 0 | AD74: =(+Z74+(AA74*2)+(AB74*3))/6 -> 0
A75: A469 | B75: Credit Union Department | C75: 31 | D75: 31 | E75: 32 | F75: 33 | G75: =AVERAGE(C75:F75) -> 31.75 | H75: 32 | I75: 34 | J75: 33 | K75: 34 | L75: =AVERAGE(H75:K75) -> 33.25 | M75: 33 | N75: 32 | O75: 32 | P75: 33 | Q75: =AVERAGE(M75:P75) -> 32.5 | R75: =IF(G75>0,(+G75+(L75*2)+(Q75*3))/6,IF(L75>0,((L75*2)+(Q75*3))/5,Q75)) -> 32.625 | T75: =+R75/$R$265 -> 0.00017375858 | V75: =+claims!D75 -> 0 | W75: =+claims!E75 -> 0 | X75: =+claims!F75 -> 0 | Z75: =IF(G75>100,IF(V75<1,0,+V75/G75),IF(V75<1,0,+V75/100)) -> 0 | AA75: =IF(L75>100,IF(W75<1,0,+W75/L75),IF(W75<1,0,+W75/100)) -> 0 | AB75: =IF(Q75>100,IF(X75<1,0,+X75/Q75),IF(X75<1,0,+X75/100)) -> 0 | AD75: =(+Z75+(AA75*2)+(AB75*3))/6 -> 0
...

Sheet claims
I1: raw | L1: modified | P1: adjusted | T1: IFR portion of | X1: With
A2: Agency | D2: FY2023 | E2: FY2024 | F2: FY2025 | I2: average | J2: weighted | K2: IFR | L2: average | M2: cap | P2: average | R2: Assessment | T2: Assessment | V2: % of | X2: 0.02
A3: Code | B3: Name | D3: claims | E3: claims | F3: claims | G3: total | I3: claims | J3: IFR avg. | K3: modifier | L3: claims | M3: adjuster | P3: claims | R3: Percentage | T3: Amount | V3: Payroll | X3: Limit | Z3: Difference
A5: A101 | B5: Texas Senate | D5: 0 | E5: 0 | F5: 1 | G5: =SUM(D5:F5) -> 1 | I5: =AVERAGE(D5:F5) -> 0.33333333 | J5: =+IFR!AD5 -> 0.00088750832 | K5: =IF(+J5<$E$268,$I$268,IF(J5>$E$270,$I$270,$I$269)) -> 0.95 | L5: =+I5*K5 -> 0.31666667 | M5: 1 | N5: 1 | P5: =+L5*M5*N5 -> 0.31666667 | R5: =+P5/$P$265 -> 5.4953478e-05 | T5: =+R5*(assessment!$J$273*assessment!$E$3) -> 491.30932 | V5: =+T5/payroll!F5 -> 1.1590497e-05 | X5: =IF(V5<$X$2,T5, +payroll!F5 * $X$2) -> 491.30932 | Z5: =+T5-X5 -> 0 | AB5: =+X5/T5 -> 1
A6: A102 | B6: Texas House of Representatives | D6: 1 | E6: 1 | F6: 4 | G6: =SUM(D6:F6) -> 6 | I6: =AVERAGE(D6:F6) -> 2 | J6: =+IFR!AD6 -> 0.0028778964 | K6: =IF(+J6<$E$268,$I$268,IF(J6>$E$270,$I$270,$I$269)) -> 0.95 | L6: =+I6*K6 -> 1.9 | M6: 1 | N6: 1 | P6: =+L6*M6*N6 -> 1.9 | R6: =+P6/$P$265 -> 0.00032972087 | T6: =+R6*(assessment!$J$273*assessment!$E$3) -> 2947.8559 | V6: =+T6/payroll!F6 -> 6.4391112e-05 | X6: =IF(V6<$X$2,T6, +payroll!F6 * $X$2) -> 2947.8559 | Z6: =+T6-X6 -> 0 | AB6: =+X6/T6 -> 1
A7: A103 | B7: Legislative Council | D7: 0 | E7: 0 | F7: 1 | G7: =SUM(D7:F7) -> 1 | I7: =AVERAGE(D7:F7) -> 0.33333333 | J7: =+IFR!AD7 -> 0.0011759172 | K7: =IF(+J7<$E$268,$I$268,IF(J7>$E$270,$I$270,$I$269)) -> 0.95 | L7: =+I7*K7 -> 0.31666667 | M7: 1 | N7: 1 | P7: =+L7*M7*N7 -> 0.31666667 | R7: =+P7/$P$265 -> 5.4953478e-05 | T7: =+R7*(assessment!$J$273*assessment!$E$3) -> 491.30932 | V7: =+T7/payroll!F7 -> 1.3768374e-05 | X7: =IF(V7<$X$2,T7, +payroll!F7 * $X$2) -> 491.30932 | Z7: =+T7-X7 -> 0 | AB7: =+X7/T7 -> 1
A8: A104 | B8: Legislative Budget Board | D8: 0 | E8: 0 | F8: 0 | G8: =SUM(D8:F8) -> 0 | I8: =AVERAGE(D8:F8) -> 0 | J8: =+IFR!AD8 -> 0 | K8: =IF(+J8<$E$268,$I$268,IF(J8>$E$270,$I$270,$I$269)) -> 0.95 | L8: =+I8*K8 -> 0 | M8: 1 | N8: 1 | P8: =+L8*M8*N8 -> 0 | R8: =+P8/$P$265 -> 0 | T8: =+R8*(assessment!$J$273*assessment!$E$3) -> 0 | V8: =+T8/payroll!F8 -> 0 | X8: =IF(V8<$X$2,T8, +payroll!F8 * $X$2) -> 0 | Z8: =+T8-X8 -> 0 | AB8: =+X8/T8 -> #DIV/0!
A9: A105 | B9: Legislative Reference Library | D9: 0 | E9: 0 | F9: 0 | G9: =SUM(D9:F9) -> 0 | I9: =AVERAGE(D9:F9) -> 0 | J9: =+IFR!AD9 -> 0 | K9: =IF(+J9<$E$268,$I$268,IF(J9>$E$270,$I$270,$I$269)) -> 0.95 | L9: =+I9*K9 -> 0 | M9: 1 | N9: 1 | P9: =+L9*M9*N9 -> 0 | R9: =+P9/$P$265 -> 0 | T9: =+R9*(assessment!$J$273*assessment!$E$3) -> 0 | V9: =+T9/payroll!F9 -> 0 | X9: =IF(V9<$X$2,T9, +payroll!F9 * $X$2) -> 0 | Z9: =+T9-X9 -> 0 | AB9: =+X9/T9 -> #DIV/0!
A10: A116 | B10: Sunset Advisory Commission | D10: 0 | E10: 0 | F10: 0 | G10: =SUM(D10:F10) -> 0 | I10: =AVERAGE(D10:F10) -> 0 | J10: =+IFR!AD10 -> 0 | K10: =IF(+J10<$E$268,$I$268,IF(J10>$E$270,$I$270,$I$269)) -> 0.95 | L10: =+I10*K10 -> 0 | M10: 1 | N10: 1 | P10: =+L10*M10*N10 -> 0 | R10: =+P10/$P$265 -> 0 | T10: =+R10*(assessment!$J$273*assessment!$E$3) -> 0 | V10: =+T10/payroll!F10 -> 0 | X10: =IF(V10<$X$2,T10, +payroll!F10 * $X$2) -> 0 | Z10: =+T10-X10 -> 0 | AB10: =+X10/T10 -> #DIV/0!
A11: A201 | B11: Supreme Court of Texas | D11: 1 | E11: 0 | F11: 0 | G11: =SUM(D11:F11) -> 1 | I11: =AVERAGE(D11:F11) -> 0.33333333 | J11: =+IFR!AD11 -> 0.0016666667 | K11: =IF(+J11<$E$268,$I$268,IF(J11>$E$270,$I$270,$I$269)) -> 0.95 | L11: =+I11*K11 -> 0.31666667 | M11: 1 | N11: 1 | P11: =+L11*M11*N11 -> 0.31666667 | R11: =+P11/$P$265 -> 5.4953478e-05 | T11: =+R11*(assessment!$J$273*assessment!$E$3) -> 491.30932 | V11: =+T11/payroll!F11 -> 6.1405846e-05 | X11: =IF(V11<$X$2,T11, +payroll!F11 * $X$2) -> 491.30932 | Z11: =+T11-X11 -> 0 | AB11: =+X11/T11 -> 1
A12: A203 | B12: Law Examiners, Board of | D12: 0 | E12: 0 | F12: 0 | G12: =SUM(D12:F12) -> 0 | I12: =AVERAGE(D12:F12) -> 0 | J12: =+IFR!AD12 -> 0 | K12: =IF(+J12<$E$268,$I$268,IF(J12>$E$270,$I$270,$I$269)) -> 0.95 | L12: =+I12*K12 -> 0 | M12: 1 | N12: 1 | P12: =+L12*M12*N12 -> 0 | R12: =+P12/$P$265 -> 0 | T12: =+R12*(assessment!$J$273*assessment!$E$3) -> 0 | V12: =+T12/payroll!F12 -> 0 | X12: =IF(V12<$X$2,T12, +payroll!F12 * $X$2) -> 0 | Z12: =+T12-X12 -> 0 | AB12: =+X12/T12 -> #DIV/0!
A13: A211 | B13: Court of Criminal Appeals | D13: 0 | E13: 0 | F13: 0 | G13: =SUM(D13:F13) -> 0 | I13: =AVERAGE(D13:F13) -> 0 | J13: =+IFR!AD13 -> 0 | K13: =IF(+J13<$E$268,$I$268,IF(J13>$E$270,$I$270,$I$269)) -> 0.95 | L13: =+I13*K13 -> 0 | M13: 1 | N13: 1 | P13: =+L13*M13*N13 -> 0 | R13: =+P13/$P$265 -> 0 | T13: =+R13*(assessment!$J$273*assessment!$E$3) -> 0 | V13: =+T13/payroll!F13 -> 0 | X13: =IF(V13<$X$2,T13, +payroll!F13 * $X$2) -> 0 | Z13: =+T13-X13 -> 0 | AB13: =+X13/T13 -> #DIV/0!
A14: A212 | B14: Court Administration, Office of | D14: 0 | E14: 0 | F14: 0 | G14: =SUM(D14:F14) -> 0 | I14: =AVERAGE(D14:F14) -> 0 | J14: =+IFR!AD14 -> 0 | K14: =IF(+J14<$E$268,$I$268,IF(J14>$E$270,$I$270,$I$269)) -> 0.95 | L14: =+I14*K14 -> 0 | M14: 1 | N14: 1 | P14: =+L14*M14*N14 -> 0 | R14: =+P14/$P$265 -> 0 | T14: =+R14*(assessment!$J$273*assessment!$E$3) -> 0 | V14: =+T14/payroll!F14 -> 0 | X14: =IF(V14<$X$2,T14, +payroll!F14 * $X$2) -> 0 | Z14: =+T14-X14 -> 0 | AB14: =+X14/T14 -> #DIV/0!
A15: A213 | B15: Prosecuting Attorney, State | D15: 0 | E15: 0 | F15: 0 | G15: =SUM(D15:F15) -> 0 | I15: =AVERAGE(D15:F15) -> 0 | J15: =+IFR!AD15 -> 0 | K15: =IF(+J15<$E$268,$I$268,IF(J15>$E$270,$I$270,$I$269)) -> 0.95 | L15: =+I15*K15 -> 0 | M15: 1 | N15: 1 | P15: =+L15*M15*N15 -> 0 | R15: =+P15/$P$265 -> 0 | T15: =+R15*(assessment!$J$273*assessment!$E$3) -> 0 | V15: =+T15/payroll!F15 -> 0 | X15: =IF(V15<$X$2,T15, +payroll!F15 * $X$2) -> 0 | Z15: =+T15-X15 -> 0 | AB15: =+X15/T15 -> #DIV/0!
A16: A215 | B16: Office of Capital and Forensic Writs | D16: 0 | E16: 0 | F16: 2 | G16: =SUM(D16:F16) -> 2 | I16: =AVERAGE(D16:F16) -> 0.66666667 | J16: =+IFR!AD16 -> 0.01 | K16: =IF(+J16<$E$268,$I$268,IF(J16>$E$270,$I$270,$I$269)) -> 0.95 | L16: =+I16*K16 -> 0.63333333 | M16: 1 | N16: 1 | P16: =+L16*M16*N16 -> 0.63333333 | R16: =+P16/$P$265 -> 0.00010990696 | T16: =+R16*(assessment!$J$273*assessment!$E$3) -> 982.61864 | V16: =+T16/payroll!F16 -> 0.00038390461 | X16: =IF(V16<$X$2,T16, +payroll!F16 * $X$2) -> 982.61864 | Z16: =+T16-X16 -> 0 | AB16: =+X16/T16 -> 1
... A30: A234 | B30: Court of Civil Appeals - Fourteenth District | D30: 0 | E30: 0 | F30: 0 | G30: =SUM(D30:F30) -> 0 | I30: =AVERAGE(D30:F30) -> 0 | J30: =+IFR!AD30 -> 0 | K30: =IF(+J30<$E$268,$I$268,IF(J30>$E$270,$I$270,$I$269)) -> 0.95 | L30: =+I30*K30 -> 0 | M30: 1 | N30: 1 | P30: =+L30*M30*N30 -> 0 | R30: =+P30/$P$265 -> 0 | T30: =+R30*(assessment!$J$273*assessment!$E$3) -> 0 | V30: =+T30/payroll!F30 -> 0 | X30: =IF(V30<$X$2,T30, +payroll!F30 * $X$2) -> 0 | Z30: =+T30-X30 -> 0 | AB30: =+X30/T30 -> #DIV/0!
A31: A235 | B31: Court of Civil Appeals - Fifteenth District | D31: 0 | E31: 0 | F31: 0 | G31: =SUM(D31:F31) -> 0 | I31: =AVERAGE(D31:F31) -> 0 | J31: =+IFR!AD31 -> 0 | K31: =IF(+J31<$E$268,$I$268,IF(J31>$E$270,$I$270,$I$269)) -> 0.95 | L31: =+I31*K31 -> 0 | M31: 1 | P31: =+L31*M31*N31 -> 0 | R31: =+P31/$P$265 -> 0 | T31: =+R31*(assessment!$J$273*assessment!$E$3) -> 0 | V31: =+T31/payroll!F31 -> 0 | X31: =IF(V31<$X$2,T31, +payroll!F31 * $X$2) -> 0 | Z31: =+T31-X31 -> 0
A32: A241 | B32: District Courts (Comptroller's Jud. Section) | D32: 0 | E32: 0 | F32: 0 | G32: =SUM(D32:F32) -> 0 | I32: =AVERAGE(D32:F32) -> 0 | J32: =+IFR!AD32 -> 0 | K32: =IF(+J32<$E$268,$I$268,IF(J32>$E$270,$I$270,$I$269)) -> 0.95 | L32: =+I32*K32 -> 0 | M32: 1 | N32: 1 | P32: =+L32*M32*N32 -> 0 | R32: =+P32/$P$265 -> 0 | T32: =+R32*(assessment!$J$273*assessment!$E$3) -> 0 | V32: =+T32/payroll!F32 -> 0 | X32: =IF(V32<$X$2,T32, +payroll!F32 * $X$2) -> 0 | Z32: =+T32-X32 -> 0 | AB32: =+X32/T32 -> #DIV/0!
A33: A242 | B33: Judicial Conduct, State Commission on | D33: 0 | E33: 0 | F33: 0 | G33: =SUM(D33:F33) -> 0 | I33: =AVERAGE(D33:F33) -> 0 | J33: =+IFR!AD33 -> 0 | K33: =IF(+J33<$E$268,$I$268,IF(J33>$E$270,$I$270,$I$269)) -> 0.95 | L33: =+I33*K33 -> 0 | M33: 1 | N33: 1 | P33: =+L33*M33*N33 -> 0 | R33: =+P33/$P$265 -> 0 | T33: =+R33*(assessment!$J$273*assessment!$E$3) -> 0 | V33: =+T33/payroll!F33 -> 0 | X33: =IF(V33<$X$2,T33, +payroll!F33 * $X$2) -> 0 | Z33: =+T33-X33 -> 0 | AB33: =+X33/T33 -> #DIV/0!
A34: A243 | B34: Law Library, State | D34: 0 | E34: 0 | F34: 0 | G34: =SUM(D34:F34) -> 0 | I34: =AVERAGE(D34:F34) -> 0 | J34: =+IFR!AD34 -> 0 | K34: =IF(+J34<$E$268,$I$268,IF(J34>$E$270,$I$270,$I$269)) -> 0.95 | L34: =+I34*K34 -> 0 | M34: 1 | N34: 1 | P34: =+L34*M34*N34 -> 0 | R34: =+P34/$P$265 -> 0 | T34: =+R34*(assessment!$J$273*assessment!$E$3) -> 0 | V34: =+T34/payroll!F34 -> 0 | X34: =IF(V34<$X$2,T34, +payroll!F34 * $X$2) -> 0 | Z34: =+T34-X34 -> 0 | AB34: =+X34/T34 -> #DIV/0!
A35: A301 | B35: Governor's Office | D35: 0 | E35: 0 | F35: 3 | G35: =SUM(D35:F35) -> 3 | I35: =AVERAGE(D35:F35) -> 1 | J35: =+IFR!AD35 -> 0.0046853038 | K35: =IF(+J35<$E$268,$I$268,IF(J35>$E$270,$I$270,$I$269)) -> 0.95 | L35: =+I35*K35 -> 0.95 | M35: 1 | N35: 1 | P35: =+L35*M35*N35 -> 0.95 | R35: =+P35/$P$265 -> 0.00016486043 | T35: =+R35*(assessment!$J$273*assessment!$E$3) -> 1473.928 | V35: =+T35/payroll!F35 -> 5.0975521e-05 | X35: =IF(V35<$X$2,T35, +payroll!F35 * $X$2) -> 1473.928 | Z35: =+T35-X35 -> 0 | AB35: =+X35/T35 -> 1
A36: A302 | B36: Attorney General, Office of the | D36: 8 | E36: 16 | F36: 10 | G36: =SUM(D36:F36) -> 34 | I36: =AVERAGE(D36:F36) -> 11.333333 | J36: =+IFR!AD36 -> 0.0028151541 | K36: =IF(+J36<$E$268,$I$268,IF(J36>$E$270,$I$270,$I$269)) -> 0.95 | L36: =+I36*K36 -> 10.766667 | M36: 1 | N36: 1 | P36: =+L36*M36*N36 -> 10.766667 | R36: =+P36/$P$265 -> 0.0018684182 | T36: =+R36*(assessment!$J$273*assessment!$E$3) -> 16704.517 | V36: =+T36/payroll!F36 -> 5.7185897e-05 | X36: =IF(V36<$X$2,T36, +payroll!F36 * $X$2) -> 16704.517 | Z36: =+T36-X36 -> 0 | AB36: =+X36/T36 -> 1
A37: A303 | B37: Texas Facilities Commission | D37: 14 | E37: 5 | F37: 13 | G37: =SUM(D37:F37) -> 32 | I37: =AVERAGE(D37:F37) -> 10.666667 | J37: =+IFR!AD37 -> 0.024399682 | K37: =IF(+J37<$E$268,$I$268,IF(J37>$E$270,$I$270,$I$269)) -> 0.95 | L37: =+I37*K37 -> 10.133333 | M37: 1 | N37: 1 | P37: =+L37*M37*N37 -> 10.133333 | R37: =+P37/$P$265 -> 0.0017585113 | T37: =+R37*(assessment!$J$273*assessment!$E$3) -> 15721.898 | V37: =+T37/payroll!F37 -> 0.00052340005 | X37: =IF(V37<$X$2,T37, +payroll!F37 * $X$2) -> 15721.898 | Z37: =+T37-X37 -> 0 | AB37: =+X37/T37 -> 1
