Workbook

Sheet invoices
D1: Total | H1: Previous | K1: Paid | L1: Total Previous | M1: Initial | N1: Additional
A2: Agency | D2: Assessment | F2: Assessment | H2: Payment | J2: Invoiced | K2: License | L2: Payment | M2: License's | N2: License's | O2: License | P2: License | Q2: Invoice
A3: Code | B3: Name | D3: Percentage | F3: Amount | H3: Amount | J3: Amount | K3: Fees | L3: Amount | M3: Requested | N3: Requested | O3: Fee | P3: Subtotal | Q3: Amount Due
A5: A101 | B5: Texas Senate | D5: =+assessment!H5 -> 0.0008094269 | F5: =+assessment!J5 -> 45098.963 | H5: -33831.002 | J5: =SUM(F5:H5) -> 11267.961 | K5: -450 | L5: =H5+K5 -> -34281.002 | M5: 2 | N5: 0 | O5: 225 | P5: =O5*N5 -> 0 | Q5: =P5+J5 -> 11267.961
A6: A102 | B6: Texas House of Representatives | D6: =+assessment!H6 -> 0.00093747114 | F6: =+assessment!J6 -> 52233.224 | H6: -39179.599 | J6: =SUM(F6:H6) -> 13053.625 | K6: -225 | L6: =H6+K6 -> -39404.599 | M6: 1 | N6: 1 | O6: 225 | P6: =O6*N6 -> 225 | Q6: =P6+J6 -> 13278.625
A7: A103 | B7: Legislative Council | D7: =+assessment!H7 -> 0.00060264395 | F7: =+assessment!J7 -> 33577.606 | H7: -25423.549 | J7: =SUM(F7:H7) -> 8154.0569 | K7: -450 | L7: =H7+K7 -> -25873.549 | M7: 2 | N7: 0 | O7: 225 | P7: =O7*N7 -> 0 | Q7: =P7+J7 -> 8154.0569
A8: A104 | B8: Legislative Budget Board | D8: =+assessment!H8 -> 0.00022133684 | F8: =+assessment!J8 -> 12332.259 | H8: -9250.1496 | J8: =SUM(F8:H8) -> 3082.1094 | K8: -450 | L8: =H8+K8 -> -9700.1496 | M8: 2 | N8: 0 | O8: 225 | P8: =O8*N8 -> 0 | Q8: =P8+J8 -> 3082.1094
A9: A105 | B9: Legislative Reference Library | D9: =+assessment!H9 -> 3.0840989e-05 | F9: =+assessment!J9 -> 1718.3721 | H9: -1288.9132 | J9: =SUM(F9:H9) -> 429.45891 | K9: -225 | L9: =H9+K9 -> -1513.9132 | M9: 1 | N9: 0 | O9: 225 | P9: =O9*N9 -> 0 | Q9: =P9+J9 -> 429.45891
A10: A116 | B10: Sunset Advisory Commission | D10: =+assessment!H10 -> 4.0905935e-05 | F10: =+assessment!J10 -> 2279.1623 | H10: -1709.5488 | J10: =SUM(F10:H10) -> 569.61353 | K10: -450 | L10: =H10+K10 -> -2159.5488 | M10: 2 | N10: 0 | O10: 225 | P10: =O10*N10 -> 0 | Q10: =P10+J10 -> 569.61353
A11: A201 | B11: Supreme Court of Texas | D11: =+assessment!H11 -> 0.00015979516 | F11: =+assessment!J11 -> 8903.3317 | H11: -6678.5371 | J11: =SUM(F11:H11) -> 2224.7946 | K11: -450 | L11: =H11+K11 -> -7128.5371 | M11: 2 | N11: 0 | O11: 225 | P11: =O11*N11 -> 0 | Q11: =P11+J11 -> 2224.7946
A12: A203 | B12: Law Examiners, Board of | D12: =+assessment!H12 -> 3.3957476e-05 | F12: =+assessment!J12 -> 1892.0139 | H12: -1419.1576 | J12: =SUM(F12:H12) -> 472.85627 | K12: -225 | L12: =H12+K12 -> -1644.1576 | M12: 1 | N12: 0 | O12: 225 | P12: =O12*N12 -> 0 | Q12: =P12+J12 -> 472.85627
A13: A211 | B13: Court of Criminal Appeals | D13: =+assessment!H13 -> 0.00012457499 | F13: =+assessment!J13 -> 6940.9641 | H13: -5206.2602 | J13: =SUM(F13:H13) -> 1734.7039 | K13: -450 | L13: =H13+K13 -> -5656.2602 | M13: 2 | N13: 0 | O13: 225 | P13: =O13*N13 -> 0 | Q13: =P13+J13 -> 1734.7039
A14: A212 | B14: Court Administration, Office of | D14: =+assessment!H14 -> 0.0004577691 | F14: =+assessment!J14 -> 25505.591 | H14: -19131.324 | J14: =SUM(F14:H14) -> 6374.267 | K14: -225 | L14: =H14+K14 -> -19356.324 | M14: 1 | N14: 0 | O14: 225 | P14: =O14*N14 -> 0 | Q14: =P14+J14 -> 6374.267
A15: A213 | B15: Prosecuting Attorney, State | D15: =+assessment!H15 -> 7.7331514e-06 | F15: =+assessment!J15 -> 430.86919 | H15: -323.18522 | J15: =SUM(F15:H15) -> 107.68397 | K15: -450 | L15: =H15+K15 -> -773.18522 | M15: 2 | N15: 0 | O15: 225 | P15: =O15*N15 -> 0 | Q15: =P15+J15 -> 107.68397
A16: A215 | B16: Office of Capital and Forensic Writs | D16: =+assessment!H16 -> 3.4859771e-05 | F16: =+assessment!J16 -> 1942.2872 | H16: -1456.8663 | J16: =SUM(F16:H16) -> 485.42094 | K16: -225 | L16: =H16+K16 -> -1681.8663 | M16: 1 | N16: 0 | O16: 225 | P16: =O16*N16 -> 0 | Q16: =P16+J16 -> 485.42094
... A213: C152 | B213: Lubbock | D213: =+assessment!H213 -> 0.00019821193 | F213: =+assessment!J213 -> 11043.805 | H213: -8285.6401 | J213: =SUM(F213:H213) -> 2758.1647 | K213: -450 | L213: =H213+K213 -> -8735.6401 | M213: 2 | N213: 0 | O213: 225 | P213: =O213*N213 -> 0 | Q213: =P213+J213 -> 2758.1647
A214: C155 | B214: McLennan | D214: =+assessment!H217 -> 0.00010133287 | F214: =+assessment!J217 -> 5645.9792 | H214: -4235.7197 | J214: =SUM(F214:H214) -> 1410.2595 | K214: -450 | L214: =H214+K214 -> -4685.7197 | M214: 2 | N214: 0 | O214: 225 | P214: =O214*N214 -> 0 | Q214: =P214+J214 -> 1410.2595
A215: C159 | B215: Maverick | D215: =+assessment!H215 -> 1.2632875e-05 | F215: =+assessment!J215 -> 703.86781 | H215: -527.95579 | J215: =SUM(F215:H215) -> 175.91203 | K215: -225 | L215: =H215+K215 -> -752.95579 | M215: 1 | N215: 0 | O215: 225 | P215: =O215*N215 -> 0 | Q215: =P215+J215 -> 175.91203
A216: C160 | B216: McCulloch | D216: =+assessment!H216 -> 5.3383552e-06 | F216: =+assessment!J216 -> 297.43796 | H216: -223.10169 | J216: =SUM(F216:H216) -> 74.336273 | K216: -225 | L216: =H216+K216 -> -448.10169 | M216: 1 | N216: 0 | O216: 225 | P216: =O216*N216 -> 0 | Q216: =P216+J216 -> 74.336273
A217: C161 | B217: Matagorda | D217: =+assessment!H214 -> 2.7209526e-05 | F217: =+assessment!J214 -> 1516.0373 | H217: -1137.1469 | J217: =SUM(F217:H217) -> 378.89046 | K217: -225 | L217: =H217+K217 -> -1362.1469 | M217: 1 | N217: 0 | O217: 225 | P217: =O217*N217 -> 0 | Q217: =P217+J217 -> 378.89046
A218: C165 | B218: Midland | D218: =+assessment!H218 -> 0.00033096709 | F218: =+assessment!J218 -> 18440.545 | H218: -13842.343 | J218: =SUM(F218:H218) -> 4598.2013 | K218: -450 | L218: =H218+K218 -> -14292.343 | M218: 2 | N218: 0 | O218: 225 | P218: =O218*N218 -> 0 | Q218: =P218+J218 -> 4598.2013
A219: C166 | B219: Milam | D219: =+assessment!H219 -> 7.9010863e-06 | F219: =+assessment!J219 -> 440.22604 | H219: -330.20398 | J219: =SUM(F219:H219) -> 110.02207 | K219: -225 | L219: =H219+K219 -> -555.20398 | M219: 1 | N219: 0 | O219: 225 | P219: =O219*N219 -> 0 | Q219: =P219+J219 -> 110.02207
A220: C169 | B220: Montague | D220: =+assessment!H220 -> 9.1420477e-06 | F220: =+assessment!J220 -> 509.36888 | H220: -382.06638 | J220: =SUM(F220:H220) -> 127.3025 | K220: -225 | L220: =H220+K220 -> -607.06638 | M220: 1 | N220: 0 | O220: 225 | P220: =O220*N220 -> 0 | Q220: =P220+J220 -> 127.3025
A221: C170 | B221: Montgomery | D221: =+assessment!H221 -> 7.4263693e-05 | F221: =+assessment!J221 -> 4137.7616 | H221: -3103.8467 | J221: =SUM(F221:H221) -> 1033.9149 | K221: -225 | L221: =H221+K221 -> -3328.8467 | M221: 1 | N221: 0 | O221: 225 | P221: =O221*N221 -> 0 | Q221: =P221+J221 -> 1033.9149
A222: C171 | B222: Moore | D222: =+assessment!H222 -> 1.1528604e-05 | F222: =+assessment!J222 -> 642.34099 | H222: -481.80586 | J222: =SUM(F222:H222) -> 160.53513 | K222: -225 | L222: =H222+K222 -> -706.80586 | M222: 1 | N222: 0 | O222: 225 | P222: =O222*N222 -> 0 | Q222: =P222+J222 -> 160.53513
A223: C172 | B223: Morris | D223: =+assessment!H223 -> 1.3165092e-05 | F223: =+assessment!J223 -> 733.52146 | H223: -550.1984 | J223: =SUM(F223:H223) -> 183.32306 | K223: -225 | L223: =H223+K223 -> -775.1984 | M223: 1 | N223: 0 | O223: 225 | P223: =O223*N223 -> 0 | Q223: =P223+J223 -> 183.32306
A224: C174 | B224: Nacogdoches | D224: =+assessment!H224 -> 0.0001462094 | F224: =+assessment!J224 -> 8146.3719 | H224: -6115.051 | J224: =SUM(F224:H224) -> 2031.3209 | K224: -225 | L224: =H224+K224 -> -6340.051 | M224: 1 | N224: 0 | O224: 225 | P224: =O224*N224 -> 0 | Q224: =P224+J224 -> 2031.3209
A225: C175 | B225: Navarro | D225: =+assessment!H225 -> 2.1412793e-05 | F225: =+assessment!J225 -> 1193.0599 | H225: -894.8881 | J225: =SUM(F225:H225) -> 298.17179 | K225: -225 | L225: =H225+K225 -> -1119.8881 | M225: 1 | N225: 0 | O225: 225 | P225: =O225*N225 -> 0 | Q225: =P225+J225 -> 298.17179
A226: C177 | B226: Nolan | D226: =+assessment!H226 -> 1.0534929e-05 | F226: =+assessment!J226 -> 586.97629 | H226: -440.27826 | J226: =SUM(F226:H226) -> 146.69802 | K226: -225 | L226: =H226+K226 -> -665.27826 | M226: 1 | N226: 0 | O226: 225 | P226: =O226*N226 -> 0 | Q226: =P226+J226 -> 146.69802
A227: C178 | B227: Nueces | D227: =+assessment!H227 -> 0.0002657338 | F227: =+assessment!J227 -> 14805.931 | H227: -11109.156 | J227: =SUM(F227:H227) -> 3696.7753 | K227: -450 | L227: =H227+K227 -> -11559.156 | M227: 2 | N227: 0 | O227: 225 | P227: =O227*N227 -> 0 | Q227: =P227+J227 -> 3696.7753
A228: C181 | B228: Orange | D228: =+assessment!H228 -> 6.3005982e-05 | F228: =+assessment!J228 -> 3510.514 | H228: -2634.166 | J228: =SUM(F228:H228) -> 876.34802 | K228: -225 | L228: =H228+K228 -> -2859.166 | M228: 1 | N228: 0 | O228: 225 | P228: =O228*N228 -> 0 | Q228: =P228+J228 -> 876.34802
A229: C182 | B229: Palo Pinto | D229: =+assessment!H229 -> 0.00056249464 | F229: =+assessment!J229 -> 31340.601 | H229: -23529.078 | J229: =SUM(F229:H229) -> 7811.5226 | K229: -225 | L229: =H229+K229 -> -23754.078 | M229: 1 | N229: 0 | O229: 225 | P229: =O229*N229 -> 0 | Q229: =P229+J229 -> 7811.5226
... A264: C252 | B264: Young | D264: =+assessment!H264 -> 9.1050819e-06 | F264: =+assessment!J264 -> 507.30925 | H264: -380.52162 | J264: =SUM(F264:H264) -> 126.78762 | K264: -225 | L264: =H264+K264 -> -605.52162 | M264: 1 | N264: 0 | O264: 225 | P264: =O264*N264 -> 0 | Q264: =P264+J264 -> 126.78762
B265: CSCDs | D265: =SUBTOTAL(9,D142:D264) -> 0.012698 | F265: =SUBTOTAL(9,F142:F264) -> 707496.42 | H265: =SUBTOTAL(9,H142:H264) -> -515723.03 | J265: =SUBTOTAL(9,J142:J264) -> 191773.38 | K265: =SUBTOTAL(9,K142:K264) -> -33075 | L265: =SUBTOTAL(9,L142:L264) -> -548798.03 | M265: =SUBTOTAL(9,M142:M264) -> 147 | N265: =SUBTOTAL(9,N142:N264) -> 0 | O265: 225 | P265: =SUBTOTAL(9,P142:P264) -> 0 | Q265: =SUBTOTAL(9,Q142:Q264) -> 191773.38
D267: =SUBTOTAL(9,D4:D266) -> 1 | F267: =SUBTOTAL(9,F4:F266) -> 55717154 | H267: =SUBTOTAL(9,H4:H266) -> -41787866 | J267: =SUBTOTAL(9,J4:J266) -> 13929288 | K267: =SUBTOTAL(9,K4:K266) -> -98100 | L267: =SUBTOTAL(9,L4:L266) -> -41885966 | M267: =SUBTOTAL(9,M4:M266) -> 436 | N267: =SUBTOTAL(9,N4:N266) -> 8 | P267: =SUBTOTAL(9,P4:P266) -> 1800 | Q267: =SUBTOTAL(9,Q4:Q266) -> 13931088
D270: Projected Current FY (2025) Claim Payments | F270: =assessment!J270 -> 43002507 | H270: =+$H$267*(F270/$F$275) -> -32251880 | J270: =SUM(F270:H270) -> 10750627
D271: Previous FY Collected Shortage (Overage) | F271: =assessment!J271 -> -1349008 | H271: =+$H$267*(F271/$F$275) -> 1011756 | J271: =SUM(F271:H271) -> -337252
D272: Risk Management and Workers' Comp. Administration | F272: =assessment!J272 -> 15257154 | H272: =+$H$267*(F272/$F$275) -> -11442866 | J272: =SUM(F272:H272) -> 3814288.5
D273: Previous FY Collected Shortage (Overage) | F273: =assessment!J273 -> -1193499 | H273: =+$H$267*(F273/$F$275) -> 895124.25 | J273: =SUM(F273:H273) -> -298374.75
F275: =SUM(F270:F274) -> 55717154 | H275: =SUM(H270:H274) -> -41787866 | J275: =SUM(J270:J274) -> 13929288

Sheet assessment
F1: Costs | H1: Total | O1: Initial | R1: Initial
A2: Agency | C2: Payroll * | D2: FTEs | E2: # Claims | F2: (Payouts) | H2: Assessment | J2: Assessment | L2: % of | O2: FY 2025 | R2: FY 2025
A3: Code | B3: Name | C3: 0.125 | D3: 0.125 | E3: 0.15 | F3: 0.6 | H3: Percentage | J3: Amount | L3: Payroll | O3: Assessment | P3: difference | R3: Percentage | S3: difference
A5: A101 | B5: Texas Senate | C5: =+payroll!G5 -> 0.0030278971 | D5: =+IFR!T5 -> 0.0027704296 | E5: =+claims!R5 -> 0 | F5: =+costs!L5 -> 0.00014106011 | H5: =(C5*$C$3)+(D5*$D$3)+(E5*$E$3)+(F5*$F$3) -> 0.0008094269 | J5: =(+H5*$J$275) -> 45098.963 | L5: =+J5/payroll!F5 -> 0.0013411427 | O5: 45108.003 | P5: =+J5-O5 -> -9.0395656 | R5: 0.00080958914 | S5: =+H5-R5 -> -1.6224026e-07
A6: A102 | B6: Texas House of Representatives | C6: =+payroll!G6 -> 0.0033382095 | D6: =+IFR!T6 -> 0.0039820472 | E6: =+claims!R6 -> 0.00011645546 | F6: =+costs!L6 -> 8.2845775e-06 | H6: =(C6*$C$3)+(D6*$D$3)+(E6*$E$3)+(F6*$F$3) -> 0.00093747114 | J6: =(+H6*$J$275) -> 52233.224 | L6: =+J6/payroll!F6 -> 0.0014089084 | O6: 52239.465 | P6: =+J6-O6 -> -6.2412621 | R6: 0.00093758316 | S6: =+H6-R6 -> -1.1201689e-07
A7: A103 | B7: Legislative Council | C7: =+payroll!G7 -> 0.0026887535 | D7: =+IFR!T7 -> 0.0021323981 | E7: =+claims!R7 -> 0 | F7: =+costs!L7 -> 0 | H7: =(C7*$C$3)+(D7*$D$3)+(E7*$E$3)+(F7*$F$3) -> 0.00060264395 | J7: =(+H7*$J$275) -> 33577.606 | L7: =+J7/payroll!F7 -> 0.001124471 | O7: 33898.065 | P7: =+J7-O7 -> -320.45941 | R7: 0.00060839549 | S7: =+H7-R7 -> -5.7515394e-06
A8: A104 | B8: Legislative Budget Board | C8: =+payroll!G8 -> 0.0010840419 | D8: =+IFR!T8 -> 0.00068665282 | E8: =+claims!R8 -> 0 | F8: =+costs!L8 -> 0 | H8: =(C8*$C$3)+(D8*$D$3)+(E8*$E$3)+(F8*$F$3) -> 0.00022133684 | J8: =(+H8*$J$275) -> 12332.259 | L8: =+J8/payroll!F8 -> 0.0010243446 | O8: 12333.533 | P8: =+J8-O8 -> -1.2737838 | R8: 0.00022135971 | S8: =+H8-R8 -> -2.2861609e-08
A9: A105 | B9: Legislative Reference Library | C9: =+payroll!G9 -> 0.00011971238 | D9: =+IFR!T9 -> 0.00012701553 | E9: =+claims!R9 -> 0 | F9: =+costs!L9 -> 0 | H9: =(C9*$C$3)+(D9*$D$3)+(E9*$E$3)+(F9*$F$3) -> 3.0840989e-05 | J9: =(+H9*$J$275) -> 1718.3721 | L9: =+J9/payroll!F9 -> 0.0012924915 | O9: 1718.5509 | P9: =+J9-O9 -> -0.17883061 | R9: 3.0844198e-05 | S9: =+H9-R9 -> -3.209615e-09
A10: A116 | B10: Sunset Advisory Commission | C10: =+payroll!G10 -> 0.0001852986 | D10: =+IFR!T10 -> 0.00014194888 | E10: =+claims!R10 -> 0 | F10: =+costs!L10 -> 0 | H10: =(C10*$C$3)+(D10*$D$3)+(E10*$E$3)+(F10*$F$3) -> 4.0905935e-05 | J10: =(+H10*$J$275) -> 2279.1623 | L10: =+J10/payroll!F10 -> 0.0011075227 | O10: 2279.3983 | P10: =+J10-O10 -> -0.23605625 | R10: 4.0910172e-05 | S10: =+H10-R10 -> -4.2366889e-09
A11: A201 | B11: Supreme Court of Texas | C11: =+payroll!G11 -> 0.00072075262 | D11: =+IFR!T11 -> 0.00045756537 | E11: =+claims!R11 -> 5.8227732e-05 | F11: =+costs!L11 -> 6.2854248e-06 | H11: =(C11*$C$3)+(D11*$D$3)+(E11*$E$3)+(F11*$F$3) -> 0.00015979516 | J11: =(+H11*$J$275) -> 8903.3317 | L11: =+J11/payroll!F11 -> 0.0011122844 | O11: 8904.7162 | P11: =+J11-O11 -> -1.3844633 | R11: 0.00015982001 | S11: =+H11-R11 -> -2.4848063e-08
A12: A203 | B12: Law Examiners, Board of | C12: =+payroll!G12 -> 0.00014635563 | D12: =+IFR!T12 -> 0.00012530418 | E12: =+claims!R12 -> 0 | F12: =+costs!L12 -> 0 | H12: =(C12*$C$3)+(D12*$D$3)+(E12*$E$3)+(F12*$F$3) -> 3.3957476e-05 | J12: =(+H12*$J$275) -> 1892.0139 | L12: =+J12/payroll!F12 -> 0.0011640306 | O12: 1892.2102 | P12: =+J12-O12 -> -0.19627851 | R12: 3.3960999e-05 | S12: =+H12-R12 -> -3.5227663e-09
A13: A211 | B13: Court of Criminal Appeals | C13: =+payroll!G13 -> 0.00062657167 | D13: =+IFR!T13 -> 0.00037002827 | E13: =+claims!R13 -> 0 | F13: =+costs!L13 -> 0 | H13: =(C13*$C$3)+(D13*$D$3)+(E13*$E$3)+(F13*$F$3) -> 0.00012457499 | J13: =(+H13*$J$275) -> 6940.9641 | L13: =+J13/payroll!F13 -> 0.00099746706 | O13: 6941.6803 | P13: =+J13-O13 -> -0.71621951 | R13: 0.00012458785 | S13: =+H13-R13 -> -1.285456e-08
A14: A212 | B14: Court Administration, Office of | C14: =+payroll!G14 -> 0.0020880327 | D14: =+IFR!T14 -> 0.0015429176 | E14: =+claims!R14 -> 0 | F14: =+costs!L14 -> 6.5005253e-06 | H14: =(C14*$C$3)+(D14*$D$3)+(E14*$E$3)+(F14*$F$3) -> 0.0004577691 | J14: =(+H14*$J$275) -> 25505.591 | L14: =+J14/payroll!F14 -> 0.0010998859 | O14: 25508.432 | P14: =+J14-O14 -> -2.8410948 | R14: 0.00045782009 | S14: =+H14-R14 -> -5.0991384e-08
A15: A213 | B15: Prosecuting Attorney, State | C15: =+payroll!G15 -> 3.9359691e-05 | D15: =+IFR!T15 -> 2.2505521e-05 | E15: =+claims!R15 -> 0 | F15: =+costs!L15 -> 0 | H15: =(C15*$C$3)+(D15*$D$3)+(E15*$E$3)+(F15*$F$3) -> 7.7331514e-06 | J15: =(+H15*$J$275) -> 430.86919 | L15: =+J15/payroll!F15 -> 0.00098569667 | O15: 430.91363 | P15: =+J15-O15 -> -0.044440348 | R15: 7.733949e-06 | S15: =+H15-R15 -> -7.9760621e-10
A16: A215 | B16: Office of Capital and Forensic Writs | C16: =+payroll!G16 -> 0.00015816887 | D16: =+IFR!T16 -> 0.0001207093 | E16: =+claims!R16 -> 0 | F16: =+costs!L16 -> 0 | H16: =(C16*$C$3)+(D16*$D$3)+(E16*$E$3)+(F16*$F$3) -> 3.4859771e-05 | J16: =(+H16*$J$275) -> 1942.2872 | L16: =+J16/payroll!F16 -> 0.0011057119 | O16: 1942.4884 | P16: =+J16-O16 -> -0.20115452 | R16: 3.4863381e-05 | S16: =+H16-R16 -> -3.6102798e-09
... A213: C152 | B213: Lubbock | C213: =+payroll!G213 -> 0.0004521831 | D213: =+IFR!T213 -> 0.00062359047 | E213: =+claims!R213 -> 0.00023291093 | F213: =+costs!L213 -> 4.8005994e-05 | H213: =(C213*$C$3)+(D213*$D$3)+(E213*$E$3)+(F213*$F$3) -> 0.00019821193 | J213: =(+H213*$J$275) -> 11043.805 | L213: =+J213/payroll!F213 -> 0.0021991452 | O213: 11047.52 | P213: =+J213-O213 -> -3.7153759 | R213: 0.00019827862 | S213: =+H213-R213 -> -6.6682802e-08
A214: C155 | B214: McLennan | C214: =+payroll!G217 -> 8.8738326e-05 | D214: =+IFR!T217 -> 0.00012893788 | E214: =+claims!R217 -> 0 | F214: =+costs!L217 -> 0 | H214: =(C214*$C$3)+(D214*$D$3)+(E214*$E$3)+(F214*$F$3) -> 2.7209526e-05 | J214: =(+H214*$J$275) -> 1516.0373 | L214: =+J214/payroll!F217 -> 0.0015383253 | O214: 5647.6263 | P214: =+J214-O214 -> -4131.589 | R214: 0.00010136243 | S214: =+H214-R214 -> -7.4152908e-05
A215: C159 | B215: Maverick | C215: =+payroll!G215 -> 4.9487844e-05 | D215: =+IFR!T215 -> 5.1575152e-05 | E215: =+claims!R215 -> 0 | F215: =+costs!L215 -> 0 | H215: =(C215*$C$3)+(D215*$D$3)+(E215*$E$3)+(F215*$F$3) -> 1.2632875e-05 | J215: =(+H215*$J$275) -> 703.86781 | L215: =+J215/payroll!F215 -> 0.0012806843 | O215: 703.94105 | P215: =+J215-O215 -> -0.07323201 | R215: 1.2634189e-05 | S215: =+H215-R215 -> -1.314353e-09
A216: C160 | B216: McCulloch | C216: =+payroll!G216 -> 2.0670186e-05 | D216: =+IFR!T216 -> 2.2036656e-05 | E216: =+claims!R216 -> 0 | F216: =+costs!L216 -> 0 | H216: =(C216*$C$3)+(D216*$D$3)+(E216*$E$3)+(F216*$F$3) -> 5.3383552e-06 | J216: =(+H216*$J$275) -> 297.43796 | L216: =+J216/payroll!F216 -> 0.0012956913 | O216: 297.46892 | P216: =+J216-O216 -> -0.030956496 | R216: 5.3389108e-06 | S216: =+H216-R216 -> -5.556008e-10
A217: C161 | B217: Matagorda | C217: =+payroll!G214 -> 0.00027876771 | D217: =+IFR!T214 -> 0.00033945827 | E217: =+claims!R214 -> 5.8227732e-05 | F217: =+costs!L214 -> 2.5534107e-05 | H217: =(C217*$C$3)+(D217*$D$3)+(E217*$E$3)+(F217*$F$3) -> 0.00010133287 | J217: =(+H217*$J$275) -> 5645.9792 | L217: =+J217/payroll!F214 -> 0.0018236703 | O217: 1516.1958 | P217: =+J217-O217 -> 4129.7834 | R217: 2.721237e-05 | S217: =+H217-R217 -> 7.4120502e-05
A218: C165 | B218: Midland | C218: =+payroll!G218 -> 0.00021721968 | D218: =+IFR!T218 -> 0.00025506257 | E218: =+claims!R218 -> 0 | F218: =+costs!L218 -> 0.00045321969 | H218: =(C218*$C$3)+(D218*$D$3)+(E218*$E$3)+(F218*$F$3) -> 0.00033096709 | J218: =(+H218*$J$275) -> 18440.545 | L218: =+J218/payroll!F218 -> 0.0076440603 | O218: 18456.458 | P218: =+J218-O218 -> -15.913042 | R218: 0.0003312527 | S218: =+H218-R218 -> -2.8560399e-07
A219: C166 | B219: Milam | C219: =+payroll!G219 -> 2.8043814e-05 | D219: =+IFR!T219 -> 3.5164876e-05 | E219: =+claims!R219 -> 0 | F219: =+costs!L219 -> 0 | H219: =(C219*$C$3)+(D219*$D$3)+(E219*$E$3)+(F219*$F$3) -> 7.9010863e-06 | J219: =(+H219*$J$275) -> 440.22604 | L219: =+J219/payroll!F219 -> 0.0014134751 | O219: 440.27197 | P219: =+J219-O219 -> -0.04592665 | R219: 7.9019106e-06 | S219: =+H219-R219 -> -8.2428206e-10
A220: C169 | B220: Montague | C220: =+payroll!G220 -> 3.656491e-05 | D220: =+IFR!T220 -> 3.6571471e-05 | E220: =+claims!R220 -> 0 | F220: =+costs!L220 -> 0 | H220: =(C220*$C$3)+(D220*$D$3)+(E220*$E$3)+(F220*$F$3) -> 9.1420477e-06 | J220: =(+H220*$J$275) -> 509.36888 | L220: =+J220/payroll!F220 -> 0.0012543462 | O220: 509.42184 | P220: =+J220-O220 -> -0.052963693 | R220: 9.1429983e-06 | S220: =+H220-R220 -> -9.5058145e-10
A221: C170 | B221: Montgomery | C221: =+payroll!G221 -> 0.0002569832 | D221: =+IFR!T221 -> 0.00026725306 | E221: =+claims!R221 -> 5.8227732e-05 | F221: =+costs!L221 -> 0 | H221: =(C221*$C$3)+(D221*$D$3)+(E221*$E$3)+(F221*$F$3) -> 7.4263693e-05 | J221: =(+H221*$J$275) -> 4137.7616 | L221: =+J221/payroll!F221 -> 0.0014498072 | O221: 4138.4623 | P221: =+J221-O221 -> -0.70071545 | R221: 7.4276269e-05 | S221: =+H221-R221 -> -1.2576296e-08
A222: C171 | B222: Moore | C222: =+payroll!G222 -> 4.5342327e-05 | D222: =+IFR!T222 -> 4.6886502e-05 | E222: =+claims!R222 -> 0 | F222: =+costs!L222 -> 0 | H222: =(C222*$C$3)+(D222*$D$3)+(E222*$E$3)+(F222*$F$3) -> 1.1528604e-05 | J222: =(+H222*$J$275) -> 642.34099 | L222: =+J222/payroll!F222 -> 0.0012755907 | O222: 642.40781 | P222: =+J222-O222 -> -0.066822895 | R222: 1.1529803e-05 | S222: =+H222-R222 -> -1.1993236e-09
A223: C172 | B223: Morris | C223: =+payroll!G223 -> 4.9525799e-05 | D223: =+IFR!T223 -> 5.5794937e-05 | E223: =+claims!R223 -> 0 | F223: =+costs!L223 -> 0 | H223: =(C223*$C$3)+(D223*$D$3)+(E223*$E$3)+(F223*$F$3) -> 1.3165092e-05 | J223: =(+H223*$J$275) -> 733.52146 | L223: =+J223/payroll!F223 -> 0.0013336162 | O223: 733.59786 | P223: =+J223-O223 -> -0.076404906 | R223: 1.3166463e-05 | S223: =+H223-R223 -> -1.3712995e-09
A224: C174 | B224: Nacogdoches | C224: =+payroll!G224 -> 8.0964904e-05 | D224: =+IFR!T224 -> 9.9868249e-05 | E224: =+claims!R224 -> 5.8227732e-05 | F224: =+costs!L224 -> 0.00019145183 | H224: =(C224*$C$3)+(D224*$D$3)+(E224*$E$3)+(F224*$F$3) -> 0.0001462094 | J224: =(+H224*$J$275) -> 8146.3719 | L224: =+J224/payroll!F224 -> 0.0090597654 | O224: 8153.4013 | P224: =+J224-O224 -> -7.0294823 | R224: 0.00014633557 | S224: =+H224-R224 -> -1.261637e-07
A225: C175 | B225: Navarro | C225: =+payroll!G225 -> 8.1280262e-05 | D225: =+IFR!T225 -> 9.0022084e-05 | E225: =+claims!R225 -> 0 | F225: =+costs!L225 -> 0 | H225: =(C225*$C$3)+(D225*$D$3)+(E225*$E$3)+(F225*$F$3) -> 2.1412793e-05 | J225: =(+H225*$J$275) -> 1193.0599 | L225: =+J225/payroll!F225 -> 0.0013216811 | O225: 1193.1841 | P225: =+J225-O225 -> -0.1242401 | R225: 2.1415023e-05 | S225: =+H225-R225 -> -2.2298357e-09
A226: C177 | B226: Nolan | C226: =+payroll!G226 -> 3.3642014e-05 | D226: =+IFR!T226 -> 5.0637422e-05 | E226: =+claims!R226 -> 0 | F226: =+costs!L226 -> 0 | H226: =(C226*$C$3)+(D226*$D$3)+(E226*$E$3)+(F226*$F$3) -> 1.0534929e-05 | J226: =(+H226*$J$275) -> 586.97629 | L226: =+J226/payroll!F226 -> 0.0015710431 | O226: 587.03768 | P226: =+J226-O226 -> -0.061397003 | R226: 1.0536031e-05 | S226: =+H226-R226 -> -1.1019408e-09
A227: C178 | B227: Nueces | C227: =+payroll!G227 -> 0.00050250833 | D227: =+IFR!T227 -> 0.00077644047 | E227: =+claims!R227 -> 0.00023291093 | F227: =+costs!L227 -> 0.00011821427 | H227: =(C227*$C$3)+(D227*$D$3)+(E227*$E$3)+(F227*$F$3) -> 0.0002657338 | J227: =(+H227*$J$275) -> 14805.931 | L227: =+J227/payroll!F227 -> 0.0026530289 | O227: 14812.208 | P227: =+J227-O227 -> -6.2766885 | R227: 0.00026584645 | S227: =+H227-R227 -> -1.1265271e-07
A228: C181 | B228: Orange | C228: =+payroll!G228 -> 7.8071665e-05 | D228: =+IFR!T228 -> 0.00010596349 | E228: =+claims!R228 -> 0.00023291093 | F228: =+costs!L228 -> 8.4415795e-06 | H228: =(C228*$C$3)+(D228*$D$3)+(E228*$E$3)+(F228*$F$3) -> 6.3005982e-05 | J228: =(+H228*$J$275) -> 3510.514 | L228: =+J228/payroll!F228 -> 0.0040488043 | O228: 3512.2213 | P228: =+J228-O228 -> -1.7073053 | R228: 6.3036624e-05 | S228: =+H228-R228 -> -3.0642363e-08
A229: C182 | B229: Palo Pinto | C229: =+payroll!G229 -> 3.2835068e-05 | D229: =+IFR!T229 -> 4.8761962e-05 | E229: =+claims!R229 -> 5.8227732e-05 | F229: =+costs!L229 -> 0.00090593475 | H229: =(C229*$C$3)+(D229*$D$3)+(E229*$E$3)+(F229*$F$3) -> 0.00056249464 | J229: =(+H229*$J$275) -> 31340.601 | L229: =+J229/payroll!F229 -> 0.085944663 | O229: 31372.104 | P229: =+J229-O229 -> -31.503385 | R229: 0.00056306006 | S229: =+H229-R229 -> -5.6541626e-07
... A264: C252 | B264: Young | C264: =+payroll!G264 -> 3.2518263e-05 | D264: =+IFR!T264 -> 4.0322392e-05 | E264: =+claims!R264 -> 0 | F264: =+costs!L264 -> 0 | H264: =(C264*$C$3)+(D264*$D$3)+(E264*$E$3)+(F264*$F$3) -> 9.1050819e-06 | J264: =(+H264*$J$275) -> 507.30925 | L264: =+J264/payroll!F264 -> 0.0014047368 | O264: 507.36216 | P264: =+J264-O264 -> -0.052916506 | R264: 9.1060316e-06 | S264: =+H264-R264 -> -9.4973455e-10
B265: CSCDs | C265: =SUBTOTAL(9,C142:C264) -> 0.023366434 | D265: =SUBTOTAL(9,D142:D264) -> 0.030187405 | E265: =SUBTOTAL(9,E142:E264) -> 0.0088506152 | F265: =SUBTOTAL(9,F142:F264) -> 0.0077936295 | H265: =SUBTOTAL(9,H142:H264) -> 0.012698 | J265: =(+H265*$J$275) -> 707496.42 | L265: =+J265/payroll!F265 -> 0.0027263483 | O265: =SUBTOTAL(9,O142:O264) -> 687630.71 | P265: =SUBTOTAL(9,P142:P264) -> 19865.703 | R265: =SUM(R142:R264) -> 0.012341454 | S265: =SUBTOTAL(9,S142:S264) -> 0.00035654554
C267: =SUBTOTAL(9,C4:C266) -> 1 | D267: =SUBTOTAL(9,D4:D266) -> 1 | E267: =SUBTOTAL(9,E4:E266) -> 1 | F267: =SUBTOTAL(9,F4:F266) -> 1 | H267: =SUBTOTAL(9,H4:H266) -> 1 | J267: =SUBTOTAL(9,J4:J264) -> 55717154 | L267: =+J267/payroll!F267 -> 0.0050169347 | O267: =SUBTOTAL(9,O4:O264) -> 55717154 | P267: =SUBTOTAL(9,P4:P266) -> 2.1543514e-09 | R267: =SUBTOTAL(9,R4:R264) -> 1 | S267: =SUBTOTAL(9,S4:S266) -> 6.6654293e-17
H270: Projected Current FY (2025) Claim Payments | J270: 43002507 | O270: 41860000 | P270: =+J270-O270 -> 1142507
H271: Previous FY Collected Shortage (Overage) | J271: -1349008 | O271: -1000000 | P271: =+J271-O271 -> -349008
H272: Risk Management and Workers' Comp. Administration(incl.required funding for emp.benefits) | J272: =12810220+2446934 -> 15257154 | O272: 15257154 | P272: =+J272-O272 -> 0
H273: Previous FY Collected Shortage (Overage) | J273: -1193499 | O273: -400000 | P273: =+J273-O273 -> -793499
J275: =SUM(J270:J274) -> 55717154 | O275: =SUM(O270:O274) -> 55717154 | P275: =SUM(P270:P274) -> 0

Sheet payroll
A2: Agency | F2: weighted | G2: Assessment
A3: Code | B3: Name | C3: FY2021 | D3: FY2022 | E3: FY2023 | F3: average | G3: Percentage
A5: A101 | B5: Texas Senate | C5: 31132554 | D5: 30269078 | E5: 36697632 | F5: =IF(C5>0,(+C5+(D5*2)+(E5*3))/6,IF(D5>0,((D5*2)+(E5*3))/5,E5)) -> 33627268 | G5: =+F5/$F$267 -> 0.0030278971
A6: A102 | B6: Texas House of Representatives | C6: 35988765 | D6: 32615192 | E6: 40407364 | F6: =IF(C6>0,(+C6+(D6*2)+(E6*3))/6,IF(D6>0,((D6*2)+(E6*3))/5,E6)) -> 37073540 | G6: =+F6/$F$267 -> 0.0033382095
A7: A103 | B7: Legislative Council | C7: 28209006 | D7: 27860962 | E7: 31744626 | F7: =IF(C7>0,(+C7+(D7*2)+(E7*3))/6,IF(D7>0,((D7*2)+(E7*3))/5,E7)) -> 29860802 | G7: =+F7/$F$267 -> 0.0026887535
A8: A104 | B8: Legislative Budget Board | C8: 11066556 | D8: 11496805 | E8: 12724952 | F8: =IF(C8>0,(+C8+(D8*2)+(E8*3))/6,IF(D8>0,((D8*2)+(E8*3))/5,E8)) -> 12039170 | G8: =+F8/$F$267 -> 0.0010840419
A9: A105 | B9: Legislative Reference Library | C9: 1209336 | D9: 1311911 | E9: 1381287.9 | F9: =IF(C9>0,(+C9+(D9*2)+(E9*3))/6,IF(D9>0,((D9*2)+(E9*3))/5,E9)) -> 1329503.6 | G9: =+F9/$F$267 -> 0.00011971238
A10: A116 | B10: Sunset Advisory Commission | C10: 2053402 | D10: 2080070.6 | E10: 2044603.2 | F10: =IF(C10>0,(+C10+(D10*2)+(E10*3))/6,IF(D10>0,((D10*2)+(E10*3))/5,E10)) -> 2057892.1 | G10: =+F10/$F$267 -> 0.0001852986
A11: A201 | B11: Supreme Court of Texas | C11: 7810758 | D11: 7747179 | E11: 8240720 | F11: =IF(C11>0,(+C11+(D11*2)+(E11*3))/6,IF(D11>0,((D11*2)+(E11*3))/5,E11)) -> 8004546 | G11: =+F11/$F$267 -> 0.00072075262
A12: A203 | B12: Law Examiners, Board of | C12: 1340044 | D12: 1874267 | E12: 1554604.8 | F12: =IF(C12>0,(+C12+(D12*2)+(E12*3))/6,IF(D12>0,((D12*2)+(E12*3))/5,E12)) -> 1625398.7 | G12: =+F12/$F$267 -> 0.00014635563
A13: A211 | B13: Court of Criminal Appeals | C13: 6997976 | D13: 7022312.8 | E13: 6902979 | F13: =IF(C13>0,(+C13+(D13*2)+(E13*3))/6,IF(D13>0,((D13*2)+(E13*3))/5,E13)) -> 6958589.8 | G13: =+F13/$F$267 -> 0.00062657167
A14: A212 | B14: Court Administration, Office of | C14: 22367200 | D14: 23036847 | E14: 23564983 | F14: =IF(C14>0,(+C14+(D14*2)+(E14*3))/6,IF(D14>0,((D14*2)+(E14*3))/5,E14)) -> 23189307 | G14: =+F14/$F$267 -> 0.0020880327
A15: A213 | B15: Prosecuting Attorney, State | C15: 446963 | D15: 418146.12 | E15: 446491.22 | F15: =IF(C15>0,(+C15+(D15*2)+(E15*3))/6,IF(D15>0,((D15*2)+(E15*3))/5,E15)) -> 437121.48 | G15: =+F15/$F$267 -> 3.9359691e-05
A16: A215 | B16: Office of Capital and Forensic Writs | C16: 1659982.9 | D16: 1821219 | E16: 1745715.1 | F16: =IF(C16>0,(+C16+(D16*2)+(E16*3))/6,IF(D16>0,((D16*2)+(E16*3))/5,E16)) -> 1756594.4 | G16: =+F16/$F$267 -> 0.00015816887
... A34: A243 | B34: Law Library, State | C34: 650514.04 | D34: 592835.39 | E34: 661271.08 | F34: =IF(C34>0,(+C34+(D34*2)+(E34*3))/6,IF(D34>0,((D34*2)+(E34*3))/5,E34)) -> 636666.34 | G34: =+F34/$F$267 -> 5.7327291e-05
A35: A301 | B35: Governor's Office & Office of the Governor, Trustee Program | C35: 21519783 | D35: 20418085 | E35: =14345868.93+9918148.65 -> 24264018 | F35: =IF(C35>0,(+C35+(D35*2)+(E35*3))/6,IF(D35>0,((D35*2)+(E35*3))/5,E35)) -> 22524668 | G35: =+F35/$F$267 -> 0.0020281866
A36: A302 | B36: Attorney General, Office of the | C36: 252682995 | D36: 253316825 | E36: 253316825 | F36: =IF(C36>0,(+C36+(D36*2)+(E36*3))/6,IF(D36>0,((D36*2)+(E36*3))/5,E36)) -> 2.5321119e+08 | G36: =+F36/$F$267 -> 0.022799872
A37: A303 | B37: Texas Facilities Commission | C37: 20426054 | D37: 21389984 | E37: 24419585 | F37: =IF(C37>0,(+C37+(D37*2)+(E37*3))/6,IF(D37>0,((D37*2)+(E37*3))/5,E37)) -> 22744130 | G37: =+F37/$F$267 -> 0.0020479476
A38: A304 | B38: Comptroller of Public Accounts, State | C38: 183773277 | D38: 1.7965424e+08 | E38: 1.9535413e+08 | F38: =IF(C38>0,(+C38+(D38*2)+(E38*3))/6,IF(D38>0,((D38*2)+(E38*3))/5,E38)) -> 1.8819069e+08 | G38: =+F38/$F$267 -> 0.016945238
A39: A305 | B39: General Land Office | C39: 59534240 | D39: 61292534 | E39: 65667867 | F39: =IF(C39>0,(+C39+(D39*2)+(E39*3))/6,IF(D39>0,((D39*2)+(E39*3))/5,E39)) -> 63187152 | G39: =+F39/$F$267 -> 0.005689555
A40: A306 | B40: Library and Archives Commission | C40: 7817867 | D40: 9511162 | E40: 8310399 | F40: =IF(C40>0,(+C40+(D40*2)+(E40*3))/6,IF(D40>0,((D40*2)+(E40*3))/5,E40)) -> 8628564.7 | G40: =+F40/$F$267 -> 0.00077694108
A41: A307 | B41: Secretary of State | C41: 10559260 | D41: 11639268 | E41: 12541156 | F41: =IF(C41>0,(+C41+(D41*2)+(E41*3))/6,IF(D41>0,((D41*2)+(E41*3))/5,E41)) -> 11910211 | G41: =+F41/$F$267 -> 0.0010724301
A42: A308 | B42: State Auditor's Office | C42: 16080468 | D42: 15954716 | E42: 16638244 | F42: =IF(C42>0,(+C42+(D42*2)+(E42*3))/6,IF(D42>0,((D42*2)+(E42*3))/5,E42)) -> 16317439 | G42: =+F42/$F$267 -> 0.0014692697
A43: A312 | B43: Securities Board | C43: 6294667 | D43: 6206888 | E43: 6357031 | F43: =IF(C43>0,(+C43+(D43*2)+(E43*3))/6,IF(D43>0,((D43*2)+(E43*3))/5,E43)) -> 6296589.3 | G43: =+F43/$F$267 -> 0.00056696323
A44: A313 | B44: Information Resources, Dept. of | C44: 17848297 | D44: 19477000 | E44: 21945251 | F44: =IF(C44>0,(+C44+(D44*2)+(E44*3))/6,IF(D44>0,((D44*2)+(E44*3))/5,E44)) -> 20439675 | G44: =+F44/$F$267 -> 0.0018404478
A45: A320 | B45: Texas Workforce Commission | C45: 236228529 | D45: 233875100 | E45: 242020827 | F45: =IF(C45>0,(+C45+(D45*2)+(E45*3))/6,IF(D45>0,((D45*2)+(E45*3))/5,E45)) -> 2.383402e+08 | G45: =+F45/$F$267 -> 0.021460845
A46: A326 | B46: Texas Emergency Services Retirement System | C46: 507307.79 | D46: 526706.33 | E46: 450800 | F46: =IF(C46>0,(+C46+(D46*2)+(E46*3))/6,IF(D46>0,((D46*2)+(E46*3))/5,E46)) -> 485520.08 | G46: =+F46/$F$267 -> 4.3717641e-05
A47: A329 | B47: Real Estate Commission | C47: 8979612.7 | D47: 9238696.8 | E47: 11074732 | F47: =IF(C47>0,(+C47+(D47*2)+(E47*3))/6,IF(D47>0,((D47*2)+(E47*3))/5,E47)) -> 10113534 | G47: =+F47/$F$267 -> 0.00091065202
... A264: C252 | B264: Young | C264: 395742.56 | D264: 347546.9 | E264: 358671.58 | F264: =IF(C264>0,(+C264+(D264*2)+(E264*3))/6,IF(D264>0,((D264*2)+(E264*3))/5,E264)) -> 361141.85 | G264: =+F264/$F$267 -> 3.2518263e-05
B265: CSCDs | C265: =SUBTOTAL(9,C142:C264) -> 2.5308555e+08 | D265: =SUBTOTAL(9,D142:D264) -> 2.4748415e+08 | E265: =SUBTOTAL(9,E142:E264) -> 2.6965535e+08 | F265: =SUBTOTAL(9,F142:F264) -> 2.5950332e+08 | G265: =SUBTOTAL(9,G142:G264) -> 0.023366434
C267: =SUBTOTAL(9,C5:C266) -> 1.0251467e+10 | D267: =SUBTOTAL(9,D5:D266) -> 1.068545e+10 | E267: =SUBTOTAL(9,E5:E266) -> 1.1659334e+10 | F267: =SUBTOTAL(9,F5:F266) -> 1.1105816e+10 | G267: =SUBTOTAL(9,G5:G264) -> 1

Sheet IFR
T1: FTE | AD1: raw
A2: Agency | C2: 2021 | G2: 2021 Avg. | H2: 2022 | L2: 2022 Avg. | M2: 2023 | Q2: 2023 Avg. | R2: weighted | T2: Assessment | V2: FY2021 | W2: FY2022 | X2: FY2023 | Z2: FY2021 | AA2: FY2022 | AB2: FY2023 | AD2: weighted
A3: Code | B3: Name | C3: 1 | D3: 2 | E3: 3 | F3: 4 | G3: FTE | H3: 1 | I3: 2 | J3: 3 | K3: 4 | L3: FTE | M3: 1 | N3: 2 | O3: 3 | P3: 4 | Q3: FTE | R3: FTE avg. | T3: Percentage | V3: claims | W3: claims | X3: claims | Z3: IFR | AA3: IFR | AB3: IFR | AD3: IFR avg.
A5: A101 | B5: Texas Senate | C5: 471 | D5: 524.2 | E5: 572.2 | F5: 528 | G5: =AVERAGE(C5:F5) -> 523.85 | H5: 474.3 | I5: 451.7 | J5: 440.5 | K5: 444.5 | L5: =AVERAGE(H5:K5) -> 452.75 | M5: 439.1 | N5: 507.4 | O5: 561.1 | P5: 525.8 | Q5: =AVERAGE(M5:P5) -> 508.35 | R5: =IF(G5>0,(+G5+(L5*2)+(Q5*3))/6,IF(L5>0,((L5*2)+(Q5*3))/5,Q5)) -> 492.4 | T5: =+R5/$R$267 -> 0.0027704296 | V5: =claims!D5 -> 0 | W5: =claims!E5 -> 0 | X5: =claims!F5 -> 0 | Z5: =IF(G5>100,IF(V5<1,0,+V5/G5),IF(V5<1,0,+V5/100)) -> 0 | AA5: =IF(L5>100,IF(W5<1,0,+W5/L5),IF(W5<1,0,+W5/100)) -> 0 | AB5: =IF(Q5>100,IF(X5<1,0,+X5/Q5),IF(X5<1,0,+X5/100)) -> 0 | AD5: =(+Z5+(AA5*2)+(AB5*3))/6 -> 0
A6: A102 | B6: Texas House of Representatives | C6: 711.7 | D6: 837.8 | E6: 932 | F6: 789.7 | G6: =AVERAGE(C6:F6) -> 817.8 | H6: 715.6 | I6: 686.2 | J6: 663.8 | K6: 676.8 | L6: =AVERAGE(H6:K6) -> 685.6 | M6: 715.8 | N6: 686.6 | O6: 664.1 | P6: 676.8 | Q6: =AVERAGE(M6:P6) -> 685.825 | R6: =IF(G6>0,(+G6+(L6*2)+(Q6*3))/6,IF(L6>0,((L6*2)+(Q6*3))/5,Q6)) -> 707.74583 | T6: =+R6/$R$267 -> 0.0039820472 | V6: =claims!D6 -> 0 | W6: =claims!E6 -> 1 | X6: =claims!F6 -> 1 | Z6: =IF(G6>100,IF(V6<1,0,+V6/G6),IF(V6<1,0,+V6/100)) -> 0 | AA6: =IF(L6>100,IF(W6<1,0,+W6/L6),IF(W6<1,0,+W6/100)) -> 0.0014585764 | AB6: =IF(Q6>100,IF(X6<1,0,+X6/Q6),IF(X6<1,0,+X6/100)) -> 0.0014580979 | AD6: =(+Z6+(AA6*2)+(AB6*3))/6 -> 0.0012152411
A7: A103 | B7: Legislative Council | C7: 364 | D7: 385 | E7: 389 | F7: 376 | G7: =AVERAGE(C7:F7) -> 378.5 | H7: 359 | I7: 362 | J7: 363 | K7: 364 | L7: =AVERAGE(H7:K7) -> 362 | M7: 379 | N7: 403 | O7: 402 | P7: 378 | Q7: =AVERAGE(M7:P7) -> 390.5 | R7: =IF(G7>0,(+G7+(L7*2)+(Q7*3))/6,IF(L7>0,((L7*2)+(Q7*3))/5,Q7)) -> 379 | T7: =+R7/$R$267 -> 0.0021323981 | V7: =claims!D7 -> 0 | W7: =claims!E7 -> 0 | X7: =claims!F7 -> 0 | Z7: =IF(G7>100,IF(V7<1,0,+V7/G7),IF(V7<1,0,+V7/100)) -> 0 | AA7: =IF(L7>100,IF(W7<1,0,+W7/L7),IF(W7<1,0,+W7/100)) -> 0 | AB7: =IF(Q7>100,IF(X7<1,0,+X7/Q7),IF(X7<1,0,+X7/100)) -> 0 | AD7: =(+Z7+(AA7*2)+(AB7*3))/6 -> 0
A8: A104 | B8: Legislative Budget Board | C8: 117 | D8: 126 | E8: 118 | F8: 115 | G8: =AVERAGE(C8:F8) -> 119 | H8: 109 | I8: 110 | J8: 120 | K8: 127 | L8: =AVERAGE(H8:K8) -> 116.5 | M8: 127 | N8: 124 | O8: 128 | P8: 128 | Q8: =AVERAGE(M8:P8) -> 126.75 | R8: =IF(G8>0,(+G8+(L8*2)+(Q8*3))/6,IF(L8>0,((L8*2)+(Q8*3))/5,Q8)) -> 122.04167 | T8: =+R8/$R$267 -> 0.00068665282 | V8: =claims!D8 -> 0 | W8: =claims!E8 -> 0 | X8: =claims!F8 -> 0 | Z8: =IF(G8>100,IF(V8<1,0,+V8/G8),IF(V8<1,0,+V8/100)) -> 0 | AA8: =IF(L8>100,IF(W8<1,0,+W8/L8),IF(W8<1,0,+W8/100)) -> 0 | AB8: =IF(Q8>100,IF(X8<1,0,+X8/Q8),IF(X8<1,0,+X8/100)) -> 0 | AD8: =(+Z8+(AA8*2)+(AB8*3))/6 -> 0
A9: A105 | B9: Legislative Reference Library | C9: 20.6 | D9: 22.5 | E9: 22.2 | F9: 22.2 | G9: =AVERAGE(C9:F9) -> 21.875 | H9: 22.4 | I9: 23.2 | J9: 22.3 | K9: 22.3 | L9: =AVERAGE(H9:K9) -> 22.55 | M9: 21 | N9: 22.5 | O9: 24.2 | P9: 23.6 | Q9: =AVERAGE(M9:P9) -> 22.825 | R9: =IF(G9>0,(+G9+(L9*2)+(Q9*3))/6,IF(L9>0,((L9*2)+(Q9*3))/5,Q9)) -> 22.575 | T9: =+R9/$R$267 -> 0.00012701553 | V9: =claims!D9 -> 0 | W9: =claims!E9 -> 0 | X9: =claims!F9 -> 0 | Z9: =IF(G9>100,IF(V9<1,0,+V9/G9),IF(V9<1,0,+V9/100)) -> 0 | AA9: =IF(L9>100,IF(W9<1,0,+W9/L9),IF(W9<1,0,+W9/100)) -> 0 | AB9: =IF(Q9>100,IF(X9<1,0,+X9/Q9),IF(X9<1,0,+X9/100)) -> 0 | AD9: =(+Z9+(AA9*2)+(AB9*3))/6 -> 0
A10: A116 | B10: Sunset Advisory Commission | C10: 28.1 | D10: 28.3 | E10: 28.1 | F10: 27.3 | G10: =AVERAGE(C10:F10) -> 27.95 | H10: 28.2 | I10: 25 | J10: 24.7 | K10: 25.7 | L10: =AVERAGE(H10:K10) -> 25.9 | M10: 24 | N10: 24 | O10: 23 | P10: 24.5 | Q10: =AVERAGE(M10:P10) -> 23.875 | R10: =IF(G10>0,(+G10+(L10*2)+(Q10*3))/6,IF(L10>0,((L10*2)+(Q10*3))/5,Q10)) -> 25.229167 | T10: =+R10/$R$267 -> 0.00014194888 | V10: =claims!D10 -> 0 | W10: =claims!E10 -> 0 | X10: =claims!F10 -> 0 | Z10: =IF(G10>100,IF(V10<1,0,+V10/G10),IF(V10<1,0,+V10/100)) -> 0 | AA10: =IF(L10>100,IF(W10<1,0,+W10/L10),IF(W10<1,0,+W10/100)) -> 0 | AB10: =IF(Q10>100,IF(X10<1,0,+X10/Q10),IF(X10<1,0,+X10/100)) -> 0 | AD10: =(+Z10+(AA10*2)+(AB10*3))/6 -> 0
A11: A201 | B11: Supreme Court of Texas | C11: 78.8 | D11: 82.2 | E11: 83.2 | F11: 81.3 | G11: =AVERAGE(C11:F11) -> 81.375 | H11: 80.8 | I11: 82.3 | J11: 83.3 | K11: 80.6 | L11: =AVERAGE(H11:K11) -> 81.75 | M11: 81.2 | N11: 82.1 | O11: 80.9 | P11: 79.9 | Q11: =AVERAGE(M11:P11) -> 81.025 | R11: =IF(G11>0,(+G11+(L11*2)+(Q11*3))/6,IF(L11>0,((L11*2)+(Q11*3))/5,Q11)) -> 81.325 | T11: =+R11/$R$267 -> 0.00045756537 | V11: =claims!D11 -> 0 | W11: =claims!E11 -> 0 | X11: =claims!F11 -> 1 | Z11: =IF(G11>100,IF(V11<1,0,+V11/G11),IF(V11<1,0,+V11/100)) -> 0 | AA11: =IF(L11>100,IF(W11<1,0,+W11/L11),IF(W11<1,0,+W11/100)) -> 0 | AB11: =IF(Q11>100,IF(X11<1,0,+X11/Q11),IF(X11<1,0,+X11/100)) -> 0.01 | AD11: =(+Z11+(AA11*2)+(AB11*3))/6 -> 0.005
A12: A203 | B12: Law Examiners, Board of | C12: 23 | D12: 18 | E12: 20 | F12: 27 | G12: =AVERAGE(C12:F12) -> 22 | H12: 20 | I12: 19 | J12: 23 | K12: 27 | L12: =AVERAGE(H12:K12) -> 22.25 | M12: 20 | N12: 19.5 | O12: 20 | P12: 30 | Q12: =AVERAGE(M12:P12) -> 22.375 | R12: =IF(G12>0,(+G12+(L12*2)+(Q12*3))/6,IF(L12>0,((L12*2)+(Q12*3))/5,Q12)) -> 22.270833 | T12: =+R12/$R$267 -> 0.00012530418 | V12: =claims!D12 -> 0 | W12: =claims!E12 -> 0 | X12: =claims!F12 -> 0 | Z12: =IF(G12>100,IF(V12<1,0,+V12/G12),IF(V12<1,0,+V12/100)) -> 0 | AA12: =IF(L12>100,IF(W12<1,0,+W12/L12),IF(W12<1,0,+W12/100)) -> 0 | AB12: =IF(Q12>100,IF(X12<1,0,+X12/Q12),IF(X12<1,0,+X12/100)) -> 0 | AD12: =(+Z12+(AA12*2)+(AB12*3))/6 -> 0
A13: A211 | B13: Court of Criminal Appeals | C13: 64.3 | D13: 63.6 | E13: 68.1 | F13: 63.4 | G13: =AVERAGE(C13:F13) -> 64.85 | H13: 65.3 | I13: 64.2 | J13: 67.2 | K13: 62.6 | L13: =AVERAGE(H13:K13) -> 64.825 | M13: 67.2 | N13: 68 | O13: 67.4 | P13: 64.2 | Q13: =AVERAGE(M13:P13) -> 66.7 | R13: =IF(G13>0,(+G13+(L13*2)+(Q13*3))/6,IF(L13>0,((L13*2)+(Q13*3))/5,Q13)) -> 65.766667 | T13: =+R13/$R$267 -> 0.00037002827 | V13: =claims!D13 -> 0 | W13: =claims!E13 -> 0 | X13: =claims!F13 -> 0 | Z13: =IF(G13>100,IF(V13<1,0,+V13/G13),IF(V13<1,0,+V13/100)) -> 0 | AA13: =IF(L13>100,IF(W13<1,0,+W13/L13),IF(W13<1,0,+W13/100)) -> 0 | AB13: =IF(Q13>100,IF(X13<1,0,+X13/Q13),IF(X13<1,0,+X13/100)) -> 0 | AD13: =(+Z13+(AA13*2)+(AB13*3))/6 -> 0
A14: A212 | B14: Court Administration, Office of | C14: 262.3 | D14: 262.8 | E14: 259.1 | F14: 256.2 | G14: =AVERAGE(C14:F14) -> 260.1 | H14: 264.2 | I14: 272.2 | J14: 278.2 | K14: 281.2 | L14: =AVERAGE(H14:K14) -> 273.95 | M14: 277.1 | N14: 281.1 | O14: 280.1 | P14: 278.2 | Q14: =AVERAGE(M14:P14) -> 279.125 | R14: =IF(G14>0,(+G14+(L14*2)+(Q14*3))/6,IF(L14>0,((L14*2)+(Q14*3))/5,Q14)) -> 274.22917 | T14: =+R14/$R$267 -> 0.0015429176 | V14: =claims!D14 -> 0 | W14: =claims!E14 -> 0 | X14: =claims!F14 -> 0 | Z14: =IF(G14>100,IF(V14<1,0,+V14/G14),IF(V14<1,0,+V14/100)) -> 0 | AA14: =IF(L14>100,IF(W14<1,0,+W14/L14),IF(W14<1,0,+W14/100)) -> 0 | AB14: =IF(Q14>100,IF(X14<1,0,+X14/Q14),IF(X14<1,0,+X14/100)) -> 0 | AD14: =(+Z14+(AA14*2)+(AB14*3))/6 -> 0
A15: A213 | B15: Prosecuting Attorney, State | C15: 4 | D15: 4 | E15: 4 | F15: 4 | G15: =AVERAGE(C15:F15) -> 4 | H15: 4 | I15: 4 | J15: 4 | K15: 4 | L15: =AVERAGE(H15:K15) -> 4 | M15: 4 | N15: 4 | O15: 4 | P15: 4 | Q15: =AVERAGE(M15:P15) -> 4 | R15: =IF(G15>0,(+G15+(L15*2)+(Q15*3))/6,IF(L15>0,((L15*2)+(Q15*3))/5,Q15)) -> 4 | T15: =+R15/$R$267 -> 2.2505521e-05 | V15: =claims!D15 -> 0 | W15: =claims!E15 -> 0 | X15: =claims!F15 -> 0 | Z15: =IF(G15>100,IF(V15<1,0,+V15/G15),IF(V15<1,0,+V15/100)) -> 0 | AA15: =IF(L15>100,IF(W15<1,0,+W15/L15),IF(W15<1,0,+W15/100)) -> 0 | AB15: =IF(Q15>100,IF(X15<1,0,+X15/Q15),IF(X15<1,0,+X15/100)) -> 0 | AD15: =(+Z15+(AA15*2)+(AB15*3))/6 -> 0
A16: A215 | B16: Office of Capital and Forensic Writs | C16: 21.8 | D16: 21.7 | E16: 21.7 | F16: 22.7 | G16: =AVERAGE(C16:F16) -> 21.975 | H16: 22 | I16: 21.4 | J16: 22.3 | K16: 22.7 | L16: =AVERAGE(H16:K16) -> 22.1 | M16: 21 | N16: 21.4 | O16: 20.6 | P16: 20.4 | Q16: =AVERAGE(M16:P16) -> 20.85 | R16: =IF(G16>0,(+G16+(L16*2)+(Q16*3))/6,IF(L16>0,((L16*2)+(Q16*3))/5,Q16)) -> 21.454167 | T16: =+R16/$R$267 -> 0.0001207093 | V16: =claims!D16 -> 0 | W16: =claims!E16 -> 0 | X16: =claims!F16 -> 0 | Z16: =IF(G16>100,IF(V16<1,0,+V16/G16),IF(V16<1,0,+V16/100)) -> 0 | AA16: =IF(L16>100,IF(W16<1,0,+W16/L16),IF(W16<1,0,+W16/100)) -> 0 | AB16: =IF(Q16>100,IF(X16<1,0,+X16/Q16),IF(X16<1,0,+X16/100)) -> 0 | AD16: =(+Z16+(AA16*2)+(AB16*3))/6 -> 0
... A34: A243 | B34: Law Library, State | C34: 10.3 | D34: 10.3 | E34: 10.3 | F34: 10.3 | G34: =AVERAGE(C34:F34) -> 10.3 | H34: 10 | I34: 9.1 | J34: 8.5 | K34: 9.3 | L34: =AVERAGE(H34:K34) -> 9.225 | M34: 10 | N34: 10.9 | O34: 11.3 | P34: 10.8 | Q34: =AVERAGE(M34:P34) -> 10.75 | R34: =IF(G34>0,(+G34+(L34*2)+(Q34*3))/6,IF(L34>0,((L34*2)+(Q34*3))/5,Q34)) -> 10.166667 | T34: =+R34/$R$267 -> 5.7201532e-05 | V34: =claims!D34 -> 0 | W34: =claims!E34 -> 0 | X34: =claims!F34 -> 0 | Z34: =IF(G34>100,IF(V34<1,0,+V34/G34),IF(V34<1,0,+V34/100)) -> 0 | AA34: =IF(L34>100,IF(W34<1,0,+W34/L34),IF(W34<1,0,+W34/100)) -> 0 | AB34: =IF(Q34>100,IF(X34<1,0,+X34/Q34),IF(X34<1,0,+X34/100)) -> 0 | AD34: =(+Z34+(AA34*2)+(AB34*3))/6 -> 0
A35: A301 | B35: Governor's Office | C35: 273.4 | D35: 275.9 | E35: 282 | F35: 278.4 | G35: =AVERAGE(C35:F35) -> 277.425 | H35: 258.5 | I35: 252.9 | J35: 254.3 | K35: 254.8 | L35: =AVERAGE(H35:K35) -> 255.125 | M35: =165.2+86.8 -> 252 | N35: =166.8+100.5 -> 267.3 | O35: =174.6+106.4 -> 281 | P35: =187.8+105.8 -> 293.6 | Q35: =AVERAGE(M35:P35) -> 273.475 | R35: =IF(G35>0,(+G35+(L35*2)+(Q35*3))/6,IF(L35>0,((L35*2)+(Q35*3))/5,Q35)) -> 268.01667 | T35: =+R35/$R$267 -> 0.0015079637 | V35: =claims!D35 -> 3 | W35: =claims!E35 -> 1 | X35: =claims!F35 -> 0 | Z35: =IF(G35>100,IF(V35<1,0,+V35/G35),IF(V35<1,0,+V35/100)) -> 0.010813733 | AA35: =IF(L35>100,IF(W35<1,0,+W35/L35),IF(W35<1,0,+W35/100)) -> 0.0039196472 | AB35: =IF(Q35>100,IF(X35<1,0,+X35/Q35),IF(X35<1,0,+X35/100)) -> 0 | AD35: =(+Z35+(AA35*2)+(AB35*3))/6 -> 0.003108838
A36: A302 | B36: Attorney General, Office of the | C36: 4093.2 | D36: 4043.8 | E36: 4128.2 | F36: 4091.5 | G36: =AVERAGE(C36:F36) -> 4089.175 | H36: 4043.6 | I36: 4068.5 | J36: 4004 | K36: 3942.7 | L36: =AVERAGE(H36:K36) -> 4014.7 | M36: 3915.3 | N36: 3931.5 | O36: 3938.2 | P36: 4001.1 | Q36: =AVERAGE(M36:P36) -> 3946.525 | R36: =IF(G36>0,(+G36+(L36*2)+(Q36*3))/6,IF(L36>0,((L36*2)+(Q36*3))/5,Q36)) -> 3993.025 | T36: =+R36/$R$267 -> 0.022466277 | V36: =claims!D36 -> 14 | W36: =claims!E36 -> 12 | X36: =claims!F36 -> 8 | Z36: =IF(G36>100,IF(V36<1,0,+V36/G36),IF(V36<1,0,+V36/100)) -> 0.0034236735 | AA36: =IF(L36>100,IF(W36<1,0,+W36/L36),IF(W36<1,0,+W36/100)) -> 0.0029890154 | AB36: =IF(Q36>100,IF(X36<1,0,+X36/Q36),IF(X36<1,0,+X36/100)) -> 0.0020270998 | AD36: =(+Z36+(AA36*2)+(AB36*3))/6 -> 0.0025805006
A37: A303 | B37: Texas Facilities Commission | C37: 351.6 | D37: 358 | E37: 359.8 | F37: 361.2 | G37: =AVERAGE(C37:F37) -> 357.65 | H37: 359.6 | I37: 362.5 | J37: 366.4 | K37: 377.7 | L37: =AVERAGE(H37:K37) -> 366.55 | M37: 390.5 | N37: 390 | O37: 391.7 | P37: 390.2 | Q37: =AVERAGE(M37:P37) -> 390.6 | R37: =IF(G37>0,(+G37+(L37*2)+(Q37*3))/6,IF(L37>0,((L37*2)+(Q37*3))/5,Q37)) -> 377.09167 | T37: =+R37/$R$267 -> 0.0021216611 | V37: =claims!D37 -> 1 | W37: =claims!E37 -> 9 | X37: =claims!F37 -> 14 | Z37: =IF(G37>100,IF(V37<1,0,+V37/G37),IF(V37<1,0,+V37/100)) -> 0.0027960296 | AA37: =IF(L37>100,IF(W37<1,0,+W37/L37),IF(W37<1,0,+W37/100)) -> 0.024553267 | AB37: =IF(Q37>100,IF(X37<1,0,+X37/Q37),IF(X37<1,0,+X37/100)) -> 0.035842294 | AD37: =(+Z37+(AA37*2)+(AB37*3))/6 -> 0.026571574
A38: A304 | B38: Comptroller of Public Accounts, State | C38: 2671.6 | D38: 2627.4 | E38: 2601.6 | F38: 2578.8 | G38: =AVERAGE(C38:F38) -> 2619.85 | H38: 2492.6 | I38: 2490.2 | J38: 2476.2 | K38: 2481.8 | L38: =AVERAGE(H38:K38) -> 2485.2 | M38: 2463.7 | N38: 2534.4 | O38: 2580 | P38: 2680.6 | Q38: =AVERAGE(M38:P38) -> 2564.675 | R38: =IF(G38>0,(+G38+(L38*2)+(Q38*3))/6,IF(L38>0,((L38*2)+(Q38*3))/5,Q38)) -> 2547.3792 | T38: =+R38/$R$267 -> 0.014332524 | V38: =claims!D38 -> 4 | W38: =claims!E38 -> 11 | X38: =claims!F38 -> 7 | Z38: =IF(G38>100,IF(V38<1,0,+V38/G38),IF(V38<1,0,+V38/100)) -> 0.001526805 | AA38: =IF(L38>100,IF(W38<1,0,+W38/L38),IF(W38<1,0,+W38/100)) -> 0.0044262031 | AB38: =IF(Q38>100,IF(X38<1,0,+X38/Q38),IF(X38<1,0,+X38/100)) -> 0.0027293907 | AD38: =(+Z38+(AA38*2)+(AB38*3))/6 -> 0.0030945639
A39: A305 | B39: General Land Office | C39: 700.4 | D39: 715.7 | E39: 722.5 | F39: 727.8 | G39: =AVERAGE(C39:F39) -> 716.6 | H39: 698.1 | I39: 701.2 | J39: 711.7 | K39: 731 | L39: =AVERAGE(H39:K39) -> 710.5 | M39: 736.6 | N39: 739.1 | O39: 733.9 | P39: 750.6 | Q39: =AVERAGE(M39:P39) -> 740.05 | R39: =IF(G39>0,(+G39+(L39*2)+(Q39*3))/6,IF(L39>0,((L39*2)+(Q39*3))/5,Q39)) -> 726.29167 | T39: =+R39/$R$267 -> 0.0040863931 | V39: =claims!D39 -> 0 | W39: =claims!E39 -> 2 | X39: =claims!F39 -> 4 | Z39: =IF(G39>100,IF(V39<1,0,+V39/G39),IF(V39<1,0,+V39/100)) -> 0 | AA39: =IF(L39>100,IF(W39<1,0,+W39/L39),IF(W39<1,0,+W39/100)) -> 0.0028149191 | AB39: =IF(Q39>100,IF(X39<1,0,+X39/Q39),IF(X39<1,0,+X39/100)) -> 0.0054050402 | AD39: =(+Z39+(AA39*2)+(AB39*3))/6 -> 0.0036408265
A40: A306 | B40: Library and Archives Commission | C40: 154.1 | D40: 153.6 | E40: 152.9 | F40: 150.4 | G40: =AVERAGE(C40:F40) -> 152.75 | H40: 153.1 | I40: 153.3 | J40: 157 | K40: 151.7 | L40: =AVERAGE(H40:K40) -> 153.775 | M40: 153.1 | N40: 149.6 | O40: 151.5 | P40: 157 | Q40: =AVERAGE(M40:P40) -> 152.8 | R40: =IF(G40>0,(+G40+(L40*2)+(Q40*3))/6,IF(L40>0,((L40*2)+(Q40*3))/5,Q40)) -> 153.11667 | T40: =+R40/$R$267 -> 0.00086149258 | V40: =claims!D40 -> 0 | W40: =claims!E40 -> 0 | X40: =claims!F40 -> 1 | Z40: =IF(G40>100,IF(V40<1,0,+V40/G40),IF(V40<1,0,+V40/100)) -> 0 | AA40: =IF(L40>100,IF(W40<1,0,+W40/L40),IF(W40<1,0,+W40/100)) -> 0 | AB40: =IF(Q40>100,IF(X40<1,0,+X40/Q40),IF(X40<1,0,+X40/100)) -> 0.0065445026 | AD40: =(+Z40+(AA40*2)+(AB40*3))/6 -> 0.0032722513
A41: A307 | B41: Secretary of State | C41: 177.6 | D41: 177.1 | E41: 173.7 | F41: 168.5 | G41: =AVERAGE(C41:F41) -> 174.225 | H41: 168.6 | I41: 176.2 | J41: 190.5 | K41: 190.5 | L41: =AVERAGE(H41:K41) -> 181.45 | M41: 198.1 | N41: 198.5 | O41: 199.3 | P41: 206 | Q41: =AVERAGE(M41:P41) -> 200.475 | R41: =IF(G41>0,(+G41+(L41*2)+(Q41*3))/6,IF(L41>0,((L41*2)+(Q41*3))/5,Q41)) -> 189.75833 | T41: =+R41/$R$267 -> 0.0010676525 | V41: =claims!D41 -> 0 | W41: =claims!E41 -> 1 | X41: =claims!F41 -> 0 | Z41: =IF(G41>100,IF(V41<1,0,+V41/G41),IF(V41<1,0,+V41/100)) -> 0 | AA41: =IF(L41>100,IF(W41<1,0,+W41/L41),IF(W41<1,0,+W41/100)) -> 0.0055111601 | AB41: =IF(Q41>100,IF(X41<1,0,+X41/Q41),IF(X41<1,0,+X41/100)) -> 0 | AD41: =(+Z41+(AA41*2)+(AB41*3))/6 -> 0.0018370534
A42: A308 | B42: State Auditor's Office | C42: 179 | D42: 185 | E42: 183 | F42: 182 | G42: =AVERAGE(C42:F42) -> 182.25 | H42: 177 | I42: 181 | J42: 180 | K42: 179 | L42: =AVERAGE(H42:K42) -> 179.25 | M42: 175 | N42: 174 | O42: 174.4 | P42: 176 | Q42: =AVERAGE(M42:P42) -> 174.85 | R42: =IF(G42>0,(+G42+(L42*2)+(Q42*3))/6,IF(L42>0,((L42*2)+(Q42*3))/5,Q42)) -> 177.55 | T42: =+R42/$R$267 -> 0.00099896381 | V42: =claims!D42 -> 0 | W42: =claims!E42 -> 0 | X42: =claims!F42 -> 1 | Z42: =IF(G42>100,IF(V42<1,0,+V42/G42),IF(V42<1,0,+V42/100)) -> 0 | AA42: =IF(L42>100,IF(W42<1,0,+W42/L42),IF(W42<1,0,+W42/100)) -> 0 | AB42: =IF(Q42>100,IF(X42<1,0,+X42/Q42),IF(X42<1,0,+X42/100)) -> 0.0057191879 | AD42: =(+Z42+(AA42*2)+(AB42*3))/6 -> 0.0028595939
A43: A312 | B43: Securities Board | C43: 80.3 | D43: 80.3 | E43: 80.3 | F43: 81.3 | G43: =AVERAGE(C43:F43) -> 80.55 | H43: 81.3 | I43: 80.3 | J43: 78.3 | K43: 77.3 | L43: =AVERAGE(H43:K43) -> 79.3 | M43: 78.3 | N43: 80.3 | O43: 78.3 | P43: 80.3 | Q43: =AVERAGE(M43:P43) -> 79.3 | R43: =IF(G43>0,(+G43+(L43*2)+(Q43*3))/6,IF(L43>0,((L43*2)+(Q43*3))/5,Q43)) -> 79.508333 | T43: =+R43/$R$267 -> 0.00044734411 | V43: =claims!D43 -> 0 | W43: =claims!E43 -> 0 | X43: =claims!F43 -> 0 | Z43: =IF(G43>100,IF(V43<1,0,+V43/G43),IF(V43<1,0,+V43/100)) -> 0 | AA43: =IF(L43>100,IF(W43<1,0,+W43/L43),IF(W43<1,0,+W43/100)) -> 0 | AB43: =IF(Q43>100,IF(X43<1,0,+X43/Q43),IF(X43<1,0,+X43/100)) -> 0 | AD43: =(+Z43+(AA43*2)+(AB43*3))/6 -> 0
A44: A313 | B44: Information Resources, Dept. of | C44: 193.4 | D44: 192.7 | E44: 196.6 | F44: 199.6 | G44: =AVERAGE(C44:F44) -> 195.575 | H44: 200.1 | I44: 206.9 | J44: 221.9 | K44: 213.8 | L44: =AVERAGE(H44:K44) -> 210.675 | M44: 213.4 | N44: 212.5 | O44: 220.4 | P44: 225.7 | Q44: =AVERAGE(M44:P44) -> 218 | R44: =IF(G44>0,(+G44+(L44*2)+(Q44*3))/6,IF(L44>0,((L44*2)+(Q44*3))/5,Q44)) -> 211.82083 | T44: =+R44/$R$267 -> 0.0011917845 | V44: =claims!D44 -> 1 | W44: =claims!E44 -> 0 | X44: =claims!F44 -> 0 | Z44: =IF(G44>100,IF(V44<1,0,+V44/G44),IF(V44<1,0,+V44/100)) -> 0.005113128 | AA44: =IF(L44>100,IF(W44<1,0,+W44/L44),IF(W44<1,0,+W44/100)) -> 0 | AB44: =IF(Q44>100,IF(X44<1,0,+X44/Q44),IF(X44<1,0,+X44/100)) -> 0 | AD44: =(+Z44+(AA44*2)+(AB44*3))/6 -> 0.00085218799
A45: A320 | B45: Texas Workforce Commission | C45: 5133.6 | D45: 5412.1 | E45: 5444.5 | F45: 5437.7 | G45: =AVERAGE(C45:F45) -> 5356.975 | H45: 5221 | I45: 4846.6 | J45: 4666.3 | K45: 4703.8 | L45: =AVERAGE(H45:K45) -> 4859.425 | M45: 4674 | N45: 4655.7 | O45: 4761.1 | P45: 4710.5 | Q45: =AVERAGE(M45:P45) -> 4700.325 | R45: =IF(G45>0,(+G45+(L45*2)+(Q45*3))/6,IF(L45>0,((L45*2)+(Q45*3))/5,Q45)) -> 4862.8 | T45: =+R45/$R$267 -> 0.027359962 | V45: =claims!D45 -> 5 | W45: =claims!E45 -> 17 | X45: =claims!F45 -> 25 | Z45: =IF(G45>100,IF(V45<1,0,+V45/G45),IF(V45<1,0,+V45/100)) -> 0.00093336258 | AA45: =IF(L45>100,IF(W45<1,0,+W45/L45),IF(W45<1,0,+W45/100)) -> 0.0034983563 | AB45: =IF(Q45>100,IF(X45<1,0,+X45/Q45),IF(X45<1,0,+X45/100)) -> 0.0053187811 | AD45: =(+Z45+(AA45*2)+(AB45*3))/6 -> 0.0039810698
A46: A326 | B46: Texas Emergency Services Retirement System | C46: 8 | D46: 8.2 | E46: 8 | F46: 8.1 | G46: =AVERAGE(C46:F46) -> 8.075 | H46: 9 | I46: 9 | J46: 9 | K46: 8 | L46: =AVERAGE(H46:K46) -> 8.75 | M46: 9 | N46: 6 | O46: 7 | P46: 9 | Q46: =AVERAGE(M46:P46) -> 7.75 | R46: =IF(G46>0,(+G46+(L46*2)+(Q46*3))/6,IF(L46>0,((L46*2)+(Q46*3))/5,Q46)) -> 8.1375 | T46: =+R46/$R$267 -> 4.5784669e-05 | V46: =claims!D46 -> 0 | W46: =claims!E46 -> 0 | X46: =claims!F46 -> 0 | Z46: =IF(G46>100,IF(V46<1,0,+V46/G46),IF(V46<1,0,+V46/100)) -> 0 | AA46: =IF(L46>100,IF(W46<1,0,+W46/L46),IF(W46<1,0,+W46/100)) -> 0 | AB46: =IF(Q46>100,IF(X46<1,0,+X46/Q46),IF(X46<1,0,+X46/100)) -> 0 | AD46: =(+Z46+(AA46*2)+(AB46*3))/6 -> 0
A47: A329 | B47: Real Estate Commission | C47: 135.3 | D47: 135.1 | E47: 134 | F47: 134 | G47: =AVERAGE(C47:F47) -> 134.6 | H47: 139 | I47: 138 | J47: 140 | K47: 147 | L47: =AVERAGE(H47:K47) -> 141 | M47: 151 | N47: 159 | O47: 157 | P47: 161 | Q47: =AVERAGE(M47:P47) -> 157 | R47: =IF(G47>0,(+G47+(L47*2)+(Q47*3))/6,IF(L47>0,((L47*2)+(Q47*3))/5,Q47)) -> 147.93333 | T47: =+R47/$R$267 -> 0.00083232918 | V47: =claims!D47 -> 0 | W47: =claims!E47 -> 0 | X47: =claims!F47 -> 0 | Z47: =IF(G47>100,IF(V47<1,0,+V47/G47),IF(V47<1,0,+V47/100)) -> 0 | AA47: =IF(L47>100,IF(W47<1,0,+W47/L47),IF(W47<1,0,+W47/100)) -> 0 | AB47: =IF(Q47>100,IF(X47<1,0,+X47/Q47),IF(X47<1,0,+X47/100)) -> 0 | AD47: =(+Z47+(AA47*2)+(AB47*3))/6 -> 0
... A103: A696 | B103: Criminal Justice, Department of | C103: 33297.7 | D103: 33239.5 | E103: 32612 | F103: 31224.7 | G103: =AVERAGE(C103:F103) -> 32593.475 | H103: 29676.1 | I103: 28941.4 | J103: 28619.2 | K103: 29072.3 | L103: =AVERAGE(H103:K103) -> 29077.25 | M103: 29363.4 | N103: 29622 | O103: 29896.5 | P103: 30029.3 | Q103: =AVERAGE(M103:P103) -> 29727.8 | R103: =IF(G103>0,(+G103+(L103*2)+(Q103*3))/6,IF(L103>0,((L103*2)+(Q103*3))/5,Q103)) -> 29988.562 | T103: =+R103/$R$267 -> 0.16872705 | V103: =claims!D103 -> 2314 | W103: =claims!E103 -> 2223 | X103: =claims!F103 -> 1662 | Z103: =IF(G103>100,IF(V103<1,0,+V103/G103),IF(V103<1,0,+V103/100)) -> 0.070995805 | AA103: =IF(L103>100,IF(W103<1,0,+W103/L103),IF(W103<1,0,+W103/100)) -> 0.076451521 | AB103: =IF(Q103>100,IF(X103<1,0,+X103/Q103),IF(X103<1,0,+X103/100)) -> 0.055907265 | AD103: =(+Z103+(AA103*2)+(AB103*3))/6 -> 0.065270107
A104: WSD | B104: Windham School District | F104: 906.4 | G104: =AVERAGE(C104:F104) -> 906.4 | K104: 875.6 | L104: =AVERAGE(H104:K104) -> 875.6 | P104: 900.7 | Q104: =AVERAGE(M104:P104) -> 900.7 | R104: =IF(G104>0,(+G104+(L104*2)+(Q104*3))/6,IF(L104>0,((L104*2)+(Q104*3))/5,Q104)) -> 893.28333 | T104: =+R104/$R$267 -> 0.0050259517 | V104: =claims!D104 -> 6 | W104: =claims!E104 -> 9 | X104: =claims!F104 -> 6 | Z104: =IF(G104>100,IF(V104<1,0,+V104/G104),IF(V104<1,0,+V104/100)) -> 0.006619594 | AA104: =IF(L104>100,IF(W104<1,0,+W104/L104),IF(W104<1,0,+W104/100)) -> 0.010278666 | AB104: =IF(Q104>100,IF(X104<1,0,+X104/Q104),IF(X104<1,0,+X104/100)) -> 0.0066614855 | AD104: =(+Z104+(AA104*2)+(AB104*3))/6 -> 0.0078602304
A105: A701 | B105: Education Agency, Texas | C105: 995.6 | D105: 996.8 | E105: 992.2 | F105: 1011.4 | G105: =AVERAGE(C105:F105) -> 999 | H105: 1035.8 | I105: 1062 | J105: 1087.5 | K105: 1115.2 | L105: =AVERAGE(H105:K105) -> 1075.125 | M105: 1136.4 | N105: 1105.7 | O105: 1102.9 | P105: 1138.1 | Q105: =AVERAGE(M105:P105) -> 1120.775 | R105: =IF(G105>0,(+G105+(L105*2)+(Q105*3))/6,IF(L105>0,((L105*2)+(Q105*3))/5,Q105)) -> 1085.2625 | T105: =+R105/$R$267 -> 0.0061060995 | V105: =claims!D105 -> 0 | W105: =claims!E105 -> 0 | X105: =claims!F105 -> 3 | Z105: =IF(G105>100,IF(V105<1,0,+V105/G105),IF(V105<1,0,+V105/100)) -> 0 | AA105: =IF(L105>100,IF(W105<1,0,+W105/L105),IF(W105<1,0,+W105/100)) -> 0 | AB105: =IF(Q105>100,IF(X105<1,0,+X105/Q105),IF(X105<1,0,+X105/100)) -> 0.0026767192 | AD105: =(+Z105+(AA105*2)+(AB105*3))/6 -> 0.0013383596
A106: A706 | B106: Texas Permanent School Fund Corporation | C106: 0 | D106: 0 | E106: 0 | F106: 0 | G106: =AVERAGE(C106:F106) -> 0 | H106: 0 | I106: 0 | J106: 0 | K106: 0 | L106: =AVERAGE(H106:K106) -> 0 | N106: 84.8 | O106: 87.9 | P106: 94.6 | Q106: =AVERAGE(M106:P106) -> 89.1 | R106: =IF(G106>0,(+G106+(L106*2)+(Q106*3))/6,IF(L106>0,((L106*2)+(Q106*3))/5,Q106)) -> 89.1 | T106: =+R106/$R$267 -> 0.00050131048 | V106: =claims!D106 -> 0 | W106: =claims!E106 -> 0 | X106: =claims!F106 -> 0 | Z106: =IF(G106>100,IF(V106<1,0,+V106/G106),IF(V106<1,0,+V106/100)) -> 0 | AA106: =IF(L106>100,IF(W106<1,0,+W106/L106),IF(W106<1,0,+W106/100)) -> 0 | AB106: =IF(Q106>100,IF(X106<1,0,+X106/Q106),IF(X106<1,0,+X106/100)) -> 0 | AD106: =(+Z106+(AA106*2)+(AB106*3))/6 -> 0
A107: A717 | B107: Texas Southern University | C107: 1300.4 | D107: 1286.8 | E107: 1247.8 | F107: 1297.4 | G107: =AVERAGE(C107:F107) -> 1283.1 | H107: 1411.5 | I107: 1322.2 | J107: 1206.1 | K107: 1122.9 | L107: =AVERAGE(H107:K107) -> 1265.675 | M107: 1102.7 | N107: 1197.9 | O107: 1165.5 | P107: 799 | Q107: =AVERAGE(M107:P107) -> 1066.275 | R107: =IF(G107>0,(+G107+(L107*2)+(Q107*3))/6,IF(L107>0,((L107*2)+(Q107*3))/5,Q107)) -> 1168.8792 | T107: =+R107/$R$267 -> 0.0065765586 | V107: =claims!D107 -> 13 | W107: =claims!E107 -> 17 | X107: =claims!F107 -> 16 | Z107: =IF(G107>100,IF(V107<1,0,+V107/G107),IF(V107<1,0,+V107/100)) -> 0.010131712 | AA107: =IF(L107>100,IF(W107<1,0,+W107/L107),IF(W107<1,0,+W107/100)) -> 0.013431568 | AB107: =IF(Q107>100,IF(X107<1,0,+X107/Q107),IF(X107<1,0,+X107/100)) -> 0.01500551 | AD107: =(+Z107+(AA107*2)+(AB107*3))/6 -> 0.013668563
A108: A719 | B108: Texas State Technical College - System | C108: 1535.3 | D108: 1495.7 | E108: 1517.4 | F108: 1530.8 | G108: =AVERAGE(C108:F108) -> 1519.8 | H108: 1529.4 | I108: 1516.3 | J108: 1516.2 | K108: 1529.9 | L108: =AVERAGE(H108:K108) -> 1522.95 | M108: =42.2+61.7+85.3+485.5+222.1+658+92.5 -> 1647.3 | N108: =43.7+62.9+89.4+497.3+218.2+660+93.1 -> 1664.6 | O108: =46.6+67+91.3+507.8+216.2+682.7+95.2 -> 1706.8 | P108: =48.4+68.1+92.2+506+214.9+686.6+97.2 -> 1713.4 | Q108: =AVERAGE(M108:P108) -> 1683.025 | R108: =IF(G108>0,(+G108+(L108*2)+(Q108*3))/6,IF(L108>0,((L108*2)+(Q108*3))/5,Q108)) -> 1602.4625 | T108: =+R108/$R$267 -> 0.0090160633 | V108: =claims!D108 -> 15 | W108: =claims!E108 -> 19 | X108: =claims!F108 -> 23 | Z108: =IF(G108>100,IF(V108<1,0,+V108/G108),IF(V108<1,0,+V108/100)) -> 0.0098697197 | AA108: =IF(L108>100,IF(W108<1,0,+W108/L108),IF(W108<1,0,+W108/100)) -> 0.012475787 | AB108: =IF(Q108>100,IF(X108<1,0,+X108/Q108),IF(X108<1,0,+X108/100)) -> 0.013665869 | AD108: =(+Z108+(AA108*2)+(AB108*3))/6 -> 0.012636484
A109: A730 | B109: University of Houston | C109: 6856.1 | D109: 6720.7 | E109: 6834.4 | F109: 5343.3 | G109: =AVERAGE(C109:F109) -> 6438.625 | H109: 6885.3 | I109: 6714.1 | J109: 6790.7 | K109: 5340.6 | L109: =AVERAGE(H109:K109) -> 6432.675 | M109: 7030.3 | N109: 6858 | O109: 6978.7 | P109: 5550.6 | Q109: =AVERAGE(M109:P109) -> 6604.4 | R109: =IF(G109>0,(+G109+(L109*2)+(Q109*3))/6,IF(L109>0,((L109*2)+(Q109*3))/5,Q109)) -> 6519.5292 | T109: =+R109/$R$267 -> 0.03668135 | V109: =claims!D109 -> 49 | W109: =claims!E109 -> 66 | X109: =claims!F109 -> 74 | Z109: =IF(G109>100,IF(V109<1,0,+V109/G109),IF(V109<1,0,+V109/100)) -> 0.0076103205 | AA109: =IF(L109>100,IF(W109<1,0,+W109/L109),IF(W109<1,0,+W109/100)) -> 0.010260117 | AB109: =IF(Q109>100,IF(X109<1,0,+X109/Q109),IF(X109<1,0,+X109/100)) -> 0.011204651 | AD109: =(+Z109+(AA109*2)+(AB109*3))/6 -> 0.010290752
A110: A731 | B110: Texas Woman's University | C110: 1829.4 | D110: 1946.8 | E110: 1867.4 | F110: 1390.9 | G110: =AVERAGE(C110:F110) -> 1758.625 | H110: 1901.5 | I110: 1997.7 | J110: 1888.8 | K110: 1452.2 | L110: =AVERAGE(H110:K110) -> 1810.05 | M110: 1938.5 | N110: 2072.9 | O110: 1977 | P110: 1549.3 | Q110: =AVERAGE(M110:P110) -> 1884.425 | R110: =IF(G110>0,(+G110+(L110*2)+(Q110*3))/6,IF(L110>0,((L110*2)+(Q110*3))/5,Q110)) -> 1838.6667 | T110: =+R110/$R$267 -> 0.010345038 | V110: =claims!D110 -> 29 | W110: =claims!E110 -> 29 | X110: =claims!F110 -> 32 | Z110: =IF(G110>100,IF(V110<1,0,+V110/G110),IF(V110<1,0,+V110/100)) -> 0.016490156 | AA110: =IF(L110>100,IF(W110<1,0,+W110/L110),IF(W110<1,0,+W110/100)) -> 0.016021657 | AB110: =IF(Q110>100,IF(X110<1,0,+X110/Q110),IF(X110<1,0,+X110/100)) -> 0.016981307 | AD110: =(+Z110+(AA110*2)+(AB110*3))/6 -> 0.016579565
A111: A733 | B111: Texas Tech University | C111: 7195 | D111: 6808.2 | E111: 7133.2 | F111: 5570 | G111: =AVERAGE(C111:F111) -> 6676.6 | H111: 7390.6 | I111: 7093.9 | J111: 7356.9 | K111: 5829.6 | L111: =AVERAGE(H111:K111) -> 6917.75 | M111: =7538.5+240.5 -> 7779 | N111: =7247.4+243.4 -> 7490.8 | O111: =7490+248.8 -> 7738.8 | P111: =5954.8+250.2 -> 6205 | Q111: =AVERAGE(M111:P111) -> 7303.4 | R111: =IF(G111>0,(+G111+(L111*2)+(Q111*3))/6,IF(L111>0,((L111*2)+(Q111*3))/5,Q111)) -> 7070.3833 | T111: =+R111/$R$267 -> 0.039780665 | V111: =claims!D111 -> 84 | W111: =claims!E111 -> 101 | X111: =claims!F111 -> 105 | Z111: =IF(G111>100,IF(V111<1,0,+V111/G111),IF(V111<1,0,+V111/100)) -> 0.012581254 | AA111: =IF(L111>100,IF(W111<1,0,+W111/L111),IF(W111<1,0,+W111/100)) -> 0.014600123 | AB111: =IF(Q111>100,IF(X111<1,0,+X111/Q111),IF(X111<1,0,+X111/100)) -> 0.014376866 | AD111: =(+Z111+(AA111*2)+(AB111*3))/6 -> 0.014152016
