Workbook

Sheet invoices
D1: Total | H1: Previous | K1: Paid | L1: Total Previous | M1: Initial | N1: Additional
A2: Agency | D2: Assessment | F2: Assessment | H2: Payment | J2: Invoiced | K2: License | L2: Payment | M2: License's | N2: License's | O2: License | P2: License | Q2: Invoice
A3: Code | B3: Name | D3: Percentage | F3: Amount | H3: Amount | J3: Amount | K3: Fees | L3: Amount | M3: Requested | N3: Requested | O3: Fee | P3: Subtotal | Q3: Amount Due
A5: A101 | B5: Texas Senate | D5: =+assessment!H5 -> 0.00071848859 | F5: =+assessment!J5 -> 37598.688 | H5: -32348.953 | J5: =SUM(F5:H5) -> 5249.7355 | K5: -225 | L5: =H5+K5 -> -32573.953 | M5: 1 | N5: 0 | O5: 225 | P5: =O5*N5 -> 0 | Q5: =P5+J5 -> 5249.7355
A6: A102 | B6: Texas House of Representatives | D6: =+assessment!H6 -> 0.00093692565 | F6: =+assessment!J6 -> 49029.555 | H6: -42183.381 | J6: =SUM(F6:H6) -> 6846.1732 | K6: -225 | L6: =H6+K6 -> -42408.381 | M6: 1 | N6: 0 | O6: 225 | P6: =O6*N6 -> 0 | Q6: =P6+J6 -> 6846.1732
A7: A103 | B7: Legislative Council | D7: =+assessment!H7 -> 0.00058928431 | F7: =+assessment!J7 -> 30837.396 | H7: -26531.822 | J7: =SUM(F7:H7) -> 4305.5734 | K7: -225 | L7: =H7+K7 -> -26756.822 | M7: 1 | N7: 0 | O7: 225 | P7: =O7*N7 -> 0 | Q7: =P7+J7 -> 4305.5734
A8: A104 | B8: Legislative Budget Board | D8: =+assessment!H8 -> 0.00023408977 | F8: =+assessment!J8 -> 12249.976 | H8: -10539.718 | J8: =SUM(F8:H8) -> 1710.2586 | K8: -225 | L8: =H8+K8 -> -10764.718 | M8: 1 | N8: 0 | O8: 225 | P8: =O8*N8 -> 0 | Q8: =P8+J8 -> 1710.2586
A9: A105 | B9: Legislative Reference Library | D9: =+assessment!H9 -> 3.0545676e-05 | F9: =+assessment!J9 -> 1598.4629 | H9: -1375.2673 | J9: =SUM(F9:H9) -> 223.19553 | K9: 0 | L9: =H9+K9 -> -1375.2673 | M9: 0 | N9: 0 | O9: 225 | P9: =O9*N9 -> 0 | Q9: =P9+J9 -> 223.19553
A10: A116 | B10: Sunset Advisory Commission | D10: =+assessment!H10 -> 4.4365642e-05 | F10: =+assessment!J10 -> 2321.6652 | H10: -1997.5121 | J10: =SUM(F10:H10) -> 324.15312 | K10: -225 | L10: =H10+K10 -> -2222.5121 | M10: 1 | N10: 0 | O10: 225 | P10: =O10*N10 -> 0 | Q10: =P10+J10 -> 324.15312
A11: A201 | B11: Supreme Court of Texas | D11: =+assessment!H11 -> 0.00014616604 | F11: =+assessment!J11 -> 7648.9054 | H11: -6580.9788 | J11: =SUM(F11:H11) -> 1067.9266 | K11: -225 | L11: =H11+K11 -> -6805.9788 | M11: 1 | N11: 0 | O11: 225 | P11: =O11*N11 -> 0 | Q11: =P11+J11 -> 1067.9266
A12: A203 | B12: Law Examiners, Board of | D12: =+assessment!H12 -> 3.5860618e-05 | F12: =+assessment!J12 -> 1876.5952 | H12: -1614.5795 | J12: =SUM(F12:H12) -> 262.0157 | K12: 0 | L12: =H12+K12 -> -1614.5795 | M12: 0 | N12: 0 | O12: 225 | P12: =O12*N12 -> 0 | Q12: =P12+J12 -> 262.0157
A13: A211 | B13: Court of Criminal Appeals | D13: =+assessment!H13 -> 0.0001220749 | F13: =+assessment!J13 -> 6388.2099 | H13: -5496.3299 | J13: =SUM(F13:H13) -> 891.88 | K13: -225 | L13: =H13+K13 -> -5721.3299 | M13: 1 | N13: 0 | O13: 225 | P13: =O13*N13 -> 0 | Q13: =P13+J13 -> 891.88
A14: A212 | B14: Court Administration, Office of | D14: =+assessment!H14 -> 0.00044010938 | F14: =+assessment!J14 -> 23031.034 | H14: -19815.403 | J14: =SUM(F14:H14) -> 3215.6318 | K14: 0 | L14: =H14+K14 -> -19815.403 | M14: 0 | N14: 0 | O14: 225 | P14: =O14*N14 -> 0 | Q14: =P14+J14 -> 3215.6318
A15: A213 | B15: Prosecuting Attorney, State | D15: =+assessment!H15 -> 7.3250211e-06 | F15: =+assessment!J15 -> 383.3202 | H15: -329.80345 | J15: =SUM(F15:H15) -> 53.516748 | K15: -225 | L15: =H15+K15 -> -554.80345 | M15: 1 | N15: 0 | O15: 225 | P15: =O15*N15 -> 0 | Q15: =P15+J15 -> 53.516748
A16: A215 | B16: Office of Capital and Forensic Writs | D16: =+assessment!H16 -> 3.8197546e-05 | F16: =+assessment!J16 -> 1998.8872 | H16: -1719.8058 | J16: =SUM(F16:H16) -> 279.0814 | K16: 0 | L16: =H16+K16 -> -1719.8058 | M16: 0 | N16: 0 | O16: 225 | P16: =O16*N16 -> 0 | Q16: =P16+J16 -> 279.0814
... A261: C252 | B261: Young | D261: =+assessment!H261 -> 8.5616124e-06 | F261: =+assessment!J261 -> 448.03133 | H261: -385.46952 | J261: =SUM(F261:H261) -> 62.56181 | K261: 0 | L261: =H261+K261 -> -385.46952 | M261: 0 | N261: 0 | O261: 225 | P261: =O261*N261 -> 0 | Q261: =P261+J261 -> 62.56181
B262: CSCDs | D262: =SUBTOTAL(9,D140:D261) -> 0.012438586 | F262: =SUBTOTAL(9,F140:F261) -> 650914.32 | H262: =SUBTOTAL(9,H140:H261) -> -560015.54 | J262: =SUBTOTAL(9,J140:J261) -> 90898.775 | K262: =SUBTOTAL(9,K140:K261) -> -5850 | L262: =SUBTOTAL(9,L140:L261) -> -565865.54 | M262: =SUBTOTAL(9,M140:M261) -> 26 | N262: =SUBTOTAL(9,N140:N261) -> 1 | O262: 225 | P262: =SUBTOTAL(9,P140:P261) -> 225 | Q262: =SUBTOTAL(9,Q140:Q261) -> 91123.775
D264: =SUBTOTAL(9,D4:D263) -> 1 | F264: =SUBTOTAL(9,F4:F263) -> 52330251 | H264: =SUBTOTAL(9,H4:H263) -> -45020544 | J264: =SUBTOTAL(9,J4:J263) -> 7309707.2 | K264: =SUBTOTAL(9,K4:K263) -> -43875 | L264: =SUBTOTAL(9,L4:L263) -> -45064419 | M264: =SUBTOTAL(9,M4:M263) -> 195 | N264: =SUBTOTAL(9,N4:N263) -> 7 | P264: =SUBTOTAL(9,P4:P263) -> 1575 | Q264: =SUBTOTAL(9,Q4:Q263) -> 7311282.2
D267: Projected Current FY (2026) Claim Payments | F267: =assessment!J267 -> 43000000 | H267: =+$H$264*(F267/$F$272) -> -36993581 | J267: =SUM(F267:H267) -> 6006418.9
D268: Previous FY Collected Shortage (Overage) | F268: =assessment!J268 -> -2966696.8 | H268: =+$H$264*(F268/$F$272) -> 2552296.2 | J268: =SUM(F268:H268) -> -414400.55
D269: Risk Management and Workers' Comp. Administration | F269: =assessment!J269 -> 15757392 | H269: =+$H$264*(F269/$F$272) -> -13556334 | J269: =SUM(F269:H269) -> 2201058.1
D270: Previous FY Collected Shortage (Overage) | F270: =assessment!J270 -> -3460444 | H270: =+$H$264*(F270/$F$272) -> 2977074.8 | J270: =SUM(F270:H270) -> -483369.21
F272: =SUM(F267:F271) -> 52330251 | H272: =SUM(H267:H271) -> -45020544 | J272: =SUM(J267:J271) -> 7309707.2

Sheet assessment
F1: Costs | H1: Total | O1: Initial | R1: Initial
A2: Agency | C2: Payroll * | D2: FTEs | E2: # Claims | F2: (Payouts) | H2: Assessment | J2: Assessment | L2: % of | O2: FY 2026 | R2: FY 2026
A3: Code | B3: Name | C3: 0.125 | D3: 0.125 | E3: 0.15 | F3: 0.6 | H3: Percentage | J3: Amount | L3: Payroll | O3: Assessment | P3: difference | R3: Percentage | S3: difference
A5: A101 | B5: Texas Senate | C5: =+payroll!G5 -> 0.0030468313 | D5: =+IFR!T5 -> 0.0027010775 | E5: =+claims!R5 -> 0 | F5: =+costs!L5 -> 0 | H5: =(C5*$C$3)+(D5*$D$3)+(E5*$E$3)+(F5*$F$3) -> 0.00071848859 | J5: =(+H5*$J$272) -> 37598.688 | L5: =+J5/payroll!F5 -> 0.0010211881 | O5: 43131.937 | P5: =+J5-O5 -> -5533.2489 | R5: 0.00071853759 | S5: =+H5-R5 -> -4.8995217e-08
A6: A102 | B6: Texas House of Representatives | C6: =+payroll!G6 -> 0.0033044859 | D6: =+IFR!T6 -> 0.0039696114 | E6: =+claims!R6 -> 0.00017176125 | F6: =+costs!L6 -> 3.1655143e-06 | H6: =(C6*$C$3)+(D6*$D$3)+(E6*$E$3)+(F6*$F$3) -> 0.00093692565 | J6: =(+H6*$J$272) -> 49029.555 | L6: =+J6/payroll!F6 -> 0.0012278223 | O6: 56244.509 | P6: =+J6-O6 -> -7214.9539 | R6: 0.00093698071 | S6: =+H6-R6 -> -5.5063169e-08
A7: A103 | B7: Legislative Council | C7: =+payroll!G7 -> 0.0026369337 | D7: =+IFR!T7 -> 0.0020773407 | E7: =+claims!R7 -> 0 | F7: =+costs!L7 -> 0 | H7: =(C7*$C$3)+(D7*$D$3)+(E7*$E$3)+(F7*$F$3) -> 0.00058928431 | J7: =(+H7*$J$272) -> 30837.396 | L7: =+J7/payroll!F7 -> 0.0009677428 | O7: 35375.763 | P7: =+J7-O7 -> -4538.3674 | R7: 0.00058932701 | S7: =+H7-R7 -> -4.2699431e-08
A8: A104 | B8: Legislative Budget Board | C8: =+payroll!G8 -> 0.0011759811 | D8: =+IFR!T8 -> 0.00069673699 | E8: =+claims!R8 -> 0 | F8: =+costs!L8 -> 0 | H8: =(C8*$C$3)+(D8*$D$3)+(E8*$E$3)+(F8*$F$3) -> 0.00023408977 | J8: =(+H8*$J$272) -> 12249.976 | L8: =+J8/payroll!F8 -> 0.00086201805 | O8: 14052.957 | P8: =+J8-O8 -> -1802.9806 | R8: 0.00023410907 | S8: =+H8-R8 -> -1.9303298e-08
A9: A105 | B9: Legislative Reference Library | C9: =+payroll!G9 -> 0.00011811767 | D9: =+IFR!T9 -> 0.00012624773 | E9: =+claims!R9 -> 0 | F9: =+costs!L9 -> 0 | H9: =(C9*$C$3)+(D9*$D$3)+(E9*$E$3)+(F9*$F$3) -> 3.0545676e-05 | J9: =(+H9*$J$272) -> 1598.4629 | L9: =+J9/payroll!F9 -> 0.001119874 | O9: 1833.6898 | P9: =+J9-O9 -> -235.22692 | R9: 3.0547551e-05 | S9: =+H9-R9 -> -1.8749623e-09
A10: A116 | B10: Sunset Advisory Commission | C10: =+payroll!G10 -> 0.00020096392 | D10: =+IFR!T10 -> 0.00015396121 | E10: =+claims!R10 -> 0 | F10: =+costs!L10 -> 0 | H10: =(C10*$C$3)+(D10*$D$3)+(E10*$E$3)+(F10*$F$3) -> 4.4365642e-05 | J10: =(+H10*$J$272) -> 2321.6652 | L10: =+J10/payroll!F10 -> 0.00095601114 | O10: 2663.3494 | P10: =+J10-O10 -> -341.68423 | R10: 4.4368901e-05 | S10: =+H10-R10 -> -3.2591216e-09
A11: A201 | B11: Supreme Court of Texas | C11: =+payroll!G11 -> 0.00062476658 | D11: =+IFR!T11 -> 0.00044726982 | E11: =+claims!R11 -> 5.7253749e-05 | F11: =+costs!L11 -> 5.9557072e-06 | H11: =(C11*$C$3)+(D11*$D$3)+(E11*$E$3)+(F11*$F$3) -> 0.00014616604 | J11: =(+H11*$J$272) -> 7648.9054 | L11: =+J11/payroll!F11 -> 0.0010131249 | O11: 8774.6384 | P11: =+J11-O11 -> -1125.733 | R11: 0.00014617724 | S11: =+H11-R11 -> -1.1203025e-08
A12: A203 | B12: Law Examiners, Board of | C12: =+payroll!G12 -> 0.00015795304 | D12: =+IFR!T12 -> 0.0001289319 | E12: =+claims!R12 -> 0 | F12: =+costs!L12 -> 0 | H12: =(C12*$C$3)+(D12*$D$3)+(E12*$E$3)+(F12*$F$3) -> 3.5860618e-05 | J12: =(+H12*$J$272) -> 1876.5952 | L12: =+J12/payroll!F12 -> 0.00098315968 | O12: 2152.7726 | P12: =+J12-O12 -> -276.17745 | R12: 3.5863171e-05 | S12: =+H12-R12 -> -2.5525988e-09
A13: A211 | B13: Court of Criminal Appeals | C13: =+payroll!G13 -> 0.00061148328 | D13: =+IFR!T13 -> 0.00036511588 | E13: =+claims!R13 -> 0 | F13: =+costs!L13 -> 0 | H13: =(C13*$C$3)+(D13*$D$3)+(E13*$E$3)+(F13*$F$3) -> 0.0001220749 | J13: =(+H13*$J$272) -> 6388.2099 | L13: =+J13/payroll!F13 -> 0.00086452202 | O13: 7328.4399 | P13: =+J13-O13 -> -940.22997 | R13: 0.00012208493 | S13: =+H13-R13 -> -1.0034061e-08
A14: A212 | B14: Court Administration, Office of | C14: =+payroll!G14 -> 0.0019733481 | D14: =+IFR!T14 -> 0.001547527 | E14: =+claims!R14 -> 0 | F14: =+costs!L14 -> 0 | H14: =(C14*$C$3)+(D14*$D$3)+(E14*$E$3)+(F14*$F$3) -> 0.00044010938 | J14: =(+H14*$J$272) -> 23031.034 | L14: =+J14/payroll!F14 -> 0.00096580893 | O14: 26420.537 | P14: =+J14-O14 -> -3389.5024 | R14: 0.00044014134 | S14: =+H14-R14 -> -3.1962104e-08
A15: A213 | B15: Prosecuting Attorney, State | C15: =+payroll!G15 -> 3.6576214e-05 | D15: =+IFR!T15 -> 2.2023955e-05 | E15: =+claims!R15 -> 0 | F15: =+costs!L15 -> 0 | H15: =(C15*$C$3)+(D15*$D$3)+(E15*$E$3)+(F15*$F$3) -> 7.3250211e-06 | J15: =(+H15*$J$272) -> 383.3202 | L15: =+J15/payroll!F15 -> 0.00086725022 | O15: 439.73793 | P15: =+J15-O15 -> -56.417734 | R15: 7.3256211e-06 | S15: =+H15-R15 -> -5.9998363e-10
A16: A215 | B16: Office of Capital and Forensic Writs | C16: =+payroll!G16 -> 0.0001793097 | D16: =+IFR!T16 -> 0.00012627067 | E16: =+claims!R16 -> 0 | F16: =+costs!L16 -> 0 | H16: =(C16*$C$3)+(D16*$D$3)+(E16*$E$3)+(F16*$F$3) -> 3.8197546e-05 | J16: =(+H16*$J$272) -> 1998.8872 | L16: =+J16/payroll!F16 -> 0.00092249916 | O16: 2293.0744 | P16: =+J16-O16 -> -294.1872 | R16: 3.8200467e-05 | S16: =+H16-R16 -> -2.9205515e-09
... A261: C252 | B261: Young | C261: =+payroll!G261 -> 2.9950978e-05 | D261: =+IFR!T261 -> 3.8541921e-05 | E261: =+claims!R261 -> 0 | F261: =+costs!L261 -> 0 | H261: =(C261*$C$3)+(D261*$D$3)+(E261*$E$3)+(F261*$F$3) -> 8.5616124e-06 | J261: =(+H261*$J$272) -> 448.03133 | L261: =+J261/payroll!F261 -> 0.0012378808 | O261: 513.95936 | P261: =+J261-O261 -> -65.92803 | R261: 8.5620804e-06 | S261: =+H261-R261 -> -4.6801748e-10
B262: CSCDs | C262: =SUBTOTAL(9,C140:C261) -> 0.023119588 | D262: =SUBTOTAL(9,D140:D261) -> 0.030331574 | E262: =SUBTOTAL(9,E140:E261) -> 0.009103346 | F262: =SUBTOTAL(9,F140:F261) -> 0.0073194811 | H262: =SUBTOTAL(9,H140:H261) -> 0.012438586 | J262: =(+H262*$J$272) -> 650914.32 | L262: =+J262/payroll!F262 -> 0.0023298352 | O262: =SUBTOTAL(9,O140:O261) -> 746687.39 | P262: =SUBTOTAL(9,P140:P261) -> -95773.073 | R262: =SUM(R140:R261) -> 0.012439111 | S262: =SUBTOTAL(9,S140:S261) -> -5.2521967e-07
C264: =SUBTOTAL(9,C4:C263) -> 1 | D264: =SUBTOTAL(9,D4:D263) -> 1 | E264: =SUBTOTAL(9,E4:E263) -> 1 | F264: =SUBTOTAL(9,F4:F263) -> 1 | H264: =SUBTOTAL(9,H4:H263) -> 1 | J264: =SUBTOTAL(9,J4:J261) -> 52330251 | L264: =+J264/payroll!F264 -> 0.0043304626 | O264: =SUBTOTAL(9,O4:O261) -> 60027392 | P264: =SUBTOTAL(9,P4:P263) -> -7697140.8 | R264: =SUBTOTAL(9,R4:R261) -> 1 | S264: =SUBTOTAL(9,S4:S263) -> 2.1426969e-17
H267: Projected Current FY (2026) Claim Payments | J267: 43000000 | O267: 45670000 | P267: =+J267-O267 -> -2670000
H268: Previous FY Collected Shortage (Overage) | J268: -2966696.8 | O268: -1000000 | P268: =+J268-O268 -> -1966696.8
H269: Risk Management and Workers' Comp. Administration(incl.required funding for emp.benefits) | J269: =13160325+2597067 -> 15757392 | O269: =13160325+2597067 -> 15757392 | P269: =+J269-O269 -> 0
H270: Previous FY Collected Shortage (Overage) | J270: -3460444 | O270: -400000 | P270: =+J270-O270 -> -3060444
J272: =SUM(J267:J271) -> 52330251 | O272: =SUM(O267:O271) -> 60027392 | P272: =SUM(P267:P271) -> -7697140.8

Sheet payroll
A2: Agency | F2: weighted | G2: Assessment
A3: Code | B3: Name | C3: FY2022 | D3: FY2023 | E3: FY2024 | F3: average | G3: Percentage
A5: A101 | B5: Texas Senate | C5: 30269078 | D5: 36697632 | E5: 39082362 | F5: =IF(C5>0,(+C5+(D5*2)+(E5*3))/6,IF(D5>0,((D5*2)+(E5*3))/5,E5)) -> 36818571 | G5: =+F5/$F$264 -> 0.0030468313
A6: A102 | B6: Texas House of Representatives | C6: 32615192 | D6: 40407364 | E6: 42054278 | F6: =IF(C6>0,(+C6+(D6*2)+(E6*3))/6,IF(D6>0,((D6*2)+(E6*3))/5,E6)) -> 39932126 | G6: =+F6/$F$264 -> 0.0033044859
A7: A103 | B7: Legislative Council | C7: 27860962 | D7: 32755436 | E7: 32606617 | F7: =IF(C7>0,(+C7+(D7*2)+(E7*3))/6,IF(D7>0,((D7*2)+(E7*3))/5,E7)) -> 31865281 | G7: =+F7/$F$264 -> 0.0026369337
A8: A104 | B8: Legislative Budget Board | C8: 11496805 | D8: 12724952 | E8: 16106054 | F8: =IF(C8>0,(+C8+(D8*2)+(E8*3))/6,IF(D8>0,((D8*2)+(E8*3))/5,E8)) -> 14210812 | G8: =+F8/$F$264 -> 0.0011759811
A9: A105 | B9: Legislative Reference Library | C9: 1311911 | D9: 1381287.9 | E9: 1496557 | F9: =IF(C9>0,(+C9+(D9*2)+(E9*3))/6,IF(D9>0,((D9*2)+(E9*3))/5,E9)) -> 1427359.6 | G9: =+F9/$F$264 -> 0.00011811767
A10: A116 | B10: Sunset Advisory Commission | C10: 2080070.6 | D10: 2044603.2 | E10: 2800557.9 | F10: =IF(C10>0,(+C10+(D10*2)+(E10*3))/6,IF(D10>0,((D10*2)+(E10*3))/5,E10)) -> 2428491.8 | G10: =+F10/$F$264 -> 0.00020096392
A11: A201 | B11: Supreme Court of Texas | C11: 7747179 | D11: 8240720 | E11: 7023424 | F11: =IF(C11>0,(+C11+(D11*2)+(E11*3))/6,IF(D11>0,((D11*2)+(E11*3))/5,E11)) -> 7549815.2 | G11: =+F11/$F$264 -> 0.00062476658
A12: A203 | B12: Law Examiners, Board of | C12: 1874267 | D12: 1554604.8 | E12: 2156319 | F12: =IF(C12>0,(+C12+(D12*2)+(E12*3))/6,IF(D12>0,((D12*2)+(E12*3))/5,E12)) -> 1908738.9 | G12: =+F12/$F$264 -> 0.00015795304
A13: A211 | B13: Court of Criminal Appeals | C13: 7022312.8 | D13: 6902979 | E13: 7835837 | F13: =IF(C13>0,(+C13+(D13*2)+(E13*3))/6,IF(D13>0,((D13*2)+(E13*3))/5,E13)) -> 7389297 | G13: =+F13/$F$264 -> 0.00061148328
A14: A212 | B14: Court Administration, Office of | C14: 23036847 | D14: 23564983 | E14: 24303797 | F14: =IF(C14>0,(+C14+(D14*2)+(E14*3))/6,IF(D14>0,((D14*2)+(E14*3))/5,E14)) -> 23846367 | G14: =+F14/$F$264 -> 0.0019733481
A15: A213 | B15: Prosecuting Attorney, State | C15: 418146.12 | D15: 446491.22 | E15: 446947 | F15: =IF(C15>0,(+C15+(D15*2)+(E15*3))/6,IF(D15>0,((D15*2)+(E15*3))/5,E15)) -> 441994.93 | G15: =+F15/$F$264 -> 3.6576214e-05
A16: A215 | B16: Office of Capital and Forensic Writs | C16: 1821219 | D16: 1745715.1 | E16: 2562751.6 | F16: =IF(C16>0,(+C16+(D16*2)+(E16*3))/6,IF(D16>0,((D16*2)+(E16*3))/5,E16)) -> 2166817.4 | G16: =+F16/$F$264 -> 0.0001793097
... A34: A243 | B34: Law Library, State | C34: 592835.39 | D34: 661271.08 | E34: 723179.27 | F34: =IF(C34>0,(+C34+(D34*2)+(E34*3))/6,IF(D34>0,((D34*2)+(E34*3))/5,E34)) -> 680819.23 | G34: =+F34/$F$264 -> 5.6339538e-05
A35: A301 | B35: Governor's Office & Office of the Governor, Trustee Program | C35: =12246005.12+8172080 -> 20418085 | D35: =14345868.93+9918148.65 -> 24264018 | E35: =15076593+12469777 -> 27546370 | F35: =IF(C35>0,(+C35+(D35*2)+(E35*3))/6,IF(D35>0,((D35*2)+(E35*3))/5,E35)) -> 25264205 | G35: =+F35/$F$264 -> 0.0020906778
A36: A302 | B36: Attorney General, Office of the | C36: 253316825 | D36: 253316825 | E36: 284942274 | F36: =IF(C36>0,(+C36+(D36*2)+(E36*3))/6,IF(D36>0,((D36*2)+(E36*3))/5,E36)) -> 2.6912955e+08 | G36: =+F36/$F$264 -> 0.022271161
A37: A303 | B37: Texas Facilities Commission | C37: 21389984 | D37: =24419585.19 -> 24419585 | E37: 28230766 | F37: =IF(C37>0,(+C37+(D37*2)+(E37*3))/6,IF(D37>0,((D37*2)+(E37*3))/5,E37)) -> 25820242 | G37: =+F37/$F$264 -> 0.0021366913
A38: A304 | B38: Comptroller of Public Accounts, State | C38: 1.7965424e+08 | D38: 1.9535413e+08 | E38: 2.1920153e+08 | F38: =IF(C38>0,(+C38+(D38*2)+(E38*3))/6,IF(D38>0,((D38*2)+(E38*3))/5,E38)) -> 2.0466118e+08 | G38: =+F38/$F$264 -> 0.016936238
A39: A305 | B39: General Land Office | C39: 61292534 | D39: 65667867 | E39: 73486233 | F39: =IF(C39>0,(+C39+(D39*2)+(E39*3))/6,IF(D39>0,((D39*2)+(E39*3))/5,E39)) -> 68847828 | G39: =+F39/$F$264 -> 0.0056973344
A40: A306 | B40: Library and Archives Commission | C40: 9511162 | D40: 8310399 | E40: 9212359 | F40: =IF(C40>0,(+C40+(D40*2)+(E40*3))/6,IF(D40>0,((D40*2)+(E40*3))/5,E40)) -> 8961506.2 | G40: =+F40/$F$264 -> 0.00074158763
A41: A307 | B41: Secretary of State | C41: 11639268 | D41: 12541156 | E41: 16781974 | F41: =IF(C41>0,(+C41+(D41*2)+(E41*3))/6,IF(D41>0,((D41*2)+(E41*3))/5,E41)) -> 14511250 | G41: =+F41/$F$264 -> 0.0012008432
A42: A308 | B42: State Auditor's Office | C42: 15954716 | D42: 16638244 | E42: 17442981 | F42: =IF(C42>0,(+C42+(D42*2)+(E42*3))/6,IF(D42>0,((D42*2)+(E42*3))/5,E42)) -> 16926691 | G42: =+F42/$F$264 -> 0.0014007271
A43: A312 | B43: Securities Board | C43: 6206888 | D43: 6357031 | E43: 6846580 | F43: =IF(C43>0,(+C43+(D43*2)+(E43*3))/6,IF(D43>0,((D43*2)+(E43*3))/5,E43)) -> 6576781.6 | G43: =+F43/$F$264 -> 0.00054424556
A44: A313 | B44: Information Resources, Dept. of | C44: 19477000 | D44: 21945251 | E44: 24648459 | F44: =IF(C44>0,(+C44+(D44*2)+(E44*3))/6,IF(D44>0,((D44*2)+(E44*3))/5,E44)) -> 22885480 | G44: =+F44/$F$264 -> 0.0018938322
A45: A320 | B45: Texas Workforce Commission | C45: 233875100 | D45: 242020827 | E45: 276963600 | F45: =IF(C45>0,(+C45+(D45*2)+(E45*3))/6,IF(D45>0,((D45*2)+(E45*3))/5,E45)) -> 2.5813459e+08 | G45: =+F45/$F$264 -> 0.0213613
A46: A326 | B46: Texas Emergency Services Retirement System | C46: 526706.33 | D46: 450800 | E46: 571733 | F46: =IF(C46>0,(+C46+(D46*2)+(E46*3))/6,IF(D46>0,((D46*2)+(E46*3))/5,E46)) -> 523917.55 | G46: =+F46/$F$264 -> 4.3355522e-05
A47: A329 | B47: Real Estate Commission | C47: 9238696.8 | D47: 11074732 | E47: 12307041 | F47: =IF(C47>0,(+C47+(D47*2)+(E47*3))/6,IF(D47>0,((D47*2)+(E47*3))/5,E47)) -> 11384881 | G47: =+F47/$F$264 -> 0.00094212809
A48: A332 | B48: Housing and Community Affairs, Dept. of | C48: 24632655 | D48: 30216494 | E48: 30771660 | F48: =IF(C48>0,(+C48+(D48*2)+(E48*3))/6,IF(D48>0,((D48*2)+(E48*3))/5,E48)) -> 29563437 | G48: =+F48/$F$264 -> 0.0024464503
A49: A338 | B49: Pension Review Board, State | C49: 847352.63 | D49: 1050064.4 | E49: 1081002 | F49: =IF(C49>0,(+C49+(D49*2)+(E49*3))/6,IF(D49>0,((D49*2)+(E49*3))/5,E49)) -> 1031747.9 | G49: =+F49/$F$264 -> 8.5379785e-05
... A64: A451 | B64: Banking, State Department of | C64: 18505077 | D64: 19550942 | E64: 20988270 | F64: =IF(C64>0,(+C64+(D64*2)+(E64*3))/6,IF(D64>0,((D64*2)+(E64*3))/5,E64)) -> 20095295 | G64: =+F64/$F$264 -> 0.0016629372
A65: A452 | B65: Licensing and Regulation, Dept. of | C65: =32216573.02+22135263.85 -> 54351837 | D65: =31824317.26+22716593.19 -> 54540910 | E65: =24614450.59+34131047.05 -> 58745498 | F65: =IF(C65>0,(+C65+(D65*2)+(E65*3))/6,IF(D65>0,((D65*2)+(E65*3))/5,E65)) -> 56611692 | G65: =+F65/$F$264 -> 0.0046847628
A66: A454 | B66: Insurance, Department of | C66: 80694165 | D66: 84994364 | E66: 89165641 | F66: =IF(C66>0,(+C66+(D66*2)+(E66*3))/6,IF(D66>0,((D66*2)+(E66*3))/5,E66)) -> 86363303 | G66: =+F66/$F$264 -> 0.0071467849
A67: A455 | B67: Railroad Commission | C67: 61300524 | D67: 70710013 | E67: 78451334 | F67: =IF(C67>0,(+C67+(D67*2)+(E67*3))/6,IF(D67>0,((D67*2)+(E67*3))/5,E67)) -> 73012425 | G67: =+F67/$F$264 -> 0.0060419655
A68: A456 | B68: Plumbing Examiners, State Board of | C68: 1825834 | D68: 2047721 | E68: 2205042 | F68: =IF(C68>0,(+C68+(D68*2)+(E68*3))/6,IF(D68>0,((D68*2)+(E68*3))/5,E68)) -> 2089400.3 | G68: =+F68/$F$264 -> 0.00017290324
A69: A457 | B69: Public Accountancy, State Board of | C69: 2963792.7 | D69: 3137655.2 | E69: 3244610.7 | F69: =IF(C69>0,(+C69+(D69*2)+(E69*3))/6,IF(D69>0,((D69*2)+(E69*3))/5,E69)) -> 3162155.9 | G69: =+F69/$F$264 -> 0.00026167651
A70: A458 | B70: Alcoholic Beverage Commission | C70: 37393995 | D70: 36721657 | E70: 39577547 | F70: =IF(C70>0,(+C70+(D70*2)+(E70*3))/6,IF(D70>0,((D70*2)+(E70*3))/5,E70)) -> 38261658 | G70: =+F70/$F$264 -> 0.0031662504
A71: A459 | B71: Architectural Examiners, Board of | C71: 1711501 | D71: 1822197 | E71: 1881802 | F71: =IF(C71>0,(+C71+(D71*2)+(E71*3))/6,IF(D71>0,((D71*2)+(E71*3))/5,E71)) -> 1833550.1 | G71: =+F71/$F$264 -> 0.00015173098
A72: A460 | B72: Professional Engineers and Land Surveyors, Texas Board of | C72: 2660673.7 | D72: 2675787.7 | E72: 2788385.9 | F72: =IF(C72>0,(+C72+(D72*2)+(E72*3))/6,IF(D72>0,((D72*2)+(E72*3))/5,E72)) -> 2729567.8 | G72: =+F72/$F$264 -> 0.00022587874
A73: A466 | B73: Consumer Credit Commissioner, Office of | C73: 4555837 | D73: 4883480.9 | E73: 5043061.1 | F73: =IF(C73>0,(+C73+(D73*2)+(E73*3))/6,IF(D73>0,((D73*2)+(E73*3))/5,E73)) -> 4908663.7 | G73: =+F73/$F$264 -> 0.00040620451
...

Sheet IFR
T1: FTE | AD1: raw
A2: Agency | C2: 2022 | G2: 2022 Avg. | H2: 2023 | L2: 2023 Avg. | M2: 2024 | Q2: 2024 Avg. | R2: weighted | T2: Assessment | V2: FY2022 | W2: FY2023 | X2: FY2024 | Z2: FY2022 | AA2: FY2023 | AB2: FY2024 | AD2: weighted
A3: Code | B3: Name | C3: 1 | D3: 2 | E3: 3 | F3: 4 | G3: FTE | H3: 1 | I3: 2 | J3: 3 | K3: 4 | L3: FTE | M3: 1 | N3: 2 | O3: 3 | P3: 4 | Q3: FTE | R3: FTE avg. | T3: Percentage | V3: claims | W3: claims | X3: claims | Z3: IFR | AA3: IFR | AB3: IFR | AD3: IFR avg.
A5: A101 | B5: Texas Senate | C5: 474.3 | D5: 451.7 | E5: 440.5 | F5: 444.5 | G5: =AVERAGE(C5:F5) -> 452.75 | H5: 439.1 | I5: 507.4 | J5: 561.1 | K5: 525.8 | L5: =AVERAGE(H5:K5) -> 508.35 | M5: 500.6 | N5: 493.2 | O5: 478.9 | P5: 492.6 | Q5: =AVERAGE(M5:P5) -> 491.325 | R5: =IF(G5>0,(+G5+(L5*2)+(Q5*3))/6,IF(L5>0,((L5*2)+(Q5*3))/5,Q5)) -> 490.57083 | T5: =+R5/$R$264 -> 0.0027010775 | V5: =claims!D5 -> 0 | W5: =claims!E5 -> 0 | X5: =claims!F5 -> 0 | Z5: =IF(G5>100,IF(V5<1,0,+V5/G5),IF(V5<1,0,+V5/100)) -> 0 | AA5: =IF(L5>100,IF(W5<1,0,+W5/L5),IF(W5<1,0,+W5/100)) -> 0 | AB5: =IF(Q5>100,IF(X5<1,0,+X5/Q5),IF(X5<1,0,+X5/100)) -> 0 | AD5: =(+Z5+(AA5*2)+(AB5*3))/6 -> 0
A6: A102 | B6: Texas House of Representatives | C6: 715.6 | D6: 686.2 | E6: 663.8 | F6: 676.8 | G6: =AVERAGE(C6:F6) -> 685.6 | H6: 715.8 | I6: 686.6 | J6: 664.1 | K6: 676.8 | L6: =AVERAGE(H6:K6) -> 685.825 | M6: 764.5 | N6: 754.7 | O6: 744.1 | P6: 761.4 | Q6: =AVERAGE(M6:P6) -> 756.175 | R6: =IF(G6>0,(+G6+(L6*2)+(Q6*3))/6,IF(L6>0,((L6*2)+(Q6*3))/5,Q6)) -> 720.9625 | T6: =+R6/$R$264 -> 0.0039696114 | V6: =claims!D6 -> 1 | W6: =claims!E6 -> 1 | X6: =claims!F6 -> 1 | Z6: =IF(G6>100,IF(V6<1,0,+V6/G6),IF(V6<1,0,+V6/100)) -> 0.0014585764 | AA6: =IF(L6>100,IF(W6<1,0,+W6/L6),IF(W6<1,0,+W6/100)) -> 0.0014580979 | AB6: =IF(Q6>100,IF(X6<1,0,+X6/Q6),IF(X6<1,0,+X6/100)) -> 0.0013224452 | AD6: =(+Z6+(AA6*2)+(AB6*3))/6 -> 0.0013903513
A7: A103 | B7: Legislative Council | C7: 359 | D7: 362 | E7: 363 | F7: 364 | G7: =AVERAGE(C7:F7) -> 362 | H7: 379 | I7: 403 | J7: 402 | K7: 378 | L7: =AVERAGE(H7:K7) -> 390.5 | M7: 370 | N7: 371 | O7: 373 | P7: 380.3 | Q7: =AVERAGE(M7:P7) -> 373.575 | R7: =IF(G7>0,(+G7+(L7*2)+(Q7*3))/6,IF(L7>0,((L7*2)+(Q7*3))/5,Q7)) -> 377.2875 | T7: =+R7/$R$264 -> 0.0020773407 | V7: =claims!D7 -> 0 | W7: =claims!E7 -> 0 | X7: =claims!F7 -> 0 | Z7: =IF(G7>100,IF(V7<1,0,+V7/G7),IF(V7<1,0,+V7/100)) -> 0 | AA7: =IF(L7>100,IF(W7<1,0,+W7/L7),IF(W7<1,0,+W7/100)) -> 0 | AB7: =IF(Q7>100,IF(X7<1,0,+X7/Q7),IF(X7<1,0,+X7/100)) -> 0 | AD7: =(+Z7+(AA7*2)+(AB7*3))/6 -> 0
A8: A104 | B8: Legislative Budget Board | C8: 109 | D8: 110 | E8: 120 | F8: 127 | G8: =AVERAGE(C8:F8) -> 116.5 | H8: 127 | I8: 124 | J8: 128 | K8: 128 | L8: =AVERAGE(H8:K8) -> 126.75 | M8: 129 | N8: 129 | O8: 129 | P8: 132 | Q8: =AVERAGE(M8:P8) -> 129.75 | R8: =IF(G8>0,(+G8+(L8*2)+(Q8*3))/6,IF(L8>0,((L8*2)+(Q8*3))/5,Q8)) -> 126.54167 | T8: =+R8/$R$264 -> 0.00069673699 | V8: =claims!D8 -> 0 | W8: =claims!E8 -> 0 | X8: =claims!F8 -> 0 | Z8: =IF(G8>100,IF(V8<1,0,+V8/G8),IF(V8<1,0,+V8/100)) -> 0 | AA8: =IF(L8>100,IF(W8<1,0,+W8/L8),IF(W8<1,0,+W8/100)) -> 0 | AB8: =IF(Q8>100,IF(X8<1,0,+X8/Q8),IF(X8<1,0,+X8/100)) -> 0 | AD8: =(+Z8+(AA8*2)+(AB8*3))/6 -> 0
A9: A105 | B9: Legislative Reference Library | C9: 22.4 | D9: 23.2 | E9: 22.3 | F9: 22.3 | G9: =AVERAGE(C9:F9) -> 22.55 | H9: 21 | I9: 22.5 | J9: 24.2 | K9: 23.6 | L9: =AVERAGE(H9:K9) -> 22.825 | M9: 23.2 | N9: 22.4 | O9: 22.9 | P9: 24 | Q9: =AVERAGE(M9:P9) -> 23.125 | R9: =IF(G9>0,(+G9+(L9*2)+(Q9*3))/6,IF(L9>0,((L9*2)+(Q9*3))/5,Q9)) -> 22.929167 | T9: =+R9/$R$264 -> 0.00012624773 | V9: =claims!D9 -> 0 | W9: =claims!E9 -> 0 | X9: =claims!F9 -> 0 | Z9: =IF(G9>100,IF(V9<1,0,+V9/G9),IF(V9<1,0,+V9/100)) -> 0 | AA9: =IF(L9>100,IF(W9<1,0,+W9/L9),IF(W9<1,0,+W9/100)) -> 0 | AB9: =IF(Q9>100,IF(X9<1,0,+X9/Q9),IF(X9<1,0,+X9/100)) -> 0 | AD9: =(+Z9+(AA9*2)+(AB9*3))/6 -> 0
A10: A116 | B10: Sunset Advisory Commission | C10: 28.2 | D10: 25 | E10: 24.7 | F10: 25.7 | G10: =AVERAGE(C10:F10) -> 25.9 | H10: 24 | I10: 24 | J10: 23 | K10: 24.5 | L10: =AVERAGE(H10:K10) -> 23.875 | M10: 30.3 | N10: 30.8 | O10: 32 | P10: 32.4 | Q10: =AVERAGE(M10:P10) -> 31.375 | R10: =IF(G10>0,(+G10+(L10*2)+(Q10*3))/6,IF(L10>0,((L10*2)+(Q10*3))/5,Q10)) -> 27.9625 | T10: =+R10/$R$264 -> 0.00015396121 | V10: =claims!D10 -> 0 | W10: =claims!E10 -> 0 | X10: =claims!F10 -> 0 | Z10: =IF(G10>100,IF(V10<1,0,+V10/G10),IF(V10<1,0,+V10/100)) -> 0 | AA10: =IF(L10>100,IF(W10<1,0,+W10/L10),IF(W10<1,0,+W10/100)) -> 0 | AB10: =IF(Q10>100,IF(X10<1,0,+X10/Q10),IF(X10<1,0,+X10/100)) -> 0 | AD10: =(+Z10+(AA10*2)+(AB10*3))/6 -> 0
A11: A201 | B11: Supreme Court of Texas | C11: 80.8 | D11: 82.3 | E11: 83.3 | F11: 80.6 | G11: =AVERAGE(C11:F11) -> 81.75 | H11: 81.2 | I11: 82.1 | J11: 80.9 | K11: 79.9 | L11: =AVERAGE(H11:K11) -> 81.025 | M11: 81.5 | N11: 82 | O11: 82 | P11: 79.3 | Q11: =AVERAGE(M11:P11) -> 81.2 | R11: =IF(G11>0,(+G11+(L11*2)+(Q11*3))/6,IF(L11>0,((L11*2)+(Q11*3))/5,Q11)) -> 81.233333 | T11: =+R11/$R$264 -> 0.00044726982 | V11: =claims!D11 -> 0 | W11: =claims!E11 -> 1 | X11: =claims!F11 -> 0 | Z11: =IF(G11>100,IF(V11<1,0,+V11/G11),IF(V11<1,0,+V11/100)) -> 0 | AA11: =IF(L11>100,IF(W11<1,0,+W11/L11),IF(W11<1,0,+W11/100)) -> 0.01 | AB11: =IF(Q11>100,IF(X11<1,0,+X11/Q11),IF(X11<1,0,+X11/100)) -> 0 | AD11: =(+Z11+(AA11*2)+(AB11*3))/6 -> 0.0033333333
A12: A203 | B12: Law Examiners, Board of | C12: 20 | D12: 19 | E12: 23 | F12: 27 | G12: =AVERAGE(C12:F12) -> 22.25 | H12: 20 | I12: 19.5 | J12: 20 | K12: 30 | L12: =AVERAGE(H12:K12) -> 22.375 | M12: 20.5 | N12: 20.5 | O12: 24 | P12: 33 | Q12: =AVERAGE(M12:P12) -> 24.5 | R12: =IF(G12>0,(+G12+(L12*2)+(Q12*3))/6,IF(L12>0,((L12*2)+(Q12*3))/5,Q12)) -> 23.416667 | T12: =+R12/$R$264 -> 0.0001289319 | V12: =claims!D12 -> 0 | W12: =claims!E12 -> 0 | X12: =claims!F12 -> 0 | Z12: =IF(G12>100,IF(V12<1,0,+V12/G12),IF(V12<1,0,+V12/100)) -> 0 | AA12: =IF(L12>100,IF(W12<1,0,+W12/L12),IF(W12<1,0,+W12/100)) -> 0 | AB12: =IF(Q12>100,IF(X12<1,0,+X12/Q12),IF(X12<1,0,+X12/100)) -> 0 | AD12: =(+Z12+(AA12*2)+(AB12*3))/6 -> 0
A13: A211 | B13: Court of Criminal Appeals | C13: 65.3 | D13: 64.2 | E13: 67.2 | F13: 62.6 | G13: =AVERAGE(C13:F13) -> 64.825 | H13: 67.2 | I13: 68 | J13: 67.4 | K13: 64.2 | L13: =AVERAGE(H13:K13) -> 66.7 | M13: 66.3 | N13: 68.7 | O13: 68.4 | P13: 62.8 | Q13: =AVERAGE(M13:P13) -> 66.55 | R13: =IF(G13>0,(+G13+(L13*2)+(Q13*3))/6,IF(L13>0,((L13*2)+(Q13*3))/5,Q13)) -> 66.3125 | T13: =+R13/$R$264 -> 0.00036511588 | V13: =claims!D13 -> 0 | W13: =claims!E13 -> 0 | X13: =claims!F13 -> 0 | Z13: =IF(G13>100,IF(V13<1,0,+V13/G13),IF(V13<1,0,+V13/100)) -> 0 | AA13: =IF(L13>100,IF(W13<1,0,+W13/L13),IF(W13<1,0,+W13/100)) -> 0 | AB13: =IF(Q13>100,IF(X13<1,0,+X13/Q13),IF(X13<1,0,+X13/100)) -> 0 | AD13: =(+Z13+(AA13*2)+(AB13*3))/6 -> 0
A14: A212 | B14: Court Administration, Office of | C14: 264.2 | D14: 272.2 | E14: 278.2 | F14: 281.2 | G14: =AVERAGE(C14:F14) -> 273.95 | H14: 277.1 | I14: 281.1 | J14: 280.1 | K14: 278.2 | L14: =AVERAGE(H14:K14) -> 279.125 | M14: 279 | N14: 282.6 | O14: 287.1 | P14: 290.2 | Q14: =AVERAGE(M14:P14) -> 284.725 | R14: =IF(G14>0,(+G14+(L14*2)+(Q14*3))/6,IF(L14>0,((L14*2)+(Q14*3))/5,Q14)) -> 281.0625 | T14: =+R14/$R$264 -> 0.001547527 | V14: =claims!D14 -> 0 | W14: =claims!E14 -> 0 | X14: =claims!F14 -> 0 | Z14: =IF(G14>100,IF(V14<1,0,+V14/G14),IF(V14<1,0,+V14/100)) -> 0 | AA14: =IF(L14>100,IF(W14<1,0,+W14/L14),IF(W14<1,0,+W14/100)) -> 0 | AB14: =IF(Q14>100,IF(X14<1,0,+X14/Q14),IF(X14<1,0,+X14/100)) -> 0 | AD14: =(+Z14+(AA14*2)+(AB14*3))/6 -> 0
A15: A213 | B15: Prosecuting Attorney, State | C15: 4 | D15: 4 | E15: 4 | F15: 4 | G15: =AVERAGE(C15:F15) -> 4 | H15: 4 | I15: 4 | J15: 4 | K15: 4 | L15: =AVERAGE(H15:K15) -> 4 | M15: 4 | N15: 4 | O15: 4 | P15: 4 | Q15: =AVERAGE(M15:P15) -> 4 | R15: =IF(G15>0,(+G15+(L15*2)+(Q15*3))/6,IF(L15>0,((L15*2)+(Q15*3))/5,Q15)) -> 4 | T15: =+R15/$R$264 -> 2.2023955e-05 | V15: =claims!D15 -> 0 | W15: =claims!E15 -> 0 | X15: =claims!F15 -> 0 | Z15: =IF(G15>100,IF(V15<1,0,+V15/G15),IF(V15<1,0,+V15/100)) -> 0 | AA15: =IF(L15>100,IF(W15<1,0,+W15/L15),IF(W15<1,0,+W15/100)) -> 0 | AB15: =IF(Q15>100,IF(X15<1,0,+X15/Q15),IF(X15<1,0,+X15/100)) -> 0 | AD15: =(+Z15+(AA15*2)+(AB15*3))/6 -> 0
A16: A215 | B16: Office of Capital and Forensic Writs | C16: 22 | D16: 21.4 | E16: 22.3 | F16: 22.7 | G16: =AVERAGE(C16:F16) -> 22.1 | H16: 21 | I16: 21.4 | J16: 20.6 | K16: 20.4 | L16: =AVERAGE(H16:K16) -> 20.85 | M16: 22.3 | N16: 23.9 | O16: 26.2 | P16: 26 | Q16: =AVERAGE(M16:P16) -> 24.6 | R16: =IF(G16>0,(+G16+(L16*2)+(Q16*3))/6,IF(L16>0,((L16*2)+(Q16*3))/5,Q16)) -> 22.933333 | T16: =+R16/$R$264 -> 0.00012627067 | V16: =claims!D16 -> 0 | W16: =claims!E16 -> 0 | X16: =claims!F16 -> 0 | Z16: =IF(G16>100,IF(V16<1,0,+V16/G16),IF(V16<1,0,+V16/100)) -> 0 | AA16: =IF(L16>100,IF(W16<1,0,+W16/L16),IF(W16<1,0,+W16/100)) -> 0 | AB16: =IF(Q16>100,IF(X16<1,0,+X16/Q16),IF(X16<1,0,+X16/100)) -> 0 | AD16: =(+Z16+(AA16*2)+(AB16*3))/6 -> 0
... A34: A243 | B34: Law Library, State | C34: 10 | D34: 9.1 | E34: 8.5 | F34: 9.3 | G34: =AVERAGE(C34:F34) -> 9.225 | H34: 10 | I34: 10.9 | J34: 11.3 | K34: 10.8 | L34: =AVERAGE(H34:K34) -> 10.75 | M34: 11 | N34: 11.5 | O34: 10.8 | P34: 11 | Q34: =AVERAGE(M34:P34) -> 11.075 | R34: =IF(G34>0,(+G34+(L34*2)+(Q34*3))/6,IF(L34>0,((L34*2)+(Q34*3))/5,Q34)) -> 10.658333 | T34: =+R34/$R$264 -> 5.8684663e-05 | V34: =claims!D34 -> 0 | W34: =claims!E34 -> 0 | X34: =claims!F34 -> 0 | Z34: =IF(G34>100,IF(V34<1,0,+V34/G34),IF(V34<1,0,+V34/100)) -> 0 | AA34: =IF(L34>100,IF(W34<1,0,+W34/L34),IF(W34<1,0,+W34/100)) -> 0 | AB34: =IF(Q34>100,IF(X34<1,0,+X34/Q34),IF(X34<1,0,+X34/100)) -> 0 | AD34: =(+Z34+(AA34*2)+(AB34*3))/6 -> 0
A35: A301 | B35: Governor's Office | C35: =171.8+86.7 -> 258.5 | D35: =167.9+85 -> 252.9 | E35: =171.5+82.8 -> 254.3 | F35: =165.4+89.4 -> 254.8 | G35: =AVERAGE(C35:F35) -> 255.125 | H35: =165.2+86.8 -> 252 | I35: =166.8+100.5 -> 267.3 | J35: =174.6+106.4 -> 281 | K35: =187.8+105.8 -> 293.6 | L35: =AVERAGE(H35:K35) -> 273.475 | M35: =191.2+105.9 -> 297.1 | N35: =190.3+102.9 -> 293.2 | O35: =196.7+102.4 -> 299.1 | P35: =201+102.7 -> 303.7 | Q35: =AVERAGE(M35:P35) -> 298.275 | R35: =IF(G35>0,(+G35+(L35*2)+(Q35*3))/6,IF(L35>0,((L35*2)+(Q35*3))/5,Q35)) -> 282.81667 | T35: =+R35/$R$264 -> 0.0015571854 | V35: =claims!D35 -> 1 | W35: =claims!E35 -> 0 | X35: =claims!F35 -> 0 | Z35: =IF(G35>100,IF(V35<1,0,+V35/G35),IF(V35<1,0,+V35/100)) -> 0.0039196472 | AA35: =IF(L35>100,IF(W35<1,0,+W35/L35),IF(W35<1,0,+W35/100)) -> 0 | AB35: =IF(Q35>100,IF(X35<1,0,+X35/Q35),IF(X35<1,0,+X35/100)) -> 0 | AD35: =(+Z35+(AA35*2)+(AB35*3))/6 -> 0.00065327454
A36: A302 | B36: Attorney General, Office of the | C36: 4043.6 | D36: 4068.5 | E36: 4004 | F36: 3942.7 | G36: =AVERAGE(C36:F36) -> 4014.7 | H36: 3915.3 | I36: 3931.5 | J36: 3938.2 | K36: 4001.1 | L36: =AVERAGE(H36:K36) -> 3946.525 | M36: 4026.8 | N36: 4105.1 | O36: 4165.9 | P36: 4231.8 | Q36: =AVERAGE(M36:P36) -> 4132.4 | R36: =IF(G36>0,(+G36+(L36*2)+(Q36*3))/6,IF(L36>0,((L36*2)+(Q36*3))/5,Q36)) -> 4050.825 | T36: =+R36/$R$264 -> 0.022303797 | V36: =claims!D36 -> 12 | W36: =claims!E36 -> 8 | X36: =claims!F36 -> 16 | Z36: =IF(G36>100,IF(V36<1,0,+V36/G36),IF(V36<1,0,+V36/100)) -> 0.0029890154 | AA36: =IF(L36>100,IF(W36<1,0,+W36/L36),IF(W36<1,0,+W36/100)) -> 0.0020270998 | AB36: =IF(Q36>100,IF(X36<1,0,+X36/Q36),IF(X36<1,0,+X36/100)) -> 0.003871842 | AD36: =(+Z36+(AA36*2)+(AB36*3))/6 -> 0.0031097902
A37: A303 | B37: Texas Facilities Commission | C37: 359.6 | D37: 362.5 | E37: 366.4 | F37: 377.7 | G37: =AVERAGE(C37:F37) -> 366.55 | H37: 390.5 | I37: 390 | J37: 391.7 | K37: 390.2 | L37: =AVERAGE(H37:K37) -> 390.6 | M37: 406.4 | N37: 413 | O37: 416.3 | P37: 435 | Q37: =AVERAGE(M37:P37) -> 417.675 | R37: =IF(G37>0,(+G37+(L37*2)+(Q37*3))/6,IF(L37>0,((L37*2)+(Q37*3))/5,Q37)) -> 400.12917 | T37: =+R37/$R$264 -> 0.0022031067 | V37: =claims!D37 -> 9 | W37: =claims!E37 -> 14 | X37: =claims!F37 -> 5 | Z37: =IF(G37>100,IF(V37<1,0,+V37/G37),IF(V37<1,0,+V37/100)) -> 0.024553267 | AA37: =IF(L37>100,IF(W37<1,0,+W37/L37),IF(W37<1,0,+W37/100)) -> 0.035842294 | AB37: =IF(Q37>100,IF(X37<1,0,+X37/Q37),IF(X37<1,0,+X37/100)) -> 0.01197103 | AD37: =(+Z37+(AA37*2)+(AB37*3))/6 -> 0.022025158
A38: A304 | B38: Comptroller of Public Accounts, State | C38: 2492.6 | D38: 2490.2 | E38: 2476.2 | F38: 2481.8 | G38: =AVERAGE(C38:F38) -> 2485.2 | H38: 2463.7 | I38: 2534.4 | J38: 2580 | K38: 2680.6 | L38: =AVERAGE(H38:K38) -> 2564.675 | M38: 2664.9 | N38: 2702.3 | O38: 2735 | P38: 2799.5 | Q38: =AVERAGE(M38:P38) -> 2725.425 | R38: =IF(G38>0,(+G38+(L38*2)+(Q38*3))/6,IF(L38>0,((L38*2)+(Q38*3))/5,Q38)) -> 2631.8042 | T38: =+R38/$R$264 -> 0.014490684 | V38: =claims!D38 -> 11 | W38: =claims!E38 -> 7 | X38: =claims!F38 -> 6 | Z38: =IF(G38>100,IF(V38<1,0,+V38/G38),IF(V38<1,0,+V38/100)) -> 0.0044262031 | AA38: =IF(L38>100,IF(W38<1,0,+W38/L38),IF(W38<1,0,+W38/100)) -> 0.0027293907 | AB38: =IF(Q38>100,IF(X38<1,0,+X38/Q38),IF(X38<1,0,+X38/100)) -> 0.0022014915 | AD38: =(+Z38+(AA38*2)+(AB38*3))/6 -> 0.0027482432
A39: A305 | B39: General Land Office | C39: 698.1 | D39: 701.2 | E39: 711.7 | F39: 731 | G39: =AVERAGE(C39:F39) -> 710.5 | H39: 736.6 | I39: 739.1 | J39: 733.9 | K39: 750.6 | L39: =AVERAGE(H39:K39) -> 740.05 | M39: 753.1 | N39: 771.3 | O39: 784.5 | P39: 814.2 | Q39: =AVERAGE(M39:P39) -> 780.775 | R39: =IF(G39>0,(+G39+(L39*2)+(Q39*3))/6,IF(L39>0,((L39*2)+(Q39*3))/5,Q39)) -> 755.4875 | T39: =+R39/$R$264 -> 0.0041597056 | V39: =claims!D39 -> 2 | W39: =claims!E39 -> 4 | X39: =claims!F39 -> 6 | Z39: =IF(G39>100,IF(V39<1,0,+V39/G39),IF(V39<1,0,+V39/100)) -> 0.0028149191 | AA39: =IF(L39>100,IF(W39<1,0,+W39/L39),IF(W39<1,0,+W39/100)) -> 0.0054050402 | AB39: =IF(Q39>100,IF(X39<1,0,+X39/Q39),IF(X39<1,0,+X39/100)) -> 0.0076846723 | AD39: =(+Z39+(AA39*2)+(AB39*3))/6 -> 0.0061131694
A40: A306 | B40: Library and Archives Commission | C40: 153.1 | D40: 153.3 | E40: 157 | F40: 151.7 | G40: =AVERAGE(C40:F40) -> 153.775 | H40: 153.1 | I40: 149.6 | J40: 151.5 | K40: 157 | L40: =AVERAGE(H40:K40) -> 152.8 | M40: 153.6 | N40: 155.8 | O40: 156.2 | P40: 163.7 | Q40: =AVERAGE(M40:P40) -> 157.325 | R40: =IF(G40>0,(+G40+(L40*2)+(Q40*3))/6,IF(L40>0,((L40*2)+(Q40*3))/5,Q40)) -> 155.225 | T40: =+R40/$R$264 -> 0.0008546671 | V40: =claims!D40 -> 0 | W40: =claims!E40 -> 1 | X40: =claims!F40 -> 2 | Z40: =IF(G40>100,IF(V40<1,0,+V40/G40),IF(V40<1,0,+V40/100)) -> 0 | AA40: =IF(L40>100,IF(W40<1,0,+W40/L40),IF(W40<1,0,+W40/100)) -> 0.0065445026 | AB40: =IF(Q40>100,IF(X40<1,0,+X40/Q40),IF(X40<1,0,+X40/100)) -> 0.012712538 | AD40: =(+Z40+(AA40*2)+(AB40*3))/6 -> 0.0085377697
A41: A307 | B41: Secretary of State | C41: 168.6 | D41: 176.2 | E41: 190.5 | F41: 190.5 | G41: =AVERAGE(C41:F41) -> 181.45 | H41: 198.1 | I41: 198.5 | J41: 199.3 | K41: 206 | L41: =AVERAGE(H41:K41) -> 200.475 | M41: 206.9 | N41: 217.3 | O41: 239.2 | P41: 257.1 | Q41: =AVERAGE(M41:P41) -> 230.125 | R41: =IF(G41>0,(+G41+(L41*2)+(Q41*3))/6,IF(L41>0,((L41*2)+(Q41*3))/5,Q41)) -> 212.12917 | T41: =+R41/$R$264 -> 0.0011679808 | V41: =claims!D41 -> 1 | W41: =claims!E41 -> 0 | X41: =claims!F41 -> 0 | Z41: =IF(G41>100,IF(V41<1,0,+V41/G41),IF(V41<1,0,+V41/100)) -> 0.0055111601 | AA41: =IF(L41>100,IF(W41<1,0,+W41/L41),IF(W41<1,0,+W41/100)) -> 0 | AB41: =IF(Q41>100,IF(X41<1,0,+X41/Q41),IF(X41<1,0,+X41/100)) -> 0 | AD41: =(+Z41+(AA41*2)+(AB41*3))/6 -> 0.00091852668
A42: A308 | B42: State Auditor's Office | C42: 177 | D42: 181 | E42: 180 | F42: 179 | G42: =AVERAGE(C42:F42) -> 179.25 | H42: 175 | I42: 174 | J42: 174.4 | K42: 176 | L42: =AVERAGE(H42:K42) -> 174.85 | M42: 178.3 | N42: 184.1 | O42: 182.2 | P42: 194.9 | Q42: =AVERAGE(M42:P42) -> 184.875 | R42: =IF(G42>0,(+G42+(L42*2)+(Q42*3))/6,IF(L42>0,((L42*2)+(Q42*3))/5,Q42)) -> 180.59583 | T42: =+R42/$R$264 -> 0.00099435862 | V42: =claims!D42 -> 0 | W42: =claims!E42 -> 1 | X42: =claims!F42 -> 0 | Z42: =IF(G42>100,IF(V42<1,0,+V42/G42),IF(V42<1,0,+V42/100)) -> 0 | AA42: =IF(L42>100,IF(W42<1,0,+W42/L42),IF(W42<1,0,+W42/100)) -> 0.0057191879 | AB42: =IF(Q42>100,IF(X42<1,0,+X42/Q42),IF(X42<1,0,+X42/100)) -> 0 | AD42: =(+Z42+(AA42*2)+(AB42*3))/6 -> 0.001906396
A43: A312 | B43: Securities Board | C43: 81.3 | D43: 80.3 | E43: 78.3 | F43: 77.3 | G43: =AVERAGE(C43:F43) -> 79.3 | H43: 78.3 | I43: 80.3 | J43: 78.3 | K43: 80.3 | L43: =AVERAGE(H43:K43) -> 79.3 | M43: 81.3 | N43: 85.3 | O43: 82.3 | P43: 84.3 | Q43: =AVERAGE(M43:P43) -> 83.3 | R43: =IF(G43>0,(+G43+(L43*2)+(Q43*3))/6,IF(L43>0,((L43*2)+(Q43*3))/5,Q43)) -> 81.3 | T43: =+R43/$R$264 -> 0.00044763688 | V43: =claims!D43 -> 0 | W43: =claims!E43 -> 0 | X43: =claims!F43 -> 0 | Z43: =IF(G43>100,IF(V43<1,0,+V43/G43),IF(V43<1,0,+V43/100)) -> 0 | AA43: =IF(L43>100,IF(W43<1,0,+W43/L43),IF(W43<1,0,+W43/100)) -> 0 | AB43: =IF(Q43>100,IF(X43<1,0,+X43/Q43),IF(X43<1,0,+X43/100)) -> 0 | AD43: =(+Z43+(AA43*2)+(AB43*3))/6 -> 0
A44: A313 | B44: Information Resources, Dept. of | C44: 200.1 | D44: 206.9 | E44: 221.9 | F44: 213.8 | G44: =AVERAGE(C44:F44) -> 210.675 | H44: 213.4 | I44: 212.5 | J44: 220.4 | K44: 225.7 | L44: =AVERAGE(H44:K44) -> 218 | M44: 232.2 | N44: 240.1 | O44: 254 | P44: 250.4 | Q44: =AVERAGE(M44:P44) -> 244.175 | R44: =IF(G44>0,(+G44+(L44*2)+(Q44*3))/6,IF(L44>0,((L44*2)+(Q44*3))/5,Q44)) -> 229.86667 | T44: =+R44/$R$264 -> 0.0012656433 | V44: =claims!D44 -> 0 | W44: =claims!E44 -> 0 | X44: =claims!F44 -> 1 | Z44: =IF(G44>100,IF(V44<1,0,+V44/G44),IF(V44<1,0,+V44/100)) -> 0 | AA44: =IF(L44>100,IF(W44<1,0,+W44/L44),IF(W44<1,0,+W44/100)) -> 0 | AB44: =IF(Q44>100,IF(X44<1,0,+X44/Q44),IF(X44<1,0,+X44/100)) -> 0.0040954234 | AD44: =(+Z44+(AA44*2)+(AB44*3))/6 -> 0.0020477117
A45: A320 | B45: Texas Workforce Commission | C45: 5221 | D45: 4846.6 | E45: 4666.3 | F45: 4703.8 | G45: =AVERAGE(C45:F45) -> 4859.425 | H45: 4674 | I45: 4655.7 | J45: 4761.1 | K45: 4710.5 | L45: =AVERAGE(H45:K45) -> 4700.325 | M45: 4670.5 | N45: 4671.8 | O45: 4675.5 | P45: 4701.2 | Q45: =AVERAGE(M45:P45) -> 4679.75 | R45: =IF(G45>0,(+G45+(L45*2)+(Q45*3))/6,IF(L45>0,((L45*2)+(Q45*3))/5,Q45)) -> 4716.5542 | T45: =+R45/$R$264 -> 0.025969294 | V45: =claims!D45 -> 17 | W45: =claims!E45 -> 25 | X45: =claims!F45 -> 28 | Z45: =IF(G45>100,IF(V45<1,0,+V45/G45),IF(V45<1,0,+V45/100)) -> 0.0034983563 | AA45: =IF(L45>100,IF(W45<1,0,+W45/L45),IF(W45<1,0,+W45/100)) -> 0.0053187811 | AB45: =IF(Q45>100,IF(X45<1,0,+X45/Q45),IF(X45<1,0,+X45/100)) -> 0.0059832256 | AD45: =(+Z45+(AA45*2)+(AB45*3))/6 -> 0.0053475992
A46: A326 | B46: Texas Emergency Services Retirement System | C46: 9 | D46: 9 | E46: 9 | F46: 8 | G46: =AVERAGE(C46:F46) -> 8.75 | H46: 9 | I46: 6 | J46: 7 | K46: 9 | L46: =AVERAGE(H46:K46) -> 7.75 | M46: 9 | N46: 9 | O46: 8 | P46: 8 | Q46: =AVERAGE(M46:P46) -> 8.5 | R46: =IF(G46>0,(+G46+(L46*2)+(Q46*3))/6,IF(L46>0,((L46*2)+(Q46*3))/5,Q46)) -> 8.2916667 | T46: =+R46/$R$264 -> 4.5653823e-05 | V46: =claims!D46 -> 0 | W46: =claims!E46 -> 0 | X46: =claims!F46 -> 0 | Z46: =IF(G46>100,IF(V46<1,0,+V46/G46),IF(V46<1,0,+V46/100)) -> 0 | AA46: =IF(L46>100,IF(W46<1,0,+W46/L46),IF(W46<1,0,+W46/100)) -> 0 | AB46: =IF(Q46>100,IF(X46<1,0,+X46/Q46),IF(X46<1,0,+X46/100)) -> 0 | AD46: =(+Z46+(AA46*2)+(AB46*3))/6 -> 0
A47: A329 | B47: Real Estate Commission | C47: 139 | D47: 138 | E47: 140 | F47: 147 | G47: =AVERAGE(C47:F47) -> 141 | H47: 151 | I47: 159 | J47: 157 | K47: 161 | L47: =AVERAGE(H47:K47) -> 157 | M47: 162 | N47: 163 | O47: 162 | P47: 161 | Q47: =AVERAGE(M47:P47) -> 162 | R47: =IF(G47>0,(+G47+(L47*2)+(Q47*3))/6,IF(L47>0,((L47*2)+(Q47*3))/5,Q47)) -> 156.83333 | T47: =+R47/$R$264 -> 0.00086352256 | V47: =claims!D47 -> 0 | W47: =claims!E47 -> 0 | X47: =claims!F47 -> 0 | Z47: =IF(G47>100,IF(V47<1,0,+V47/G47),IF(V47<1,0,+V47/100)) -> 0 | AA47: =IF(L47>100,IF(W47<1,0,+W47/L47),IF(W47<1,0,+W47/100)) -> 0 | AB47: =IF(Q47>100,IF(X47<1,0,+X47/Q47),IF(X47<1,0,+X47/100)) -> 0 | AD47: =(+Z47+(AA47*2)+(AB47*3))/6 -> 0
... A64: A451 | B64: Banking, State Department of | C64: 165.9 | D64: 163.2 | E64: 173.9 | F64: 164.5 | G64: =AVERAGE(C64:F64) -> 166.875 | H64: 162.4 | I64: 166.4 | J64: 164.8 | K64: 178.1 | L64: =AVERAGE(H64:K64) -> 167.925 | M64: 171.1 | N64: 176.5 | O64: 181.8 | P64: 191.8 | Q64: =AVERAGE(M64:P64) -> 180.3 | R64: =IF(G64>0,(+G64+(L64*2)+(Q64*3))/6,IF(L64>0,((L64*2)+(Q64*3))/5,Q64)) -> 173.9375 | T64: =+R64/$R$264 -> 0.00095769791 | V64: =claims!D64 -> 0 | W64: =claims!E64 -> 0 | X64: =claims!F64 -> 0 | Z64: =IF(G64>100,IF(V64<1,0,+V64/G64),IF(V64<1,0,+V64/100)) -> 0 | AA64: =IF(L64>100,IF(W64<1,0,+W64/L64),IF(W64<1,0,+W64/100)) -> 0 | AB64: =IF(Q64>100,IF(X64<1,0,+X64/Q64),IF(X64<1,0,+X64/100)) -> 0 | AD64: =(+Z64+(AA64*2)+(AB64*3))/6 -> 0
A65: A452 | B65: Licensing and Regulation, Dept. of | C65: =498.6+279.6 -> 778.2 | D65: =499.6+284.6 -> 784.2 | E65: =494.7+286.1 -> 780.8 | F65: =484.6+289.3 -> 773.9 | G65: =AVERAGE(C65:F65) -> 779.275 | H65: =478.2+286 -> 764.2 | I65: =482.2+284.3 -> 766.5 | J65: =484.9+285.7 -> 770.6 | K65: =503.6+286 -> 789.6 | L65: =AVERAGE(H65:K65) -> 772.725 | M65: =507.2+286.7 -> 793.9 | N65: =508.2+295.8 -> 804 | O65: =506.8+297.2 -> 804 | P65: =515+300.6 -> 815.6 | Q65: =AVERAGE(M65:P65) -> 804.375 | R65: =IF(G65>0,(+G65+(L65*2)+(Q65*3))/6,IF(L65>0,((L65*2)+(Q65*3))/5,Q65)) -> 789.64167 | T65: =+R65/$R$264 -> 0.0043477581 | V65: =claims!D65 -> 2 | W65: =claims!E65 -> 7 | X65: =claims!F65 -> 5 | Z65: =IF(G65>100,IF(V65<1,0,+V65/G65),IF(V65<1,0,+V65/100)) -> 0.0025664881 | AA65: =IF(L65>100,IF(W65<1,0,+W65/L65),IF(W65<1,0,+W65/100)) -> 0.0090588502 | AB65: =IF(Q65>100,IF(X65<1,0,+X65/Q65),IF(X65<1,0,+X65/100)) -> 0.0062160062 | AD65: =(+Z65+(AA65*2)+(AB65*3))/6 -> 0.0065553678
A66: A454 | B66: Insurance, Department of | C66: 1229.2 | D66: 1212.3 | E66: 1202.4 | F66: 1194 | G66: =AVERAGE(C66:F66) -> 1209.475 | H66: 1182.9 | I66: 1189.2 | J66: 1214.8 | K66: 1229.6 | L66: =AVERAGE(H66:K66) -> 1204.125 | M66: 1227.4 | N66: 1234.5 | O66: 1226.8 | P66: 1233.2 | Q66: =AVERAGE(M66:P66) -> 1230.475 | R66: =IF(G66>0,(+G66+(L66*2)+(Q66*3))/6,IF(L66>0,((L66*2)+(Q66*3))/5,Q66)) -> 1218.1917 | T66: =+R66/$R$264 -> 0.0067073496 | V66: =claims!D66 -> 5 | W66: =claims!E66 -> 8 | X66: =claims!F66 -> 3 | Z66: =IF(G66>100,IF(V66<1,0,+V66/G66),IF(V66<1,0,+V66/100)) -> 0.0041340251 | AA66: =IF(L66>100,IF(W66<1,0,+W66/L66),IF(W66<1,0,+W66/100)) -> 0.0066438285 | AB66: =IF(Q66>100,IF(X66<1,0,+X66/Q66),IF(X66<1,0,+X66/100)) -> 0.0024380829 | AD66: =(+Z66+(AA66*2)+(AB66*3))/6 -> 0.0041226551
A67: A455 | B67: Railroad Commission | C67: 828.5 | D67: 847.3 | E67: 862.2 | F67: 906.8 | G67: =AVERAGE(C67:F67) -> 861.2 | H67: 938 | I67: 953 | J67: 963.4 | K67: 985.3 | L67: =AVERAGE(H67:K67) -> 959.925 | M67: 993 | N67: 1005.7 | O67: 1013 | P67: 1029.6 | Q67: =AVERAGE(M67:P67) -> 1010.325 | R67: =IF(G67>0,(+G67+(L67*2)+(Q67*3))/6,IF(L67>0,((L67*2)+(Q67*3))/5,Q67)) -> 968.67083 | T67: =+R67/$R$264 -> 0.0053334907 | V67: =claims!D67 -> 3 | W67: =claims!E67 -> 2 | X67: =claims!F67 -> 3 | Z67: =IF(G67>100,IF(V67<1,0,+V67/G67),IF(V67<1,0,+V67/100)) -> 0.0034835114 | AA67: =IF(L67>100,IF(W67<1,0,+W67/L67),IF(W67<1,0,+W67/100)) -> 0.0020834961 | AB67: =IF(Q67>100,IF(X67<1,0,+X67/Q67),IF(X67<1,0,+X67/100)) -> 0.0029693415 | AD67: =(+Z67+(AA67*2)+(AB67*3))/6 -> 0.0027597547
A68: A456 | B68: Plumbing Examiners, State Board of | C68: 33.8 | D68: 32.8 | E68: 34.6 | F68: 35.4 | G68: =AVERAGE(C68:F68) -> 34.15 | H68: 36.4 | I68: 36.4 | J68: 34 | K68: 30.7 | L68: =AVERAGE(H68:K68) -> 34.375 | M68: 36.9 | N68: 36.4 | O68: 38.6 | P68: 39.8 | Q68: =AVERAGE(M68:P68) -> 37.925 | R68: =IF(G68>0,(+G68+(L68*2)+(Q68*3))/6,IF(L68>0,((L68*2)+(Q68*3))/5,Q68)) -> 36.1125 | T68: =+R68/$R$264 -> 0.00019883502 | V68: =claims!D68 -> 0 | W68: =claims!E68 -> 0 | X68: =claims!F68 -> 0 | Z68: =IF(G68>100,IF(V68<1,0,+V68/G68),IF(V68<1,0,+V68/100)) -> 0 | AA68: =IF(L68>100,IF(W68<1,0,+W68/L68),IF(W68<1,0,+W68/100)) -> 0 | AB68: =IF(Q68>100,IF(X68<1,0,+X68/Q68),IF(X68<1,0,+X68/100)) -> 0 | AD68: =(+Z68+(AA68*2)+(AB68*3))/6 -> 0
A69: A457 | B69: Public Accountancy, State Board of | C69: 36.1 | D69: 36.5 | E69: 36.5 | F69: 37.7 | G69: =AVERAGE(C69:F69) -> 36.7 | H69: 38 | I69: 36.3 | J69: 36.2 | K69: 37.4 | L69: =AVERAGE(H69:K69) -> 36.975 | M69: 35.5 | N69: 36.4 | O69: 35.5 | P69: 35.5 | Q69: =AVERAGE(M69:P69) -> 35.725 | R69: =IF(G69>0,(+G69+(L69*2)+(Q69*3))/6,IF(L69>0,((L69*2)+(Q69*3))/5,Q69)) -> 36.304167 | T69: =+R69/$R$264 -> 0.00019989033 | V69: =claims!D69 -> 0 | W69: =claims!E69 -> 1 | X69: =claims!F69 -> 0 | Z69: =IF(G69>100,IF(V69<1,0,+V69/G69),IF(V69<1,0,+V69/100)) -> 0 | AA69: =IF(L69>100,IF(W69<1,0,+W69/L69),IF(W69<1,0,+W69/100)) -> 0.01 | AB69: =IF(Q69>100,IF(X69<1,0,+X69/Q69),IF(X69<1,0,+X69/100)) -> 0 | AD69: =(+Z69+(AA69*2)+(AB69*3))/6 -> 0.0033333333
A70: A458 | B70: Alcoholic Beverage Commission | C70: 548.9 | D70: 530.2 | E70: 524 | F70: 533.4 | G70: =AVERAGE(C70:F70) -> 534.125 | H70: 528.2 | I70: 517.9 | J70: 512.6 | K70: 534.7 | L70: =AVERAGE(H70:K70) -> 523.35 | M70: 529.8 | N70: 532.6 | O70: 528.9 | P70: 535.3 | Q70: =AVERAGE(M70:P70) -> 531.65 | R70: =IF(G70>0,(+G70+(L70*2)+(Q70*3))/6,IF(L70>0,((L70*2)+(Q70*3))/5,Q70)) -> 529.29583 | T70: =+R70/$R$264 -> 0.0029142969 | V70: =claims!D70 -> 12 | W70: =claims!E70 -> 12 | X70: =claims!F70 -> 13 | Z70: =IF(G70>100,IF(V70<1,0,+V70/G70),IF(V70<1,0,+V70/100)) -> 0.022466651 | AA70: =IF(L70>100,IF(W70<1,0,+W70/L70),IF(W70<1,0,+W70/100)) -> 0.022929206 | AB70: =IF(Q70>100,IF(X70<1,0,+X70/Q70),IF(X70<1,0,+X70/100)) -> 0.024452177 | AD70: =(+Z70+(AA70*2)+(AB70*3))/6 -> 0.023613599
A71: A459 | B71: Architectural Examiners, Board of | C71: 20 | D71: 19 | E71: 19 | F71: 20 | G71: =AVERAGE(C71:F71) -> 19.5 | H71: 20 | I71: 20 | J71: 20 | K71: 20 | L71: =AVERAGE(H71:K71) -> 20 | M71: 20 | N71: 20 | O71: 18 | P71: 19 | Q71: =AVERAGE(M71:P71) -> 19.25 | R71: =IF(G71>0,(+G71+(L71*2)+(Q71*3))/6,IF(L71>0,((L71*2)+(Q71*3))/5,Q71)) -> 19.541667 | T71: =+R71/$R$264 -> 0.0001075962 | V71: =claims!D71 -> 0 | W71: =claims!E71 -> 0 | X71: =claims!F71 -> 0 | Z71: =IF(G71>100,IF(V71<1,0,+V71/G71),IF(V71<1,0,+V71/100)) -> 0 | AA71: =IF(L71>100,IF(W71<1,0,+W71/L71),IF(W71<1,0,+W71/100)) -> 0 | AB71: =IF(Q71>100,IF(X71<1,0,+X71/Q71),IF(X71<1,0,+X71/100)) -> 0 | AD71: =(+Z71+(AA71*2)+(AB71*3))/6 -> 0
A72: A460 | B72: Professional Engineers and Land Surveyors, Texas Board of | C72: 33 | D72: 34 | E72: 35 | F72: 37 | G72: =AVERAGE(C72:F72) -> 34.75 | H72: 36 | I72: 36 | J72: 34 | K72: 34 | L72: =AVERAGE(H72:K72) -> 35 | M72: 31 | N72: 33 | O72: 34 | P72: 35 | Q72: =AVERAGE(M72:P72) -> 33.25 | R72: =IF(G72>0,(+G72+(L72*2)+(Q72*3))/6,IF(L72>0,((L72*2)+(Q72*3))/5,Q72)) -> 34.083333 | T72: =+R72/$R$264 -> 0.00018766245 | V72: =claims!D72 -> 0 | W72: =claims!E72 -> 0 | X72: =claims!F72 -> 0 | Z72: =IF(G72>100,IF(V72<1,0,+V72/G72),IF(V72<1,0,+V72/100)) -> 0 | AA72: =IF(L72>100,IF(W72<1,0,+W72/L72),IF(W72<1,0,+W72/100)) -> 0 | AB72: =IF(Q72>100,IF(X72<1,0,+X72/Q72),IF(X72<1,0,+X72/100)) -> 0 | AD72: =(+Z72+(AA72*2)+(AB72*3))/6 -> 0
A73: A466 | B73: Consumer Credit Commissioner, Office of | C73: 70 | D73: 69.1 | E73: 65 | F73: 63.6 | G73: =AVERAGE(C73:F73) -> 66.925 | H73: 69.5 | I73: 71.1 | J73: 70 | K73: 71 | L73: =AVERAGE(H73:K73) -> 70.4 | M73: 69 | N73: 68.2 | O73: 66 | P73: 67.3 | Q73: =AVERAGE(M73:P73) -> 67.625 | R73: =IF(G73>0,(+G73+(L73*2)+(Q73*3))/6,IF(L73>0,((L73*2)+(Q73*3))/5,Q73)) -> 68.433333 | T73: =+R73/$R$264 -> 0.00037679316 | V73: =claims!D73 -> 0 | W73: =claims!E73 -> 0 | X73: =claims!F73 -> 0 | Z73: =IF(G73>100,IF(V73<1,0,+V73/G73),IF(V73<1,0,+V73/100)) -> 0 | AA73: =IF(L73>100,IF(W73<1,0,+W73/L73),IF(W73<1,0,+W73/100)) -> 0 | AB73: =IF(Q73>100,IF(X73<1,0,+X73/Q73),IF(X73<1,0,+X73/100)) -> 0 | AD73: =(+Z73+(AA73*2)+(AB73*3))/6 -> 0
A74: A469 | B74: Credit Union Department | C74: 29 | D74: 29 | E74: 30 | F74: 30 | G74: =AVERAGE(C74:F74) -> 29.5 | H74: 31 | I74: 31 | J74: 32 | K74: 33 | L74: =AVERAGE(H74:K74) -> 31.75 | M74: 32 | N74: 34 | O74: 33 | P74: 34 | Q74: =AVERAGE(M74:P74) -> 33.25 | R74: =IF(G74>0,(+G74+(L74*2)+(Q74*3))/6,IF(L74>0,((L74*2)+(Q74*3))/5,Q74)) -> 32.125 | T74: =+R74/$R$264 -> 0.00017687989 | V74: =claims!D74 -> 0 | W74: =claims!E74 -> 0 | X74: =claims!F74 -> 0 | Z74: =IF(G74>100,IF(V74<1,0,+V74/G74),IF(V74<1,0,+V74/100)) -> 0 | AA74: =IF(L74>100,IF(W74<1,0,+W74/L74),IF(W74<1,0,+W74/100)) -> 0 | AB74: =IF(Q74>100,IF(X74<1,0,+X74/Q74),IF(X74<1,0,+X74/100)) -> 0 | AD74: =(+Z74+(AA74*2)+(AB74*3))/6 -> 0
...

Sheet claims
I1: raw | L1: modified | P1: adjusted | T1: IFR portion of | X1: With
A2: Agency | D2: FY2022 | E2: FY2023 | F2: FY2024 | I2: average | J2: weighted | K2: IFR | L2: average | M2: cap | P2: average | R2: Assessment | T2: Assessment | V2: % of | X2: 0.02
A3: Code | B3: Name | D3: claims | E3: claims | F3: claims | G3: total | I3: claims | J3: IFR avg. | K3: modifier | L3: claims | M3: adjuster | P3: claims | R3: Percentage | T3: Amount | V3: Payroll | X3: Limit | Z3: Difference
A5: A101 | B5: Texas Senate | D5: 0 | E5: 0 | F5: 0 | G5: =SUM(D5:F5) -> 0 | I5: =AVERAGE(D5:F5) -> 0 | J5: =IFR!AD5 -> 0 | K5: =IF(+J5<$E$267,$I$267,IF(J5>$E$269,$I$269,$I$268)) -> 0.95 | L5: =+I5*K5 -> 0 | M5: 1 | N5: 1 | P5: =+L5*M5*N5 -> 0 | R5: =+P5/$P$264 -> 0 | T5: =+R5*([1]assessment!$J$272*[1]assessment!$E$3) -> 0 | V5: =+T5/[1]payroll!$F5 -> 0 | X5: =IF(V5<$X$2,T5,[1]payroll!$F5*$X$2) -> 0 | Z5: =+T5-X5 -> 0 | AB5: =+X5/T5 -> #DIV/0!
A6: A102 | B6: Texas House of Representatives | D6: 1 | E6: 1 | F6: 1 | G6: =SUM(D6:F6) -> 3 | I6: =AVERAGE(D6:F6) -> 1 | J6: =IFR!AD6 -> 0.0013903513 | K6: =IF(+J6<$E$267,$I$267,IF(J6>$E$269,$I$269,$I$268)) -> 0.95 | L6: =+I6*K6 -> 0.95 | M6: 1 | N6: 1 | P6: =+L6*M6*N6 -> 0.95 | R6: =+P6/$P$264 -> 0.00017176125 | T6: =+R6*([1]assessment!$J$272*[1]assessment!$E$3) -> 1546.5569 | V6: =+T6/[1]payroll!$F6 -> 3.8729642e-05 | X6: =IF(V6<$X$2,T6,[1]payroll!$F6*$X$2) -> 1546.5569 | Z6: =+T6-X6 -> 0 | AB6: =+X6/T6 -> 1
A7: A103 | B7: Legislative Council | D7: 0 | E7: 0 | F7: 0 | G7: =SUM(D7:F7) -> 0 | I7: =AVERAGE(D7:F7) -> 0 | J7: =IFR!AD7 -> 0 | K7: =IF(+J7<$E$267,$I$267,IF(J7>$E$269,$I$269,$I$268)) -> 0.95 | L7: =+I7*K7 -> 0 | M7: 1 | N7: 1 | P7: =+L7*M7*N7 -> 0 | R7: =+P7/$P$264 -> 0 | T7: =+R7*([1]assessment!$J$272*[1]assessment!$E$3) -> 0 | V7: =+T7/[1]payroll!$F7 -> 0 | X7: =IF(V7<$X$2,T7,[1]payroll!$F7*$X$2) -> 0 | Z7: =+T7-X7 -> 0 | AB7: =+X7/T7 -> #DIV/0!
A8: A104 | B8: Legislative Budget Board | D8: 0 | E8: 0 | F8: 0 | G8: =SUM(D8:F8) -> 0 | I8: =AVERAGE(D8:F8) -> 0 | J8: =IFR!AD8 -> 0 | K8: =IF(+J8<$E$267,$I$267,IF(J8>$E$269,$I$269,$I$268)) -> 0.95 | L8: =+I8*K8 -> 0 | M8: 1 | N8: 1 | P8: =+L8*M8*N8 -> 0 | R8: =+P8/$P$264 -> 0 | T8: =+R8*([1]assessment!$J$272*[1]assessment!$E$3) -> 0 | V8: =+T8/[1]payroll!$F8 -> 0 | X8: =IF(V8<$X$2,T8,[1]payroll!$F8*$X$2) -> 0 | Z8: =+T8-X8 -> 0 | AB8: =+X8/T8 -> #DIV/0!
A9: A105 | B9: Legislative Reference Library | D9: 0 | E9: 0 | F9: 0 | G9: =SUM(D9:F9) -> 0 | I9: =AVERAGE(D9:F9) -> 0 | J9: =IFR!AD9 -> 0 | K9: =IF(+J9<$E$267,$I$267,IF(J9>$E$269,$I$269,$I$268)) -> 0.95 | L9: =+I9*K9 -> 0 | M9: 1 | N9: 1 | P9: =+L9*M9*N9 -> 0 | R9: =+P9/$P$264 -> 0 | T9: =+R9*([1]assessment!$J$272*[1]assessment!$E$3) -> 0 | V9: =+T9/[1]payroll!$F9 -> 0 | X9: =IF(V9<$X$2,T9,[1]payroll!$F9*$X$2) -> 0 | Z9: =+T9-X9 -> 0 | AB9: =+X9/T9 -> #DIV/0!
A10: A116 | B10: Sunset Advisory Commission | D10: 0 | E10: 0 | F10: 0 | G10: =SUM(D10:F10) -> 0 | I10: =AVERAGE(D10:F10) -> 0 | J10: =IFR!AD10 -> 0 | K10: =IF(+J10<$E$267,$I$267,IF(J10>$E$269,$I$269,$I$268)) -> 0.95 | L10: =+I10*K10 -> 0 | M10: 1 | N10: 1 | P10: =+L10*M10*N10 -> 0 | R10: =+P10/$P$264 -> 0 | T10: =+R10*([1]assessment!$J$272*[1]assessment!$E$3) -> 0 | V10: =+T10/[1]payroll!$F10 -> 0 | X10: =IF(V10<$X$2,T10,[1]payroll!$F10*$X$2) -> 0 | Z10: =+T10-X10 -> 0 | AB10: =+X10/T10 -> #DIV/0!
A11: A201 | B11: Supreme Court of Texas | D11: 0 | E11: 1 | F11: 0 | G11: =SUM(D11:F11) -> 1 | I11: =AVERAGE(D11:F11) -> 0.33333333 | J11: =IFR!AD11 -> 0.0033333333 | K11: =IF(+J11<$E$267,$I$267,IF(J11>$E$269,$I$269,$I$268)) -> 0.95 | L11: =+I11*K11 -> 0.31666667 | M11: 1 | N11: 1 | P11: =+L11*M11*N11 -> 0.31666667 | R11: =+P11/$P$264 -> 5.7253749e-05 | T11: =+R11*([1]assessment!$J$272*[1]assessment!$E$3) -> 515.51898 | V11: =+T11/[1]payroll!$F11 -> 6.8282331e-05 | X11: =IF(V11<$X$2,T11,[1]payroll!$F11*$X$2) -> 515.51898 | Z11: =+T11-X11 -> 0 | AB11: =+X11/T11 -> 1
A12: A203 | B12: Law Examiners, Board of | D12: 0 | E12: 0 | F12: 0 | G12: =SUM(D12:F12) -> 0 | I12: =AVERAGE(D12:F12) -> 0 | J12: =IFR!AD12 -> 0 | K12: =IF(+J12<$E$267,$I$267,IF(J12>$E$269,$I$269,$I$268)) -> 0.95 | L12: =+I12*K12 -> 0 | M12: 1 | N12: 1 | P12: =+L12*M12*N12 -> 0 | R12: =+P12/$P$264 -> 0 | T12: =+R12*([1]assessment!$J$272*[1]assessment!$E$3) -> 0 | V12: =+T12/[1]payroll!$F12 -> 0 | X12: =IF(V12<$X$2,T12,[1]payroll!$F12*$X$2) -> 0 | Z12: =+T12-X12 -> 0 | AB12: =+X12/T12 -> #DIV/0!
A13: A211 | B13: Court of Criminal Appeals | D13: 0 | E13: 0 | F13: 0 | G13: =SUM(D13:F13) -> 0 | I13: =AVERAGE(D13:F13) -> 0 | J13: =IFR!AD13 -> 0 | K13: =IF(+J13<$E$267,$I$267,IF(J13>$E$269,$I$269,$I$268)) -> 0.95 | L13: =+I13*K13 -> 0 | M13: 1 | N13: 1 | P13: =+L13*M13*N13 -> 0 | R13: =+P13/$P$264 -> 0 | T13: =+R13*([1]assessment!$J$272*[1]assessment!$E$3) -> 0 | V13: =+T13/[1]payroll!$F13 -> 0 | X13: =IF(V13<$X$2,T13,[1]payroll!$F13*$X$2) -> 0 | Z13: =+T13-X13 -> 0 | AB13: =+X13/T13 -> #DIV/0!
A14: A212 | B14: Court Administration, Office of | D14: 0 | E14: 0 | F14: 0 | G14: =SUM(D14:F14) -> 0 | I14: =AVERAGE(D14:F14) -> 0 | J14: =IFR!AD14 -> 0 | K14: =IF(+J14<$E$267,$I$267,IF(J14>$E$269,$I$269,$I$268)) -> 0.95 | L14: =+I14*K14 -> 0 | M14: 1 | N14: 1 | P14: =+L14*M14*N14 -> 0 | R14: =+P14/$P$264 -> 0 | T14: =+R14*([1]assessment!$J$272*[1]assessment!$E$3) -> 0 | V14: =+T14/[1]payroll!$F14 -> 0 | X14: =IF(V14<$X$2,T14,[1]payroll!$F14*$X$2) -> 0 | Z14: =+T14-X14 -> 0 | AB14: =+X14/T14 -> #DIV/0!
A15: A213 | B15: Prosecuting Attorney, State | D15: 0 | E15: 0 | F15: 0 | G15: =SUM(D15:F15) -> 0 | I15: =AVERAGE(D15:F15) -> 0 | J15: =IFR!AD15 -> 0 | K15: =IF(+J15<$E$267,$I$267,IF(J15>$E$269,$I$269,$I$268)) -> 0.95 | L15: =+I15*K15 -> 0 | M15: 1 | N15: 1 | P15: =+L15*M15*N15 -> 0 | R15: =+P15/$P$264 -> 0 | T15: =+R15*([1]assessment!$J$272*[1]assessment!$E$3) -> 0 | V15: =+T15/[1]payroll!$F15 -> 0 | X15: =IF(V15<$X$2,T15,[1]payroll!$F15*$X$2) -> 0 | Z15: =+T15-X15 -> 0 | AB15: =+X15/T15 -> #DIV/0!
A16: A215 | B16: Office of Capital and Forensic Writs | D16: 0 | E16: 0 | F16: 0 | G16: =SUM(D16:F16) -> 0 | I16: =AVERAGE(D16:F16) -> 0 | J16: =IFR!AD16 -> 0 | K16: =IF(+J16<$E$267,$I$267,IF(J16>$E$269,$I$269,$I$268)) -> 0.95 | L16: =+I16*K16 -> 0 | M16: 1 | N16: 1 | P16: =+L16*M16*N16 -> 0 | R16: =+P16/$P$264 -> 0 | T16: =+R16*([1]assessment!$J$272*[1]assessment!$E$3) -> 0 | V16: =+T16/[1]payroll!$F16 -> 0 | X16: =IF(V16<$X$2,T16,[1]payroll!$F16*$X$2) -> 0 | Z16: =+T16-X16 -> 0 | AB16: =+X16/T16 -> #DIV/0!
... A30: A234 | B30: Court of Civil Appeals - Fourteenth District | D30: 0 | E30: 0 | F30: 0 | G30: =SUM(D30:F30) -> 0 | I30: =AVERAGE(D30:F30) -> 0 | J30: =IFR!AD30 -> 0 | K30: =IF(+J30<$E$267,$I$267,IF(J30>$E$269,$I$269,$I$268)) -> 0.95 | L30: =+I30*K30 -> 0 | M30: 1 | N30: 1 | P30: =+L30*M30*N30 -> 0 | R30: =+P30/$P$264 -> 0 | T30: =+R30*([1]assessment!$J$272*[1]assessment!$E$3) -> 0 | V30: =+T30/[1]payroll!$F30 -> 0 | X30: =IF(V30<$X$2,T30,[1]payroll!$F30*$X$2) -> 0 | Z30: =+T30-X30 -> 0 | AB30: =+X30/T30 -> #DIV/0!
A31: A235 | B31: Court of Civil Appeals - Fifteenth District | D31: 0 | E31: 0 | F31: 0 | G31: =SUM(D31:F31) -> 0 | I31: =AVERAGE(D31:F31) -> 0 | J31: =IFR!AD31 -> 0 | K31: =IF(+J31<$E$267,$I$267,IF(J31>$E$269,$I$269,$I$268)) -> 0.95 | L31: =+I31*K31 -> 0 | M31: 1 | P31: =+L31*M31*N31 -> 0 | R31: =+P31/$P$264 -> 0 | T31: =+R31*([1]assessment!$J$272*[1]assessment!$E$3) -> 0 | V31: =+T31/[1]payroll!$F31 -> 0 | X31: =IF(V31<$X$2,T31,[1]payroll!$F31*$X$2) -> 0 | Z31: =+T31-X31 -> 0
A32: A241 | B32: District Courts (Comptroller's Jud. Section) | D32: 1 | E32: 0 | F32: 0 | G32: =SUM(D32:F32) -> 1 | I32: =AVERAGE(D32:F32) -> 0.33333333 | J32: =IFR!AD32 -> 0.00025821778 | K32: =IF(+J32<$E$267,$I$267,IF(J32>$E$269,$I$269,$I$268)) -> 0.95 | L32: =+I32*K32 -> 0.31666667 | M32: 1 | N32: 1 | P32: =+L32*M32*N32 -> 0.31666667 | R32: =+P32/$P$264 -> 5.7253749e-05 | T32: =+R32*([1]assessment!$J$272*[1]assessment!$E$3) -> 515.51898 | V32: =+T32/[1]payroll!$F32 -> 4.8417303e-06 | X32: =IF(V32<$X$2,T32,[1]payroll!$F32*$X$2) -> 515.51898 | Z32: =+T32-X32 -> 0 | AB32: =+X32/T32 -> 1
A33: A242 | B33: Judicial Conduct, State Commission on | D33: 0 | E33: 0 | F33: 0 | G33: =SUM(D33:F33) -> 0 | I33: =AVERAGE(D33:F33) -> 0 | J33: =IFR!AD33 -> 0 | K33: =IF(+J33<$E$267,$I$267,IF(J33>$E$269,$I$269,$I$268)) -> 0.95 | L33: =+I33*K33 -> 0 | M33: 1 | N33: 1 | P33: =+L33*M33*N33 -> 0 | R33: =+P33/$P$264 -> 0 | T33: =+R33*([1]assessment!$J$272*[1]assessment!$E$3) -> 0 | V33: =+T33/[1]payroll!$F33 -> 0 | X33: =IF(V33<$X$2,T33,[1]payroll!$F33*$X$2) -> 0 | Z33: =+T33-X33 -> 0 | AB33: =+X33/T33 -> #DIV/0!
A34: A243 | B34: Law Library, State | D34: 0 | E34: 0 | F34: 0 | G34: =SUM(D34:F34) -> 0 | I34: =AVERAGE(D34:F34) -> 0 | J34: =IFR!AD34 -> 0 | K34: =IF(+J34<$E$267,$I$267,IF(J34>$E$269,$I$269,$I$268)) -> 0.95 | L34: =+I34*K34 -> 0 | M34: 1 | N34: 1 | P34: =+L34*M34*N34 -> 0 | R34: =+P34/$P$264 -> 0 | T34: =+R34*([1]assessment!$J$272*[1]assessment!$E$3) -> 0 | V34: =+T34/[1]payroll!$F34 -> 0 | X34: =IF(V34<$X$2,T34,[1]payroll!$F34*$X$2) -> 0 | Z34: =+T34-X34 -> 0 | AB34: =+X34/T34 -> #DIV/0!
A35: A301 | B35: Governor's Office | D35: 1 | E35: 0 | F35: 0 | G35: =SUM(D35:F35) -> 1 | I35: =AVERAGE(D35:F35) -> 0.33333333 | J35: =IFR!AD35 -> 0.00065327454 | K35: =IF(+J35<$E$267,$I$267,IF(J35>$E$269,$I$269,$I$268)) -> 0.95 | L35: =+I35*K35 -> 0.31666667 | M35: 1 | N35: 1 | P35: =+L35*M35*N35 -> 0.31666667 | R35: =+P35/$P$264 -> 5.7253749e-05 | T35: =+R35*([1]assessment!$J$272*[1]assessment!$E$3) -> 515.51898 | V35: =+T35/[1]payroll!$F35 -> 2.0405114e-05 | X35: =IF(V35<$X$2,T35,[1]payroll!$F35*$X$2) -> 515.51898 | Z35: =+T35-X35 -> 0 | AB35: =+X35/T35 -> 1
